Workbook

Sheet 공립 총괄표
B2: 2023년 공립 작은도서관 평가 결과 (총괄표)
B3: * 점수 자동 계산(작성 불필요)
B4: 순번 | C4: 지자체명 (시·군) | D4: 작은도서관명 | E4: 등록일 | F4: 유형 | G4: 등급 | H4: 총점 | I4: 1 | J4: 2 | K4: 3 | L4: 4 | M4: 5 | N4: 6 | O4: 7 | P4: 8 | Q4: 9
I5: 운영/관리 | J5: 시설자원 | K5: 서비스 | L5: 활동 | M5: 독서문화 프로그램 우수성 | N5: 이용자 중심의 장서구성 | O5: 작은도서관 홍보 | P5: 지역사회 교류 | Q5: 도정 협력도
G6: A~E | H6: =SUM(I6:Q6) -> 300 | I6: 65 | J6: 20 | K6: 65 | L6: 50 | M6: 30 | N6: 30 | O6: 10 | P6: 20 | Q6: 10
B7: 1 | C7: ='입력표(공립)'!B89 -> 0 | D7: ='입력표(공립)'!C89 -> 0 | E7: ='입력표(공립)'!D89 -> 0 | F7: ='입력표(공립)'!E89 -> 0 | G7: =IF(H7>=251,"A",IF(H7>=201,"B",IF(H7>=151,"C",IF(H7>=101,"D",IF(H7<=100,"E"))))) -> E | H7: =SUM(I7:Q7) -> 0 | I7: =SUM('입력표(공립)'!F89:L89) -> 0 | J7: =SUM('입력표(공립)'!M89:O89) -> 0 | K7: =SUM('입력표(공립)'!P89:V89) -> 0 | L7: =SUM('입력표(공립)'!W89:Z89) -> 0 | M7: =SUM('입력표(공립)'!AA89) -> 0 | N7: =SUM('입력표(공립)'!AB89) -> 0 | O7: =SUM('입력표(공립)'!AC89) -> 0 | P7: =SUM('입력표(공립)'!AD89) -> 0 | Q7: =SUM('입력표(공립)'!AE89) -> 0
B8: 2 | C8: ='입력표(공립)'!B90 -> 0 | D8: ='입력표(공립)'!C90 -> 0 | E8: ='입력표(공립)'!D90 -> 0 | F8: ='입력표(공립)'!G7 -> 0 | G8: =IF(H8>=251,"A",IF(H8>=201,"B",IF(H8>=151,"C",IF(H8>=101,"D",IF(H8<=100,"E"))))) -> E | H8: =SUM(I8:Q8) -> 0 | I8: =SUM('입력표(공립)'!F90:L90) -> 0 | J8: =SUM('입력표(공립)'!M90:O90) -> 0 | K8: =SUM('입력표(공립)'!P90:V90) -> 0 | L8: =SUM('입력표(공립)'!W90:Z90) -> 0 | M8: =SUM('입력표(공립)'!AA90) -> 0 | N8: =SUM('입력표(공립)'!AB90) -> 0 | O8: =SUM('입력표(공립)'!AC90) -> 0 | P8: =SUM('입력표(공립)'!AD90) -> 0 | Q8: =SUM('입력표(공립)'!AE90) -> 0
B9: 3 | C9: ='입력표(공립)'!B91 -> 0 | D9: ='입력표(공립)'!C91 -> 0 | E9: ='입력표(공립)'!D91 -> 0 | F9: ='입력표(공립)'!G8 -> 0 | G9: =IF(H9>=251,"A",IF(H9>=201,"B",IF(H9>=151,"C",IF(H9>=101,"D",IF(H9<=100,"E"))))) -> E | H9: =SUM(I9:Q9) -> 0 | I9: =SUM('입력표(공립)'!F91:L91) -> 0 | J9: =SUM('입력표(공립)'!M91:O91) -> 0 | K9: =SUM('입력표(공립)'!P91:V91) -> 0 | L9: =SUM('입력표(공립)'!W91:Z91) -> 0 | M9: =SUM('입력표(공립)'!AA91) -> 0 | N9: =SUM('입력표(공립)'!AB91) -> 0 | O9: =SUM('입력표(공립)'!AC91) -> 0 | P9: =SUM('입력표(공립)'!AD91) -> 0 | Q9: =SUM('입력표(공립)'!AE91) -> 0
B10: 4 | C10: ='입력표(공립)'!B92 -> 0 | D10: ='입력표(공립)'!C92 -> 0 | E10: ='입력표(공립)'!D92 -> 0 | F10: ='입력표(공립)'!G9 -> 0 | G10: =IF(H10>=251,"A",IF(H10>=201,"B",IF(H10>=151,"C",IF(H10>=101,"D",IF(H10<=100,"E"))))) -> E | H10: =SUM(I10:Q10) -> 0 | I10: =SUM('입력표(공립)'!F92:L92) -> 0 | J10: =SUM('입력표(공립)'!M92:O92) -> 0 | K10: =SUM('입력표(공립)'!P92:V92) -> 0 | L10: =SUM('입력표(공립)'!W92:Z92) -> 0 | M10: =SUM('입력표(공립)'!AA92) -> 0 | N10: =SUM('입력표(공립)'!AB92) -> 0 | O10: =SUM('입력표(공립)'!AC92) -> 0 | P10: =SUM('입력표(공립)'!AD92) -> 0 | Q10: =SUM('입력표(공립)'!AE92) -> 0
B11: 5 | C11: ='입력표(공립)'!B93 -> 0 | D11: ='입력표(공립)'!C93 -> 0 | E11: ='입력표(공립)'!D93 -> 0 | F11: ='입력표(공립)'!G10 -> 0 | G11: =IF(H11>=251,"A",IF(H11>=201,"B",IF(H11>=151,"C",IF(H11>=101,"D",IF(H11<=100,"E"))))) -> E | H11: =SUM(I11:Q11) -> 0 | I11: =SUM('입력표(공립)'!F93:L93) -> 0 | J11: =SUM('입력표(공립)'!M93:O93) -> 0 | K11: =SUM('입력표(공립)'!P93:V93) -> 0 | L11: =SUM('입력표(공립)'!W93:Z93) -> 0 | M11: =SUM('입력표(공립)'!AA93) -> 0 | N11: =SUM('입력표(공립)'!AB93) -> 0 | O11: =SUM('입력표(공립)'!AC93) -> 0 | P11: =SUM('입력표(공립)'!AD93) -> 0 | Q11: =SUM('입력표(공립)'!AE93) -> 0
B12: 6 | C12: ='입력표(공립)'!B94 -> 0 | D12: ='입력표(공립)'!C94 -> 0 | E12: ='입력표(공립)'!D94 -> 0 | F12: ='입력표(공립)'!G11 -> 0 | G12: =IF(H12>=251,"A",IF(H12>=201,"B",IF(H12>=151,"C",IF(H12>=101,"D",IF(H12<=100,"E"))))) -> E | H12: =SUM(I12:Q12) -> 0 | I12: =SUM('입력표(공립)'!F94:L94) -> 0 | J12: =SUM('입력표(공립)'!M94:O94) -> 0 | K12: =SUM('입력표(공립)'!P94:V94) -> 0 | L12: =SUM('입력표(공립)'!W94:Z94) -> 0 | M12: =SUM('입력표(공립)'!AA94) -> 0 | N12: =SUM('입력표(공립)'!AB94) -> 0 | O12: =SUM('입력표(공립)'!AC94) -> 0 | P12: =SUM('입력표(공립)'!AD94) -> 0 | Q12: =SUM('입력표(공립)'!AE94) -> 0
B13: 7 | C13: ='입력표(공립)'!B95 -> 0 | D13: ='입력표(공립)'!C95 -> 0 | E13: ='입력표(공립)'!D95 -> 0 | F13: ='입력표(공립)'!G12 -> 0 | G13: =IF(H13>=251,"A",IF(H13>=201,"B",IF(H13>=151,"C",IF(H13>=101,"D",IF(H13<=100,"E"))))) -> E | H13: =SUM(I13:Q13) -> 0 | I13: =SUM('입력표(공립)'!F95:L95) -> 0 | J13: =SUM('입력표(공립)'!M95:O95) -> 0 | K13: =SUM('입력표(공립)'!P95:V95) -> 0 | L13: =SUM('입력표(공립)'!W95:Z95) -> 0 | M13: =SUM('입력표(공립)'!AA95) -> 0 | N13: =SUM('입력표(공립)'!AB95) -> 0 | O13: =SUM('입력표(공립)'!AC95) -> 0 | P13: =SUM('입력표(공립)'!AD95) -> 0 | Q13: =SUM('입력표(공립)'!AE95) -> 0
B14: 8 | C14: ='입력표(공립)'!B96 -> 0 | D14: ='입력표(공립)'!C96 -> 0 | E14: ='입력표(공립)'!D96 -> 0 | F14: ='입력표(공립)'!G13 -> 0 | G14: =IF(H14>=251,"A",IF(H14>=201,"B",IF(H14>=151,"C",IF(H14>=101,"D",IF(H14<=100,"E"))))) -> E | H14: =SUM(I14:Q14) -> 0 | I14: =SUM('입력표(공립)'!F96:L96) -> 0 | J14: =SUM('입력표(공립)'!M96:O96) -> 0 | K14: =SUM('입력표(공립)'!P96:V96) -> 0 | L14: =SUM('입력표(공립)'!W96:Z96) -> 0 | M14: =SUM('입력표(공립)'!AA96) -> 0 | N14: =SUM('입력표(공립)'!AB96) -> 0 | O14: =SUM('입력표(공립)'!AC96) -> 0 | P14: =SUM('입력표(공립)'!AD96) -> 0 | Q14: =SUM('입력표(공립)'!AE96) -> 0
B15: 9 | C15: ='입력표(공립)'!B97 -> 0 | D15: ='입력표(공립)'!C97 -> 0 | E15: ='입력표(공립)'!D97 -> 0 | F15: ='입력표(공립)'!G14 -> 0 | G15: =IF(H15>=251,"A",IF(H15>=201,"B",IF(H15>=151,"C",IF(H15>=101,"D",IF(H15<=100,"E"))))) -> E | H15: =SUM(I15:Q15) -> 0 | I15: =SUM('입력표(공립)'!F97:L97) -> 0 | J15: =SUM('입력표(공립)'!M97:O97) -> 0 | K15: =SUM('입력표(공립)'!P97:V97) -> 0 | L15: =SUM('입력표(공립)'!W97:Z97) -> 0 | M15: =SUM('입력표(공립)'!AA97) -> 0 | N15: =SUM('입력표(공립)'!AB97) -> 0 | O15: =SUM('입력표(공립)'!AC97) -> 0 | P15: =SUM('입력표(공립)'!AD97) -> 0 | Q15: =SUM('입력표(공립)'!AE97) -> 0
B16: 10 | C16: ='입력표(공립)'!B98 -> 0 | D16: ='입력표(공립)'!C98 -> 0 | E16: ='입력표(공립)'!D98 -> 0 | F16: ='입력표(공립)'!G15 -> 0 | G16: =IF(H16>=251,"A",IF(H16>=201,"B",IF(H16>=151,"C",IF(H16>=101,"D",IF(H16<=100,"E"))))) -> E | H16: =SUM(I16:Q16) -> 0 | I16: =SUM('입력표(공립)'!F98:L98) -> 0 | J16: =SUM('입력표(공립)'!M98:O98) -> 0 | K16: =SUM('입력표(공립)'!P98:V98) -> 0 | L16: =SUM('입력표(공립)'!W98:Z98) -> 0 | M16: =SUM('입력표(공립)'!AA98) -> 0 | N16: =SUM('입력표(공립)'!AB98) -> 0 | O16: =SUM('입력표(공립)'!AC98) -> 0 | P16: =SUM('입력표(공립)'!AD98) -> 0 | Q16: =SUM('입력표(공립)'!AE98) -> 0
B17: 11 | C17: ='입력표(공립)'!B99 -> 0 | D17: ='입력표(공립)'!C99 -> 0 | E17: ='입력표(공립)'!D99 -> 0 | F17: ='입력표(공립)'!G16 -> 0 | G17: =IF(H17>=251,"A",IF(H17>=201,"B",IF(H17>=151,"C",IF(H17>=101,"D",IF(H17<=100,"E"))))) -> E | H17: =SUM(I17:Q17) -> 0 | I17: =SUM('입력표(공립)'!F99:L99) -> 0 | J17: =SUM('입력표(공립)'!M99:O99) -> 0 | K17: =SUM('입력표(공립)'!P99:V99) -> 0 | L17: =SUM('입력표(공립)'!W99:Z99) -> 0 | M17: =SUM('입력표(공립)'!AA99) -> 0 | N17: =SUM('입력표(공립)'!AB99) -> 0 | O17: =SUM('입력표(공립)'!AC99) -> 0 | P17: =SUM('입력표(공립)'!AD99) -> 0 | Q17: =SUM('입력표(공립)'!AE99) -> 0
B18: 12 | C18: ='입력표(공립)'!B100 -> 0 | D18: ='입력표(공립)'!C100 -> 0 | E18: ='입력표(공립)'!D100 -> 0 | F18: ='입력표(공립)'!G17 -> 0 | G18: =IF(H18>=251,"A",IF(H18>=201,"B",IF(H18>=151,"C",IF(H18>=101,"D",IF(H18<=100,"E"))))) -> E | H18: =SUM(I18:Q18) -> 0 | I18: =SUM('입력표(공립)'!F100:L100) -> 0 | J18: =SUM('입력표(공립)'!M100:O100) -> 0 | K18: =SUM('입력표(공립)'!P100:V100) -> 0 | L18: =SUM('입력표(공립)'!W100:Z100) -> 0 | M18: =SUM('입력표(공립)'!AA100) -> 0 | N18: =SUM('입력표(공립)'!AB100) -> 0 | O18: =SUM('입력표(공립)'!AC100) -> 0 | P18: =SUM('입력표(공립)'!AD100) -> 0 | Q18: =SUM('입력표(공립)'!AE100) -> 0
B19: 13 | C19: ='입력표(공립)'!B101 -> 0 | D19: ='입력표(공립)'!C101 -> 0 | E19: ='입력표(공립)'!D101 -> 0 | F19: ='입력표(공립)'!G18 -> 0 | G19: =IF(H19>=251,"A",IF(H19>=201,"B",IF(H19>=151,"C",IF(H19>=101,"D",IF(H19<=100,"E"))))) -> E | H19: =SUM(I19:Q19) -> 0 | I19: =SUM('입력표(공립)'!F101:L101) -> 0 | J19: =SUM('입력표(공립)'!M101:O101) -> 0 | K19: =SUM('입력표(공립)'!P101:V101) -> 0 | L19: =SUM('입력표(공립)'!W101:Z101) -> 0 | M19: =SUM('입력표(공립)'!AA101) -> 0 | N19: =SUM('입력표(공립)'!AB101) -> 0 | O19: =SUM('입력표(공립)'!AC101) -> 0 | P19: =SUM('입력표(공립)'!AD101) -> 0 | Q19: =SUM('입력표(공립)'!AE101) -> 0
... B86: 80 | C86: ='입력표(공립)'!B168 -> 0 | D86: ='입력표(공립)'!C168 -> 0 | E86: ='입력표(공립)'!D168 -> 0 | F86: ='입력표(공립)'!G85 -> 0 | G86: =IF(H86>=251,"A",IF(H86>=201,"B",IF(H86>=151,"C",IF(H86>=101,"D",IF(H86<=100,"E"))))) -> E | H86: =SUM(I86:Q86) -> 0 | I86: =SUM('입력표(공립)'!F168:L168) -> 0 | J86: =SUM('입력표(공립)'!M168:O168) -> 0 | K86: =SUM('입력표(공립)'!P168:V168) -> 0 | L86: =SUM('입력표(공립)'!W168:Z168) -> 0 | M86: =SUM('입력표(공립)'!AA168) -> 0 | N86: =SUM('입력표(공립)'!AB168) -> 0 | O86: =SUM('입력표(공립)'!AC168) -> 0 | P86: =SUM('입력표(공립)'!AD168) -> 0 | Q86: =SUM('입력표(공립)'!AE168) -> 0

Sheet 사립 총괄표 
B2: 2023년 사립 작은도서관 평가 결과 (총괄표)
B3: * 점수 자동 계산(작성 불필요)
B4: 순번 | C4: 지자체명 (시·군) | D4: 작은도서관명 | E4: 등록일 | F4: 유형 | G4: 등급 | H4: 총점 | I4: 1 | J4: 2 | K4: 3 | L4: 4 | M4: 5 | N4: 6 | O4: 7 | P4: 8 | Q4: 9
I5: 운영/관리 | J5: 시설자원 | K5: 서비스 | L5: 활동 | M5: 독서문화프로그램 우수성 | N5: 이용자 중심의 장서구성 | O5: 작은도서관 홍보 | P5: 지역사회 교류 | Q5: 도, 시군정책 협력도
G6: A~E | H6: =SUM(I6:Q6) -> 300 | I6: 80 | J6: 25 | K6: 45 | L6: 50 | M6: 30 | N6: 20 | O6: 10 | P6: 10 | Q6: 30
B7: ='입력표(사립)'!A394 -> 1 | C7: ='입력표(사립)'!B394 -> 0 | D7: ='입력표(사립)'!C394 -> 0 | E7: ='입력표(사립)'!D394 -> 0 | F7: ='입력표(사립)'!E394 -> 0 | G7: =IF(H7>=251,"A",IF(H7>=201,"B",IF(H7>=151,"C",IF(H7>=101,"D",IF(H7<=100,"E"))))) -> E | H7: =SUM(I7:Q7) -> 0 | I7: =SUM('입력표(사립)'!F394:K394) -> 0 | J7: =SUM('입력표(사립)'!L394:O394) -> 0 | K7: =SUM('입력표(사립)'!P394:U394) -> 0 | L7: =SUM('입력표(사립)'!V394:Y394) -> 0 | M7: =SUM('입력표(사립)'!Z394) -> 0 | N7: =SUM('입력표(사립)'!AA394) -> 0 | O7: =SUM('입력표(사립)'!AB394) -> 0 | P7: =SUM('입력표(사립)'!AC394) -> 0 | Q7: =SUM('입력표(사립)'!AD394) -> 0
B8: ='입력표(사립)'!A395 -> 2 | C8: ='입력표(사립)'!B395 -> 0 | D8: ='입력표(사립)'!C395 -> 0 | E8: ='입력표(사립)'!D395 -> 0 | F8: ='입력표(사립)'!E395 -> 0 | G8: =IF(H8>=251,"A",IF(H8>=201,"B",IF(H8>=151,"C",IF(H8>=101,"D",IF(H8<101,"E"))))) -> E | H8: =SUM(I8:Q8) -> 0 | I8: =SUM('입력표(사립)'!F395:K395) -> 0 | J8: =SUM('입력표(사립)'!L395:O395) -> 0 | K8: =SUM('입력표(사립)'!P395:U395) -> 0 | L8: =SUM('입력표(사립)'!V395:Y395) -> 0 | M8: =SUM('입력표(사립)'!Z395) -> 0 | N8: =SUM('입력표(사립)'!AA395) -> 0 | O8: =SUM('입력표(사립)'!AB395) -> 0 | P8: =SUM('입력표(사립)'!AC395) -> 0 | Q8: =SUM('입력표(사립)'!AD395) -> 0
B9: ='입력표(사립)'!A396 -> 3 | C9: ='입력표(사립)'!B396 -> 0 | D9: ='입력표(사립)'!C396 -> 0 | E9: ='입력표(사립)'!D396 -> 0 | F9: ='입력표(사립)'!E396 -> 0 | G9: =IF(H9>=251,"A",IF(H9>=201,"B",IF(H9>=151,"C",IF(H9>=101,"D",IF(H9<101,"E"))))) -> E | H9: =SUM(I9:Q9) -> 0 | I9: =SUM('입력표(사립)'!F396:K396) -> 0 | J9: =SUM('입력표(사립)'!L396:O396) -> 0 | K9: =SUM('입력표(사립)'!P396:U396) -> 0 | L9: =SUM('입력표(사립)'!V396:Y396) -> 0 | M9: =SUM('입력표(사립)'!Z396) -> 0 | N9: =SUM('입력표(사립)'!AA396) -> 0 | O9: =SUM('입력표(사립)'!AB396) -> 0 | P9: =SUM('입력표(사립)'!AC396) -> 0 | Q9: =SUM('입력표(사립)'!AD396) -> 0
B10: ='입력표(사립)'!A397 -> 4 | C10: ='입력표(사립)'!B397 -> 0 | D10: ='입력표(사립)'!C397 -> 0 | E10: ='입력표(사립)'!D397 -> 0 | F10: ='입력표(사립)'!E397 -> 0 | G10: =IF(H10>=251,"A",IF(H10>=201,"B",IF(H10>=151,"C",IF(H10>=101,"D",IF(H10<101,"E"))))) -> E | H10: =SUM(I10:Q10) -> 0 | I10: =SUM('입력표(사립)'!F397:K397) -> 0 | J10: =SUM('입력표(사립)'!L397:O397) -> 0 | K10: =SUM('입력표(사립)'!P397:U397) -> 0 | L10: =SUM('입력표(사립)'!V397:Y397) -> 0 | M10: =SUM('입력표(사립)'!Z397) -> 0 | N10: =SUM('입력표(사립)'!AA397) -> 0 | O10: =SUM('입력표(사립)'!AB397) -> 0 | P10: =SUM('입력표(사립)'!AC397) -> 0 | Q10: =SUM('입력표(사립)'!AD397) -> 0
B11: ='입력표(사립)'!A398 -> 5 | C11: ='입력표(사립)'!B398 -> 0 | D11: ='입력표(사립)'!C398 -> 0 | E11: ='입력표(사립)'!D398 -> 0 | F11: ='입력표(사립)'!E398 -> 0 | G11: =IF(H11>=251,"A",IF(H11>=201,"B",IF(H11>=151,"C",IF(H11>=101,"D",IF(H11<101,"E"))))) -> E | H11: =SUM(I11:Q11) -> 0 | I11: =SUM('입력표(사립)'!F398:K398) -> 0 | J11: =SUM('입력표(사립)'!L398:O398) -> 0 | K11: =SUM('입력표(사립)'!P398:U398) -> 0 | L11: =SUM('입력표(사립)'!V398:Y398) -> 0 | M11: =SUM('입력표(사립)'!Z398) -> 0 | N11: =SUM('입력표(사립)'!AA398) -> 0 | O11: =SUM('입력표(사립)'!AB398) -> 0 | P11: =SUM('입력표(사립)'!AC398) -> 0 | Q11: =SUM('입력표(사립)'!AD398) -> 0
B12: ='입력표(사립)'!A399 -> 6 | C12: ='입력표(사립)'!B399 -> 0 | D12: ='입력표(사립)'!C399 -> 0 | E12: ='입력표(사립)'!D399 -> 0 | F12: ='입력표(사립)'!E399 -> 0 | G12: =IF(H12>=251,"A",IF(H12>=201,"B",IF(H12>=151,"C",IF(H12>=101,"D",IF(H12<101,"E"))))) -> E | H12: =SUM(I12:Q12) -> 0 | I12: =SUM('입력표(사립)'!F399:K399) -> 0 | J12: =SUM('입력표(사립)'!L399:O399) -> 0 | K12: =SUM('입력표(사립)'!P399:U399) -> 0 | L12: =SUM('입력표(사립)'!V399:Y399) -> 0 | M12: =SUM('입력표(사립)'!Z399) -> 0 | N12: =SUM('입력표(사립)'!AA399) -> 0 | O12: =SUM('입력표(사립)'!AB399) -> 0 | P12: =SUM('입력표(사립)'!AC399) -> 0 | Q12: =SUM('입력표(사립)'!AD399) -> 0
B13: ='입력표(사립)'!A400 -> 7 | C13: ='입력표(사립)'!B400 -> 0 | D13: ='입력표(사립)'!C400 -> 0 | E13: ='입력표(사립)'!D400 -> 0 | F13: ='입력표(사립)'!E400 -> 0 | G13: =IF(H13>=251,"A",IF(H13>=201,"B",IF(H13>=151,"C",IF(H13>=101,"D",IF(H13<101,"E"))))) -> E | H13: =SUM(I13:Q13) -> 0 | I13: =SUM('입력표(사립)'!F400:K400) -> 0 | J13: =SUM('입력표(사립)'!L400:O400) -> 0 | K13: =SUM('입력표(사립)'!P400:U400) -> 0 | L13: =SUM('입력표(사립)'!V400:Y400) -> 0 | M13: =SUM('입력표(사립)'!Z400) -> 0 | N13: =SUM('입력표(사립)'!AA400) -> 0 | O13: =SUM('입력표(사립)'!AB400) -> 0 | P13: =SUM('입력표(사립)'!AC400) -> 0 | Q13: =SUM('입력표(사립)'!AD400) -> 0
B14: ='입력표(사립)'!A401 -> 8 | C14: ='입력표(사립)'!B401 -> 0 | D14: ='입력표(사립)'!C401 -> 0 | E14: ='입력표(사립)'!D401 -> 0 | F14: ='입력표(사립)'!E401 -> 0 | G14: =IF(H14>=251,"A",IF(H14>=201,"B",IF(H14>=151,"C",IF(H14>=101,"D",IF(H14<101,"E"))))) -> E | H14: =SUM(I14:Q14) -> 0 | I14: =SUM('입력표(사립)'!F401:K401) -> 0 | J14: =SUM('입력표(사립)'!L401:O401) -> 0 | K14: =SUM('입력표(사립)'!P401:U401) -> 0 | L14: =SUM('입력표(사립)'!V401:Y401) -> 0 | M14: =SUM('입력표(사립)'!Z401) -> 0 | N14: =SUM('입력표(사립)'!AA401) -> 0 | O14: =SUM('입력표(사립)'!AB401) -> 0 | P14: =SUM('입력표(사립)'!AC401) -> 0 | Q14: =SUM('입력표(사립)'!AD401) -> 0
B15: ='입력표(사립)'!A402 -> 9 | C15: ='입력표(사립)'!B402 -> 0 | D15: ='입력표(사립)'!C402 -> 0 | E15: ='입력표(사립)'!D402 -> 0 | F15: ='입력표(사립)'!E402 -> 0 | G15: =IF(H15>=251,"A",IF(H15>=201,"B",IF(H15>=151,"C",IF(H15>=101,"D",IF(H15<101,"E"))))) -> E | H15: =SUM(I15:Q15) -> 0 | I15: =SUM('입력표(사립)'!F402:K402) -> 0 | J15: =SUM('입력표(사립)'!L402:O402) -> 0 | K15: =SUM('입력표(사립)'!P402:U402) -> 0 | L15: =SUM('입력표(사립)'!V402:Y402) -> 0 | M15: =SUM('입력표(사립)'!Z402) -> 0 | N15: =SUM('입력표(사립)'!AA402) -> 0 | O15: =SUM('입력표(사립)'!AB402) -> 0 | P15: =SUM('입력표(사립)'!AC402) -> 0 | Q15: =SUM('입력표(사립)'!AD402) -> 0
B16: ='입력표(사립)'!A403 -> 10 | C16: ='입력표(사립)'!B403 -> 0 | D16: ='입력표(사립)'!C403 -> 0 | E16: ='입력표(사립)'!D403 -> 0 | F16: ='입력표(사립)'!E403 -> 0 | G16: =IF(H16>=251,"A",IF(H16>=201,"B",IF(H16>=151,"C",IF(H16>=101,"D",IF(H16<101,"E"))))) -> E | H16: =SUM(I16:Q16) -> 0 | I16: =SUM('입력표(사립)'!F403:K403) -> 0 | J16: =SUM('입력표(사립)'!L403:O403) -> 0 | K16: =SUM('입력표(사립)'!P403:U403) -> 0 | L16: =SUM('입력표(사립)'!V403:Y403) -> 0 | M16: =SUM('입력표(사립)'!Z403) -> 0 | N16: =SUM('입력표(사립)'!AA403) -> 0 | O16: =SUM('입력표(사립)'!AB403) -> 0 | P16: =SUM('입력표(사립)'!AC403) -> 0 | Q16: =SUM('입력표(사립)'!AD403) -> 0
B17: ='입력표(사립)'!A404 -> 11 | C17: ='입력표(사립)'!B404 -> 0 | D17: ='입력표(사립)'!C404 -> 0 | E17: ='입력표(사립)'!D404 -> 0 | F17: ='입력표(사립)'!E404 -> 0 | G17: =IF(H17>=251,"A",IF(H17>=201,"B",IF(H17>=151,"C",IF(H17>=101,"D",IF(H17<101,"E"))))) -> E | H17: =SUM(I17:Q17) -> 0 | I17: =SUM('입력표(사립)'!F404:K404) -> 0 | J17: =SUM('입력표(사립)'!L404:O404) -> 0 | K17: =SUM('입력표(사립)'!P404:U404) -> 0 | L17: =SUM('입력표(사립)'!V404:Y404) -> 0 | M17: =SUM('입력표(사립)'!Z404) -> 0 | N17: =SUM('입력표(사립)'!AA404) -> 0 | O17: =SUM('입력표(사립)'!AB404) -> 0 | P17: =SUM('입력표(사립)'!AC404) -> 0 | Q17: =SUM('입력표(사립)'!AD404) -> 0
B18: ='입력표(사립)'!A405 -> 12 | C18: ='입력표(사립)'!B405 -> 0 | D18: ='입력표(사립)'!C405 -> 0 | E18: ='입력표(사립)'!D405 -> 0 | F18: ='입력표(사립)'!E405 -> 0 | G18: =IF(H18>=251,"A",IF(H18>=201,"B",IF(H18>=151,"C",IF(H18>=101,"D",IF(H18<101,"E"))))) -> E | H18: =SUM(I18:Q18) -> 0 | I18: =SUM('입력표(사립)'!F405:K405) -> 0 | J18: =SUM('입력표(사립)'!L405:O405) -> 0 | K18: =SUM('입력표(사립)'!P405:U405) -> 0 | L18: =SUM('입력표(사립)'!V405:Y405) -> 0 | M18: =SUM('입력표(사립)'!Z405) -> 0 | N18: =SUM('입력표(사립)'!AA405) -> 0 | O18: =SUM('입력표(사립)'!AB405) -> 0 | P18: =SUM('입력표(사립)'!AC405) -> 0 | Q18: =SUM('입력표(사립)'!AD405) -> 0
B19: ='입력표(사립)'!A406 -> 13 | C19: ='입력표(사립)'!B406 -> 0 | D19: ='입력표(사립)'!C406 -> 0 | E19: ='입력표(사립)'!D406 -> 0 | F19: ='입력표(사립)'!E406 -> 0 | G19: =IF(H19>=251,"A",IF(H19>=201,"B",IF(H19>=151,"C",IF(H19>=101,"D",IF(H19<101,"E"))))) -> E | H19: =SUM(I19:Q19) -> 0 | I19: =SUM('입력표(사립)'!F406:K406) -> 0 | J19: =SUM('입력표(사립)'!L406:O406) -> 0 | K19: =SUM('입력표(사립)'!P406:U406) -> 0 | L19: =SUM('입력표(사립)'!V406:Y406) -> 0 | M19: =SUM('입력표(사립)'!Z406) -> 0 | N19: =SUM('입력표(사립)'!AA406) -> 0 | O19: =SUM('입력표(사립)'!AB406) -> 0 | P19: =SUM('입력표(사립)'!AC406) -> 0 | Q19: =SUM('입력표(사립)'!AD406) -> 0
... B391: ='입력표(사립)'!A778 -> 385 | C391: ='입력표(사립)'!B778 -> 0 | D391: ='입력표(사립)'!C778 -> 0 | E391: ='입력표(사립)'!D778 -> 0 | F391: ='입력표(사립)'!E778 -> 0 | G391: =IF(H391>=251,"A",IF(H391>=201,"B",IF(H391>=151,"C",IF(H391>=101,"D",IF(H391<101,"E"))))) -> E | H391: =SUM(I391:Q391) -> 0 | I391: =SUM('입력표(사립)'!F778:K778) -> 0 | J391: =SUM('입력표(사립)'!L778:O778) -> 0 | K391: =SUM('입력표(사립)'!P778:U778) -> 0 | L391: =SUM('입력표(사립)'!V778:Y778) -> 0 | M391: =SUM('입력표(사립)'!Z778) -> 0 | N391: =SUM('입력표(사립)'!AA778) -> 0 | O391: =SUM('입력표(사립)'!AB778) -> 0 | P391: =SUM('입력표(사립)'!AC778) -> 0 | Q391: =SUM('입력표(사립)'!AD778) -> 0

Sheet 입력표(공립)
A1: 2023년도 공립 작은도서관 평가 결과 입력표 ○ 흰색부분만 입력(점수 자동 계산됨) - (정량) 콤보박스 이용 또는 수치 입력 / (정성) 배점 입력 ○ 입력단위 확인요망 - 금액 입력단위는 반드시 [만원]단위로 입력 (예 : 실제 금액이 160,000원일 경우 16으로 입력)
A3: 작은도서관 현황 | F3: 정량평가 | AA3: 정성평가
A4: 연번 | B4: 시군명 | C4: 작은도서관명 | D4: 등록일 | E4: 운영 주체 ※ 콤보박스 이용 입력 | F4: 1. (공립)연간 운영계획 수립 ※ 콤보박스 이용 입력 | G4: 2.개관일수 (1일 4시간 이상) | H4: 3. 개관시간 | I4: 4. 교육 참가 시간 (근무자 총 누적 교육시간) | J4: 5. 자료구입비 | K4: 6. (공립)전담인력의 전문성 | L4: 7. (공립)이용자 만족도 실시 여부 ※ 콤보박스 이용 입력 | M4: 8. (공립)연속간행물 | N4: 9. (공립)도서관리 및 정보검색 ※ 콤보박스 이용 입력 | O4: 10. 연간 장서 수집량 | P4: 11-1. 연간 대출권수 (읍/동 소재 작은도서관) | Q4: 11-2. 연간 대출권수 (면 소재 작은도서관) | R4: 12-1. 연간 이용자 수 (읍/동 소재 작은도서관) | S4: 12-2. 연간 이용자 수 (면 소재 작은도서관) | T4: 13. (공립)상호대차 서비스 실시 ※ 콤보박스 이용 입력 | U4: 14. 독서문화프로그램 수 ※ 없는 경우 0으로 입력 | V4: 15. 독서문화프로그램 실시 횟수 ※ 없는 경우 0으로 입력 | W4: 16. 독서·문화 동아리 구성 ※ 없는 경우 0으로 입력 | X4: 17. 독서·문화 동아리 활동 횟수 | Y4: 18. 도서관운영위원회 구성 ※ 콤보박스 이용 입력 | Z4: 19. 도서관 운영위원회 활동 횟수 | AA4: 1. 독서문화 프로그램 우수성 | AB4: 2. 이용자 중심의 장서구성 | AC4: 3. 작은도서관 홍보 | AD4: 4. 지역사회 교류 | AE4: 5. 도정 협력도
A5: 평가기준
A6: 1
A7: 2
A8: 3
A9: 4 | AH9: 지자체 | AK9: 관리자+이용자(인터넷 가능)
A10: 5 | AH10: 민간위탁 | AK10: 관리자(도서관리프로그램용)
A11: 6 | AK11: 없음
A12: 7
A13: 8
A14: 9
A15: 10
A16: 11
A17: 12
A18: 13
A19: 14
A20: 15
A21: 16
A22: 17
A23: 18
... A85: 80
A86: 점수환산결과 | AF86: 합계
A89: =A6 -> 1 | B89: =B6 -> 0 | C89: =C6 -> 0 | D89: =D6 -> 0 | E89: =E6 -> 0 | F89: =IF(F6="수립",10,0) -> 0 | G89: =IF(G6>=6,10,IF(G6=5,5,IF(G6<=4,0))) -> 0 | H89: =IF(H6>=48,10,IF(H6>=40,5,IF(H6<40,0))) -> 0 | I89: =IF(I6>=40,10,IF(I6>=25,8,IF(I6>=15,5,IF(I6>=8,3,0)))) -> 0 | J89: =IF(J6>=700,10,IF(J6>=600,8,IF(J6>=500,6,IF(J6>=400,4,IF(J6>=200,2,0))))) -> 0 | K89: =IF(K6>=1,5,0) -> 0 | L89: =IF(L6="실시",10,0) -> 0 | M89: =IF(M6>=8,5,IF(M6>=4,3,IF(M6>=1,1,0))) -> 0 | N89: =IF(N6="관리자+이용자(인터넷 가능)",5,IF(N6="관리자(도서관리프로그램용)",3,0)) -> 0 | O89: =IF(O6>=1000,10,IF(O6>=800,8,IF(O6>=600,6,IF(O6>=300,4,IF(O6>=100,2,0))))) -> 0 | P89: =IF(P6>=15000,15,IF(P6>=12000,12,IF(P6>=8000,9,IF(P6>=5000,6,IF(P6>=2000,3,0))))) -> 0 | Q89: =IF(Q6>=8000,15,IF(Q6>=6000,12,IF(Q6>=4000,9,IF(Q6>=2000,6,IF(Q6>=1000,3,0))))) -> 0 | R89: =IF(R6>=7000,10,IF(R6>=5000,8,IF(R6>=3000,6,IF(R6>=1000,4,IF(R6>=500,2,0))))) -> 0 | S89: =IF(S6>=6000,10,IF(S6>=4500,8,IF(S6>=2500,6,IF(S6>=1000,4,IF(S6>=500,2,0))))) -> 0 | T89: =IF(T6="실시",10,0) -> 0 | U89: =IF(U6>=16,15,IF(U6>=11,12,IF(U6>=6,9,IF(U6>=1,6,0)))) -> 0 | V89: =IF(V6>=60,15,IF(V6>=40,12,IF(V6>=20,9,IF(V6>=1,6,0)))) -> 0 | W89: =IF(W6>=3,10,IF(W6>=2,7,IF(W6>=1,4,0))) -> 0 | X89: =IF(X6>=25,15,IF(X6>=18,12,IF(X6>=12,9,IF(X6>=6,6,IF(X6>=4,3,0))))) -> 0 | Y89: =IF(Y6="구성",15,0) -> 0 | Z89: =IF(Z6>=5,10,IF(Z6>=4,8,IF(Z6>=3,6,IF(Z6>=2,4,IF(Z6>=1,2,0))))) -> 0 | AA89: =AA6 -> 0 | AB89: =AB6 -> 0 | AC89: =AC6 -> 0 | AD89: =AD6 -> 0 | AE89: =AE6 -> 0 | AF89: =SUM(F89:AE89) -> 0
A90: =A7 -> 2 | B90: =B7 -> 0 | C90: =C7 -> 0 | D90: =D7 -> 0 | E90: =E7 -> 0 | F90: =IF(F7="수립",10,0) -> 0 | G90: =IF(G7>=6,10,IF(G7=5,5,IF(G7<=4,0))) -> 0 | H90: =IF(H7>=48,10,IF(H7>=40,5,IF(H7<40,0))) -> 0 | I90: =IF(I7>=40,10,IF(I7>=25,8,IF(I7>=15,5,IF(I7>=8,3,0)))) -> 0 | J90: =IF(J7>=700,10,IF(J7>=600,8,IF(J7>=500,6,IF(J7>=400,4,IF(J7>=200,2,0))))) -> 0 | K90: =IF(K7>=1,5,0) -> 0 | L90: =IF(L7="실시",10,0) -> 0 | M90: =IF(M7>=8,5,IF(M7>=4,3,IF(M7>=1,1,0))) -> 0 | N90: =IF(N7="관리자+이용자(인터넷 가능)",5,IF(N7="관리자(도서관리프로그램용)",3,0)) -> 0 | O90: =IF(O7>=1000,10,IF(O7>=800,8,IF(O7>=600,6,IF(O7>=300,4,IF(O7>=100,2,0))))) -> 0 | P90: =IF(P7>=15000,15,IF(P7>=12000,12,IF(P7>=8000,9,IF(P7>=5000,6,IF(P7>=2000,3,0))))) -> 0 | Q90: =IF(Q7>=8000,15,IF(Q7>=6000,12,IF(Q7>=4000,9,IF(Q7>=2000,6,IF(Q7>=1000,3,0))))) -> 0 | R90: =IF(R7>=7000,10,IF(R7>=5000,8,IF(R7>=3000,6,IF(R7>=1000,4,IF(R7>=500,2,0))))) -> 0 | S90: =IF(S7>=6000,10,IF(S7>=4500,8,IF(S7>=2500,6,IF(S7>=1000,4,IF(S7>=500,2,0))))) -> 0 | T90: =IF(T7="실시",10,0) -> 0 | U90: =IF(U7>=16,15,IF(U7>=11,12,IF(U7>=6,9,IF(U7>=1,6,0)))) -> 0 | V90: =IF(V7>=60,15,IF(V7>=40,12,IF(V7>=20,9,IF(V7>=1,6,0)))) -> 0 | W90: =IF(W7>=3,10,IF(W7>=2,7,IF(W7>=1,4,0))) -> 0 | X90: =IF(X7>=25,15,IF(X7>=18,12,IF(X7>=12,9,IF(X7>=6,6,IF(X7>=4,3,0))))) -> 0 | Y90: =IF(Y7="구성",15,0) -> 0 | Z90: =IF(Z7>=5,10,IF(Z7>=4,8,IF(Z7>=3,6,IF(Z7>=2,4,IF(Z7>=1,2,0))))) -> 0 | AA90: =AA7 -> 0 | AB90: =AB7 -> 0 | AC90: =AC7 -> 0 | AD90: =AD7 -> 0 | AE90: =AE7 -> 0 | AF90: =SUM(F90:AE90) -> 0
A91: =A8 -> 3 | B91: =B8 -> 0 | C91: =C8 -> 0 | D91: =D8 -> 0 | E91: =E8 -> 0 | F91: =IF(F8="수립",10,0) -> 0 | G91: =IF(G8>=6,10,IF(G8=5,5,IF(G8<=4,0))) -> 0 | H91: =IF(H8>=48,10,IF(H8>=40,5,IF(H8<40,0))) -> 0 | I91: =IF(I8>=40,10,IF(I8>=25,8,IF(I8>=15,5,IF(I8>=8,3,0)))) -> 0 | J91: =IF(J8>=700,10,IF(J8>=600,8,IF(J8>=500,6,IF(J8>=400,4,IF(J8>=200,2,0))))) -> 0 | K91: =IF(K8>=1,5,0) -> 0 | L91: =IF(L8="실시",10,0) -> 0 | M91: =IF(M8>=8,5,IF(M8>=4,3,IF(M8>=1,1,0))) -> 0 | N91: =IF(N8="관리자+이용자(인터넷 가능)",5,IF(N8="관리자(도서관리프로그램용)",3,0)) -> 0 | O91: =IF(O8>=1000,10,IF(O8>=800,8,IF(O8>=600,6,IF(O8>=300,4,IF(O8>=100,2,0))))) -> 0 | P91: =IF(P8>=15000,15,IF(P8>=12000,12,IF(P8>=8000,9,IF(P8>=5000,6,IF(P8>=2000,3,0))))) -> 0 | Q91: =IF(Q8>=8000,15,IF(Q8>=6000,12,IF(Q8>=4000,9,IF(Q8>=2000,6,IF(Q8>=1000,3,0))))) -> 0 | R91: =IF(R8>=7000,10,IF(R8>=5000,8,IF(R8>=3000,6,IF(R8>=1000,4,IF(R8>=500,2,0))))) -> 0 | S91: =IF(S8>=6000,10,IF(S8>=4500,8,IF(S8>=2500,6,IF(S8>=1000,4,IF(S8>=500,2,0))))) -> 0 | T91: =IF(T8="실시",10,0) -> 0 | U91: =IF(U8>=16,15,IF(U8>=11,12,IF(U8>=6,9,IF(U8>=1,6,0)))) -> 0 | V91: =IF(V8>=60,15,IF(V8>=40,12,IF(V8>=20,9,IF(V8>=1,6,0)))) -> 0 | W91: =IF(W8>=3,10,IF(W8>=2,7,IF(W8>=1,4,0))) -> 0 | X91: =IF(X8>=25,15,IF(X8>=18,12,IF(X8>=12,9,IF(X8>=6,6,IF(X8>=4,3,0))))) -> 0 | Y91: =IF(Y8="구성",15,0) -> 0 | Z91: =IF(Z8>=5,10,IF(Z8>=4,8,IF(Z8>=3,6,IF(Z8>=2,4,IF(Z8>=1,2,0))))) -> 0 | AA91: =AA8 -> 0 | AB91: =AB8 -> 0 | AC91: =AC8 -> 0 | AD91: =AD8 -> 0 | AE91: =AE8 -> 0 | AF91: =SUM(F91:AE91) -> 0
A92: =A9 -> 4 | B92: =B9 -> 0 | C92: =C9 -> 0 | D92: =D9 -> 0 | E92: =E9 -> 0 | F92: =IF(F9="수립",10,0) -> 0 | G92: =IF(G9>=6,10,IF(G9=5,5,IF(G9<=4,0))) -> 0 | H92: =IF(H9>=48,10,IF(H9>=40,5,IF(H9<40,0))) -> 0 | I92: =IF(I9>=40,10,IF(I9>=25,8,IF(I9>=15,5,IF(I9>=8,3,0)))) -> 0 | J92: =IF(J9>=700,10,IF(J9>=600,8,IF(J9>=500,6,IF(J9>=400,4,IF(J9>=200,2,0))))) -> 0 | K92: =IF(K9>=1,5,0) -> 0 | L92: =IF(L9="실시",10,0) -> 0 | M92: =IF(M9>=8,5,IF(M9>=4,3,IF(M9>=1,1,0))) -> 0 | N92: =IF(N9="관리자+이용자(인터넷 가능)",5,IF(N9="관리자(도서관리프로그램용)",3,0)) -> 0 | O92: =IF(O9>=1000,10,IF(O9>=800,8,IF(O9>=600,6,IF(O9>=300,4,IF(O9>=100,2,0))))) -> 0 | P92: =IF(P9>=15000,15,IF(P9>=12000,12,IF(P9>=8000,9,IF(P9>=5000,6,IF(P9>=2000,3,0))))) -> 0 | Q92: =IF(Q9>=8000,15,IF(Q9>=6000,12,IF(Q9>=4000,9,IF(Q9>=2000,6,IF(Q9>=1000,3,0))))) -> 0 | R92: =IF(R9>=7000,10,IF(R9>=5000,8,IF(R9>=3000,6,IF(R9>=1000,4,IF(R9>=500,2,0))))) -> 0 | S92: =IF(S9>=6000,10,IF(S9>=4500,8,IF(S9>=2500,6,IF(S9>=1000,4,IF(S9>=500,2,0))))) -> 0 | T92: =IF(T9="실시",10,0) -> 0 | U92: =IF(U9>=16,15,IF(U9>=11,12,IF(U9>=6,9,IF(U9>=1,6,0)))) -> 0 | V92: =IF(V9>=60,15,IF(V9>=40,12,IF(V9>=20,9,IF(V9>=1,6,0)))) -> 0 | W92: =IF(W9>=3,10,IF(W9>=2,7,IF(W9>=1,4,0))) -> 0 | X92: =IF(X9>=25,15,IF(X9>=18,12,IF(X9>=12,9,IF(X9>=6,6,IF(X9>=4,3,0))))) -> 0 | Y92: =IF(Y9="구성",15,0) -> 0 | Z92: =IF(Z9>=5,10,IF(Z9>=4,8,IF(Z9>=3,6,IF(Z9>=2,4,IF(Z9>=1,2,0))))) -> 0 | AA92: =AA9 -> 0 | AB92: =AB9 -> 0 | AC92: =AC9 -> 0 | AD92: =AD9 -> 0 | AE92: =AE9 -> 0 | AF92: =SUM(F92:AE92) -> 0
A93: =A10 -> 5 | B93: =B10 -> 0 | C93: =C10 -> 0 | D93: =D10 -> 0 | E93: =E10 -> 0 | F93: =IF(F10="수립",10,0) -> 0 | G93: =IF(G10>=6,10,IF(G10=5,5,IF(G10<=4,0))) -> 0 | H93: =IF(H10>=48,10,IF(H10>=40,5,IF(H10<40,0))) -> 0 | I93: =IF(I10>=40,10,IF(I10>=25,8,IF(I10>=15,5,IF(I10>=8,3,0)))) -> 0 | J93: =IF(J10>=700,10,IF(J10>=600,8,IF(J10>=500,6,IF(J10>=400,4,IF(J10>=200,2,0))))) -> 0 | K93: =IF(K10>=1,5,0) -> 0 | L93: =IF(L10="실시",10,0) -> 0 | M93: =IF(M10>=8,5,IF(M10>=4,3,IF(M10>=1,1,0))) -> 0 | N93: =IF(N10="관리자+이용자(인터넷 가능)",5,IF(N10="관리자(도서관리프로그램용)",3,0)) -> 0 | O93: =IF(O10>=1000,10,IF(O10>=800,8,IF(O10>=600,6,IF(O10>=300,4,IF(O10>=100,2,0))))) -> 0 | P93: =IF(P10>=15000,15,IF(P10>=12000,12,IF(P10>=8000,9,IF(P10>=5000,6,IF(P10>=2000,3,0))))) -> 0 | Q93: =IF(Q10>=8000,15,IF(Q10>=6000,12,IF(Q10>=4000,9,IF(Q10>=2000,6,IF(Q10>=1000,3,0))))) -> 0 | R93: =IF(R10>=7000,10,IF(R10>=5000,8,IF(R10>=3000,6,IF(R10>=1000,4,IF(R10>=500,2,0))))) -> 0 | S93: =IF(S10>=6000,10,IF(S10>=4500,8,IF(S10>=2500,6,IF(S10>=1000,4,IF(S10>=500,2,0))))) -> 0 | T93: =IF(T10="실시",10,0) -> 0 | U93: =IF(U10>=16,15,IF(U10>=11,12,IF(U10>=6,9,IF(U10>=1,6,0)))) -> 0 | V93: =IF(V10>=60,15,IF(V10>=40,12,IF(V10>=20,9,IF(V10>=1,6,0)))) -> 0 | W93: =IF(W10>=3,10,IF(W10>=2,7,IF(W10>=1,4,0))) -> 0 | X93: =IF(X10>=25,15,IF(X10>=18,12,IF(X10>=12,9,IF(X10>=6,6,IF(X10>=4,3,0))))) -> 0 | Y93: =IF(Y10="구성",15,0) -> 0 | Z93: =IF(Z10>=5,10,IF(Z10>=4,8,IF(Z10>=3,6,IF(Z10>=2,4,IF(Z10>=1,2,0))))) -> 0 | AA93: =AA10 -> 0 | AB93: =AB10 -> 0 | AC93: =AC10 -> 0 | AD93: =AD10 -> 0 | AE93: =AE10 -> 0 | AF93: =SUM(F93:AE93) -> 0
A94: =A11 -> 6 | B94: =B11 -> 0 | C94: =C11 -> 0 | D94: =D11 -> 0 | E94: =E11 -> 0 | F94: =IF(F11="수립",10,0) -> 0 | G94: =IF(G11>=6,10,IF(G11=5,5,IF(G11<=4,0))) -> 0 | H94: =IF(H11>=48,10,IF(H11>=40,5,IF(H11<40,0))) -> 0 | I94: =IF(I11>=40,10,IF(I11>=25,8,IF(I11>=15,5,IF(I11>=8,3,0)))) -> 0 | J94: =IF(J11>=700,10,IF(J11>=600,8,IF(J11>=500,6,IF(J11>=400,4,IF(J11>=200,2,0))))) -> 0 | K94: =IF(K11>=1,5,0) -> 0 | L94: =IF(L11="실시",10,0) -> 0 | M94: =IF(M11>=8,5,IF(M11>=4,3,IF(M11>=1,1,0))) -> 0 | N94: =IF(N11="관리자+이용자(인터넷 가능)",5,IF(N11="관리자(도서관리프로그램용)",3,0)) -> 0 | O94: =IF(O11>=1000,10,IF(O11>=800,8,IF(O11>=600,6,IF(O11>=300,4,IF(O11>=100,2,0))))) -> 0 | P94: =IF(P11>=15000,15,IF(P11>=12000,12,IF(P11>=8000,9,IF(P11>=5000,6,IF(P11>=2000,3,0))))) -> 0 | Q94: =IF(Q11>=8000,15,IF(Q11>=6000,12,IF(Q11>=4000,9,IF(Q11>=2000,6,IF(Q11>=1000,3,0))))) -> 0 | R94: =IF(R11>=7000,10,IF(R11>=5000,8,IF(R11>=3000,6,IF(R11>=1000,4,IF(R11>=500,2,0))))) -> 0 | S94: =IF(S11>=6000,10,IF(S11>=4500,8,IF(S11>=2500,6,IF(S11>=1000,4,IF(S11>=500,2,0))))) -> 0 | T94: =IF(T11="실시",10,0) -> 0 | U94: =IF(U11>=16,15,IF(U11>=11,12,IF(U11>=6,9,IF(U11>=1,6,0)))) -> 0 | V94: =IF(V11>=60,15,IF(V11>=40,12,IF(V11>=20,9,IF(V11>=1,6,0)))) -> 0 | W94: =IF(W11>=3,10,IF(W11>=2,7,IF(W11>=1,4,0))) -> 0 | X94: =IF(X11>=25,15,IF(X11>=18,12,IF(X11>=12,9,IF(X11>=6,6,IF(X11>=4,3,0))))) -> 0 | Y94: =IF(Y11="구성",15,0) -> 0 | Z94: =IF(Z11>=5,10,IF(Z11>=4,8,IF(Z11>=3,6,IF(Z11>=2,4,IF(Z11>=1,2,0))))) -> 0 | AA94: =AA11 -> 0 | AB94: =AB11 -> 0 | AC94: =AC11 -> 0 | AD94: =AD11 -> 0 | AE94: =AE11 -> 0 | AF94: =SUM(F94:AE94) -> 0
A95: =A12 -> 7 | B95: =B12 -> 0 | C95: =C12 -> 0 | D95: =D12 -> 0 | E95: =E12 -> 0 | F95: =IF(F12="수립",10,0) -> 0 | G95: =IF(G12>=6,10,IF(G12=5,5,IF(G12<=4,0))) -> 0 | H95: =IF(H12>=48,10,IF(H12>=40,5,IF(H12<40,0))) -> 0 | I95: =IF(I12>=40,10,IF(I12>=25,8,IF(I12>=15,5,IF(I12>=8,3,0)))) -> 0 | J95: =IF(J12>=700,10,IF(J12>=600,8,IF(J12>=500,6,IF(J12>=400,4,IF(J12>=200,2,0))))) -> 0 | K95: =IF(K12>=1,5,0) -> 0 | L95: =IF(L12="실시",10,0) -> 0 | M95: =IF(M12>=8,5,IF(M12>=4,3,IF(M12>=1,1,0))) -> 0 | N95: =IF(N12="관리자+이용자(인터넷 가능)",5,IF(N12="관리자(도서관리프로그램용)",3,0)) -> 0 | O95: =IF(O12>=1000,10,IF(O12>=800,8,IF(O12>=600,6,IF(O12>=300,4,IF(O12>=100,2,0))))) -> 0 | P95: =IF(P12>=15000,15,IF(P12>=12000,12,IF(P12>=8000,9,IF(P12>=5000,6,IF(P12>=2000,3,0))))) -> 0 | Q95: =IF(Q12>=8000,15,IF(Q12>=6000,12,IF(Q12>=4000,9,IF(Q12>=2000,6,IF(Q12>=1000,3,0))))) -> 0 | R95: =IF(R12>=7000,10,IF(R12>=5000,8,IF(R12>=3000,6,IF(R12>=1000,4,IF(R12>=500,2,0))))) -> 0 | S95: =IF(S12>=6000,10,IF(S12>=4500,8,IF(S12>=2500,6,IF(S12>=1000,4,IF(S12>=500,2,0))))) -> 0 | T95: =IF(T12="실시",10,0) -> 0 | U95: =IF(U12>=16,15,IF(U12>=11,12,IF(U12>=6,9,IF(U12>=1,6,0)))) -> 0 | V95: =IF(V12>=60,15,IF(V12>=40,12,IF(V12>=20,9,IF(V12>=1,6,0)))) -> 0 | W95: =IF(W12>=3,10,IF(W12>=2,7,IF(W12>=1,4,0))) -> 0 | X95: =IF(X12>=25,15,IF(X12>=18,12,IF(X12>=12,9,IF(X12>=6,6,IF(X12>=4,3,0))))) -> 0 | Y95: =IF(Y12="구성",15,0) -> 0 | Z95: =IF(Z12>=5,10,IF(Z12>=4,8,IF(Z12>=3,6,IF(Z12>=2,4,IF(Z12>=1,2,0))))) -> 0 | AA95: =AA12 -> 0 | AB95: =AB12 -> 0 | AC95: =AC12 -> 0 | AD95: =AD12 -> 0 | AE95: =AE12 -> 0 | AF95: =SUM(F95:AE95) -> 0
A96: =A13 -> 8 | B96: =B13 -> 0 | C96: =C13 -> 0 | D96: =D13 -> 0 | E96: =E13 -> 0 | F96: =IF(F13="수립",10,0) -> 0 | G96: =IF(G13>=6,10,IF(G13=5,5,IF(G13<=4,0))) -> 0 | H96: =IF(H13>=48,10,IF(H13>=40,5,IF(H13<40,0))) -> 0 | I96: =IF(I13>=40,10,IF(I13>=25,8,IF(I13>=15,5,IF(I13>=8,3,0)))) -> 0 | J96: =IF(J13>=700,10,IF(J13>=600,8,IF(J13>=500,6,IF(J13>=400,4,IF(J13>=200,2,0))))) -> 0 | K96: =IF(K13>=1,5,0) -> 0 | L96: =IF(L13="실시",10,0) -> 0 | M96: =IF(M13>=8,5,IF(M13>=4,3,IF(M13>=1,1,0))) -> 0 | N96: =IF(N13="관리자+이용자(인터넷 가능)",5,IF(N13="관리자(도서관리프로그램용)",3,0)) -> 0 | O96: =IF(O13>=1000,10,IF(O13>=800,8,IF(O13>=600,6,IF(O13>=300,4,IF(O13>=100,2,0))))) -> 0 | P96: =IF(P13>=15000,15,IF(P13>=12000,12,IF(P13>=8000,9,IF(P13>=5000,6,IF(P13>=2000,3,0))))) -> 0 | Q96: =IF(Q13>=8000,15,IF(Q13>=6000,12,IF(Q13>=4000,9,IF(Q13>=2000,6,IF(Q13>=1000,3,0))))) -> 0 | R96: =IF(R13>=7000,10,IF(R13>=5000,8,IF(R13>=3000,6,IF(R13>=1000,4,IF(R13>=500,2,0))))) -> 0 | S96: =IF(S13>=6000,10,IF(S13>=4500,8,IF(S13>=2500,6,IF(S13>=1000,4,IF(S13>=500,2,0))))) -> 0 | T96: =IF(T13="실시",10,0) -> 0 | U96: =IF(U13>=16,15,IF(U13>=11,12,IF(U13>=6,9,IF(U13>=1,6,0)))) -> 0 | V96: =IF(V13>=60,15,IF(V13>=40,12,IF(V13>=20,9,IF(V13>=1,6,0)))) -> 0 | W96: =IF(W13>=3,10,IF(W13>=2,7,IF(W13>=1,4,0))) -> 0 | X96: =IF(X13>=25,15,IF(X13>=18,12,IF(X13>=12,9,IF(X13>=6,6,IF(X13>=4,3,0))))) -> 0 | Y96: =IF(Y13="구성",15,0) -> 0 | Z96: =IF(Z13>=5,10,IF(Z13>=4,8,IF(Z13>=3,6,IF(Z13>=2,4,IF(Z13>=1,2,0))))) -> 0 | AA96: =AA13 -> 0 | AB96: =AB13 -> 0 | AC96: =AC13 -> 0 | AD96: =AD13 -> 0 | AE96: =AE13 -> 0 | AF96: =SUM(F96:AE96) -> 0
A97: =A14 -> 9 | B97: =B14 -> 0 | C97: =C14 -> 0 | D97: =D14 -> 0 | E97: =E14 -> 0 | F97: =IF(F14="수립",10,0) -> 0 | G97: =IF(G14>=6,10,IF(G14=5,5,IF(G14<=4,0))) -> 0 | H97: =IF(H14>=48,10,IF(H14>=40,5,IF(H14<40,0))) -> 0 | I97: =IF(I14>=40,10,IF(I14>=25,8,IF(I14>=15,5,IF(I14>=8,3,0)))) -> 0 | J97: =IF(J14>=700,10,IF(J14>=600,8,IF(J14>=500,6,IF(J14>=400,4,IF(J14>=200,2,0))))) -> 0 | K97: =IF(K14>=1,5,0) -> 0 | L97: =IF(L14="실시",10,0) -> 0 | M97: =IF(M14>=8,5,IF(M14>=4,3,IF(M14>=1,1,0))) -> 0 | N97: =IF(N14="관리자+이용자(인터넷 가능)",5,IF(N14="관리자(도서관리프로그램용)",3,0)) -> 0 | O97: =IF(O14>=1000,10,IF(O14>=800,8,IF(O14>=600,6,IF(O14>=300,4,IF(O14>=100,2,0))))) -> 0 | P97: =IF(P14>=15000,15,IF(P14>=12000,12,IF(P14>=8000,9,IF(P14>=5000,6,IF(P14>=2000,3,0))))) -> 0 | Q97: =IF(Q14>=8000,15,IF(Q14>=6000,12,IF(Q14>=4000,9,IF(Q14>=2000,6,IF(Q14>=1000,3,0))))) -> 0 | R97: =IF(R14>=7000,10,IF(R14>=5000,8,IF(R14>=3000,6,IF(R14>=1000,4,IF(R14>=500,2,0))))) -> 0 | S97: =IF(S14>=6000,10,IF(S14>=4500,8,IF(S14>=2500,6,IF(S14>=1000,4,IF(S14>=500,2,0))))) -> 0 | T97: =IF(T14="실시",10,0) -> 0 | U97: =IF(U14>=16,15,IF(U14>=11,12,IF(U14>=6,9,IF(U14>=1,6,0)))) -> 0 | V97: =IF(V14>=60,15,IF(V14>=40,12,IF(V14>=20,9,IF(V14>=1,6,0)))) -> 0 | W97: =IF(W14>=3,10,IF(W14>=2,7,IF(W14>=1,4,0))) -> 0 | X97: =IF(X14>=25,15,IF(X14>=18,12,IF(X14>=12,9,IF(X14>=6,6,IF(X14>=4,3,0))))) -> 0 | Y97: =IF(Y14="구성",15,0) -> 0 | Z97: =IF(Z14>=5,10,IF(Z14>=4,8,IF(Z14>=3,6,IF(Z14>=2,4,IF(Z14>=1,2,0))))) -> 0 | AA97: =AA14 -> 0 | AB97: =AB14 -> 0 | AC97: =AC14 -> 0 | AD97: =AD14 -> 0 | AE97: =AE14 -> 0 | AF97: =SUM(F97:AE97) -> 0
A98: =A15 -> 10 | B98: =B15 -> 0 | C98: =C15 -> 0 | D98: =D15 -> 0 | E98: =E15 -> 0 | F98: =IF(F15="수립",10,0) -> 0 | G98: =IF(G15>=6,10,IF(G15=5,5,IF(G15<=4,0))) -> 0 | H98: =IF(H15>=48,10,IF(H15>=40,5,IF(H15<40,0))) -> 0 | I98: =IF(I15>=40,10,IF(I15>=25,8,IF(I15>=15,5,IF(I15>=8,3,0)))) -> 0 | J98: =IF(J15>=700,10,IF(J15>=600,8,IF(J15>=500,6,IF(J15>=400,4,IF(J15>=200,2,0))))) -> 0 | K98: =IF(K15>=1,5,0) -> 0 | L98: =IF(L15="실시",10,0) -> 0 | M98: =IF(M15>=8,5,IF(M15>=4,3,IF(M15>=1,1,0))) -> 0 | N98: =IF(N15="관리자+이용자(인터넷 가능)",5,IF(N15="관리자(도서관리프로그램용)",3,0)) -> 0 | O98: =IF(O15>=1000,10,IF(O15>=800,8,IF(O15>=600,6,IF(O15>=300,4,IF(O15>=100,2,0))))) -> 0 | P98: =IF(P15>=15000,15,IF(P15>=12000,12,IF(P15>=8000,9,IF(P15>=5000,6,IF(P15>=2000,3,0))))) -> 0 | Q98: =IF(Q15>=8000,15,IF(Q15>=6000,12,IF(Q15>=4000,9,IF(Q15>=2000,6,IF(Q15>=1000,3,0))))) -> 0 | R98: =IF(R15>=7000,10,IF(R15>=5000,8,IF(R15>=3000,6,IF(R15>=1000,4,IF(R15>=500,2,0))))) -> 0 | S98: =IF(S15>=6000,10,IF(S15>=4500,8,IF(S15>=2500,6,IF(S15>=1000,4,IF(S15>=500,2,0))))) -> 0 | T98: =IF(T15="실시",10,0) -> 0 | U98: =IF(U15>=16,15,IF(U15>=11,12,IF(U15>=6,9,IF(U15>=1,6,0)))) -> 0 | V98: =IF(V15>=60,15,IF(V15>=40,12,IF(V15>=20,9,IF(V15>=1,6,0)))) -> 0 | W98: =IF(W15>=3,10,IF(W15>=2,7,IF(W15>=1,4,0))) -> 0 | X98: =IF(X15>=25,15,IF(X15>=18,12,IF(X15>=12,9,IF(X15>=6,6,IF(X15>=4,3,0))))) -> 0 | Y98: =IF(Y15="구성",15,0) -> 0 | Z98: =IF(Z15>=5,10,IF(Z15>=4,8,IF(Z15>=3,6,IF(Z15>=2,4,IF(Z15>=1,2,0))))) -> 0 | AA98: =AA15 -> 0 | AB98: =AB15 -> 0 | AC98: =AC15 -> 0 | AD98: =AD15 -> 0 | AE98: =AE15 -> 0 | AF98: =SUM(F98:AE98) -> 0
A99: =A16 -> 11 | B99: =B16 -> 0 | C99: =C16 -> 0 | D99: =D16 -> 0 | E99: =E16 -> 0 | F99: =IF(F16="수립",10,0) -> 0 | G99: =IF(G16>=6,10,IF(G16=5,5,IF(G16<=4,0))) -> 0 | H99: =IF(H16>=48,10,IF(H16>=40,5,IF(H16<40,0))) -> 0 | I99: =IF(I16>=40,10,IF(I16>=25,8,IF(I16>=15,5,IF(I16>=8,3,0)))) -> 0 | J99: =IF(J16>=700,10,IF(J16>=600,8,IF(J16>=500,6,IF(J16>=400,4,IF(J16>=200,2,0))))) -> 0 | K99: =IF(K16>=1,5,0) -> 0 | L99: =IF(L16="실시",10,0) -> 0 | M99: =IF(M16>=8,5,IF(M16>=4,3,IF(M16>=1,1,0))) -> 0 | N99: =IF(N16="관리자+이용자(인터넷 가능)",5,IF(N16="관리자(도서관리프로그램용)",3,0)) -> 0 | O99: =IF(O16>=1000,10,IF(O16>=800,8,IF(O16>=600,6,IF(O16>=300,4,IF(O16>=100,2,0))))) -> 0 | P99: =IF(P16>=15000,15,IF(P16>=12000,12,IF(P16>=8000,9,IF(P16>=5000,6,IF(P16>=2000,3,0))))) -> 0 | Q99: =IF(Q16>=8000,15,IF(Q16>=6000,12,IF(Q16>=4000,9,IF(Q16>=2000,6,IF(Q16>=1000,3,0))))) -> 0 | R99: =IF(R16>=7000,10,IF(R16>=5000,8,IF(R16>=3000,6,IF(R16>=1000,4,IF(R16>=500,2,0))))) -> 0 | S99: =IF(S16>=6000,10,IF(S16>=4500,8,IF(S16>=2500,6,IF(S16>=1000,4,IF(S16>=500,2,0))))) -> 0 | T99: =IF(T16="실시",10,0) -> 0 | U99: =IF(U16>=16,15,IF(U16>=11,12,IF(U16>=6,9,IF(U16>=1,6,0)))) -> 0 | V99: =IF(V16>=60,15,IF(V16>=40,12,IF(V16>=20,9,IF(V16>=1,6,0)))) -> 0 | W99: =IF(W16>=3,10,IF(W16>=2,7,IF(W16>=1,4,0))) -> 0 | X99: =IF(X16>=25,15,IF(X16>=18,12,IF(X16>=12,9,IF(X16>=6,6,IF(X16>=4,3,0))))) -> 0 | Y99: =IF(Y16="구성",15,0) -> 0 | Z99: =IF(Z16>=5,10,IF(Z16>=4,8,IF(Z16>=3,6,IF(Z16>=2,4,IF(Z16>=1,2,0))))) -> 0 | AA99: =AA16 -> 0 | AB99: =AB16 -> 0 | AC99: =AC16 -> 0 | AD99: =AD16 -> 0 | AE99: =AE16 -> 0 | AF99: =SUM(F99:AE99) -> 0
A100: =A17 -> 12 | B100: =B17 -> 0 | C100: =C17 -> 0 | D100: =D17 -> 0 | E100: =E17 -> 0 | F100: =IF(F17="수립",10,0) -> 0 | G100: =IF(G17>=6,10,IF(G17=5,5,IF(G17<=4,0))) -> 0 | H100: =IF(H17>=48,10,IF(H17>=40,5,IF(H17<40,0))) -> 0 | I100: =IF(I17>=40,10,IF(I17>=25,8,IF(I17>=15,5,IF(I17>=8,3,0)))) -> 0 | J100: =IF(J17>=700,10,IF(J17>=600,8,IF(J17>=500,6,IF(J17>=400,4,IF(J17>=200,2,0))))) -> 0 | K100: =IF(K17>=1,5,0) -> 0 | L100: =IF(L17="실시",10,0) -> 0 | M100: =IF(M17>=8,5,IF(M17>=4,3,IF(M17>=1,1,0))) -> 0 | N100: =IF(N17="관리자+이용자(인터넷 가능)",5,IF(N17="관리자(도서관리프로그램용)",3,0)) -> 0 | O100: =IF(O17>=1000,10,IF(O17>=800,8,IF(O17>=600,6,IF(O17>=300,4,IF(O17>=100,2,0))))) -> 0 | P100: =IF(P17>=15000,15,IF(P17>=12000,12,IF(P17>=8000,9,IF(P17>=5000,6,IF(P17>=2000,3,0))))) -> 0 | Q100: =IF(Q17>=8000,15,IF(Q17>=6000,12,IF(Q17>=4000,9,IF(Q17>=2000,6,IF(Q17>=1000,3,0))))) -> 0 | R100: =IF(R17>=7000,10,IF(R17>=5000,8,IF(R17>=3000,6,IF(R17>=1000,4,IF(R17>=500,2,0))))) -> 0 | S100: =IF(S17>=6000,10,IF(S17>=4500,8,IF(S17>=2500,6,IF(S17>=1000,4,IF(S17>=500,2,0))))) -> 0 | T100: =IF(T17="실시",10,0) -> 0 | U100: =IF(U17>=16,15,IF(U17>=11,12,IF(U17>=6,9,IF(U17>=1,6,0)))) -> 0 | V100: =IF(V17>=60,15,IF(V17>=40,12,IF(V17>=20,9,IF(V17>=1,6,0)))) -> 0 | W100: =IF(W17>=3,10,IF(W17>=2,7,IF(W17>=1,4,0))) -> 0 | X100: =IF(X17>=25,15,IF(X17>=18,12,IF(X17>=12,9,IF(X17>=6,6,IF(X17>=4,3,0))))) -> 0 | Y100: =IF(Y17="구성",15,0) -> 0 | Z100: =IF(Z17>=5,10,IF(Z17>=4,8,IF(Z17>=3,6,IF(Z17>=2,4,IF(Z17>=1,2,0))))) -> 0 | AA100: =AA17 -> 0 | AB100: =AB17 -> 0 | AC100: =AC17 -> 0 | AD100: =AD17 -> 0 | AE100: =AE17 -> 0 | AF100: =SUM(F100:AE100) -> 0
... A168: =A85 -> 80 | B168: =B85 -> 0 | C168: =C85 -> 0 | D168: =D85 -> 0 | E168: =E85 -> 0 | F168: =IF(F85="수립",10,0) -> 0 | G168: =IF(G85>=6,10,IF(G85=5,5,IF(G85<=4,0))) -> 0 | H168: =IF(H85>=48,10,IF(H85>=40,5,IF(H85<40,0))) -> 0 | I168: =IF(I85>=40,10,IF(I85>=25,8,IF(I85>=15,5,IF(I85>=8,3,0)))) -> 0 | J168: =IF(J85>=700,10,IF(J85>=600,8,IF(J85>=500,6,IF(J85>=400,4,IF(J85>=200,2,0))))) -> 0 | K168: =IF(K85>=1,5,0) -> 0 | L168: =IF(L85="실시",10,0) -> 0 | M168: =IF(M85>=8,5,IF(M85>=4,3,IF(M85>=1,1,0))) -> 0 | N168: =IF(N85="관리자+이용자(인터넷 가능)",5,IF(N85="관리자(도서관리프로그램용)",3,0)) -> 0 | O168: =IF(O85>=1000,10,IF(O85>=800,8,IF(O85>=600,6,IF(O85>=300,4,IF(O85>=100,2,0))))) -> 0 | P168: =IF(P85>=15000,15,IF(P85>=12000,12,IF(P85>=8000,9,IF(P85>=5000,6,IF(P85>=2000,3,0))))) -> 0 | Q168: =IF(Q85>=8000,15,IF(Q85>=6000,12,IF(Q85>=4000,9,IF(Q85>=2000,6,IF(Q85>=1000,3,0))))) -> 0 | R168: =IF(R85>=7000,10,IF(R85>=5000,8,IF(R85>=3000,6,IF(R85>=1000,4,IF(R85>=500,2,0))))) -> 0 | S168: =IF(S85>=6000,10,IF(S85>=4500,8,IF(S85>=2500,6,IF(S85>=1000,4,IF(S85>=500,2,0))))) -> 0 | T168: =IF(T85="실시",10,0) -> 0 | U168: =IF(U85>=16,15,IF(U85>=11,12,IF(U85>=6,9,IF(U85>=1,6,0)))) -> 0 | V168: =IF(V85>=60,15,IF(V85>=40,12,IF(V85>=20,9,IF(V85>=1,6,0)))) -> 0 | W168: =IF(W85>=3,10,IF(W85>=2,7,IF(W85>=1,4,0))) -> 0 | X168: =IF(X85>=25,15,IF(X85>=18,12,IF(X85>=12,9,IF(X85>=6,6,IF(X85>=4,3,0))))) -> 0 | Y168: =IF(Y85="구성",15,0) -> 0 | Z168: =IF(Z85>=5,10,IF(Z85>=4,8,IF(Z85>=3,6,IF(Z85>=2,4,IF(Z85>=1,2,0))))) -> 0 | AA168: =AA85 -> 0 | AB168: =AB85 -> 0 | AC168: =AC85 -> 0 | AD168: =AD85 -> 0 | AE168: =AE85 -> 0 | AF168: =SUM(F168:AE168) -> 0
L197: 기 준 | M197: 배 점
L198: 관리자 + 이용자(인터넷 가능) | M198: 5
L199: 관리자(도서관리프로그램용) | M199: 3
...

Sheet 입력표(사립)
A1: 2023년도 사립 작은도서관 평가 결과 입력표 ○ 흰색부분만 입력(점수 자동 계산됨) - (정량) 콤보박스 이용 또는 수치 입력 / (정성) 배점 입력 ○ 입력단위 확인요망 - 금액 입력단위는 반드시 [만원]단위로 입력 (예 : 실제 금액이 160,000원일 경우 16으로 입력)
A3: 작은도서관 현황 | F3: 정량평가 | Z3: 정성평가
A4: 연번 | B4: 시군명 | C4: 작은도서관명 | D4: 등록일 | E4: 운영주체 ※ 콤보박스 이용 입력 | F4: 1. (사립)후원 및 주민단체 지원여부 ※ 콤보박스 이용 입력 | G4: 2. (사립)이용안내 게시 여부 ※ 콤보박스 이용 입력 | H4: 3. 개관일수 (1일 4시간 이상) | I4: 4. 개관시간 (정기 / 주) | J4: 5. 자료구입비 | K4: 6. 전담인력(자원봉사자 포함) 직무교육 - (총 누적 교육시간) | L4: 7. (사립)작은도서관 외부 간판 설치 여부 ※ 콤보박스 이용 입력 | M4: 8. (사립)누구나 출입 가능 ※ 콤보박스 이용 입력 | N4: 9. (사립)도서관리프로그램 사용 여부 ※ 콤보박스 이용 입력 | O4: 10. 연간 장서 수집량* *평가 기간 내 신규 구입 및 기증 도서 ※ 기증도서는 최근 3년 이내 1월 1일 이후 발행 도서만 포함 | P4: 11-1. 연간 대출권수 (읍/동 소재 작은도서관) | Q4: 11-2. 연간 대출 권수 (면 소재 작은도서관) | R4: 12-1. 연간 이용자 수 (읍/동 소재 작은도서관) | S4: 12-2. 연간 이용자 수 (면 소재 작은도서관) | T4: 13. 독서·문화프로그램 수 | U4: 14. 독서·문화프로그램 실시 횟수 | V4: 15. 독서·문화 동아리 구성 | W4: 16. 독서·문화 동아리 활동 횟수* * 평가 기간 내 누적활동 횟수 | X4: 17. 도서관운영위원회 구성 ※ 콤보박스 이용 입력 | Y4: 18. 도서관 운영위원회 활동 횟수 | Z4: 1. 독서문화프로그램 우수성 (지역특색, 특화) | AA4: 2. 이용자 중심의 장서구성 | AB4: 3. 작은도서관 홍보 | AC4: 4. 지역사회 교류 | AD4: 5. 도, 시군정책 협력도
A5: 평가기준
A6: 1
A7: 2
A8: 3 | AH8: 개인 및 단체 | AJ8: 후원(일시22건 또는 정기8건)또는 자원봉사(8명)
A9: 4 | AH9: 법인 | AJ9: 후원(일시13건 또는 정기5건)또는 자원봉사(7명)
A10: 5 | AH10: 새마을 | AJ10: 후원(일시7건 또는 정기3건)또는 자원봉사(4명)
A11: 6 | AH11: 아파트 | AJ11: 후원(일시4건 또는 정기2건)또는 자원봉사(2명)
A12: 7 | AH12: 종교 | AJ12: 후원(일시1건 또는 정기1건)또는 자원봉사(1명)
A13: 8 | AJ13: 지원이 없다
A14: 9
A15: 10
A16: 11
A17: 12
A18: 13
A19: 14
A20: 15
A21: 16
A22: 17
A23: 18
A24: 19
A25: 20
... A390: 385
A391: 점수환산결과 | AE391: 합계
A394: =A6 -> 1 | B394: =B6 -> 0 | C394: =C6 -> 0 | D394: =D6 -> 0 | E394: =E6 -> 0 | F394: =IF(F6="후원(일시22건 또는 정기8건)또는 자원봉사(8명)",10,IF(F6="후원(일시13건 또는 정기5건)또는 자원봉사(7명)",8,IF(F6="후원(일시7건 또는 정기3건)또는 자원봉사(4명)",6,IF(F6="후원(일시4건 또는 정기2건)또는 자원봉사(2명)",4,IF(F6="후원(일시1건 또는 정기1건)또는 자원봉사(1명)",2,0))))) -> 0 | G394: =IF(G6="게시",5,0) -> 0 | H394: =IF(H6>=6,20,IF(H6=5,15,IF(H6=4,10,IF(H6=3,5,0)))) -> 0 | I394: =IF(I6>=30,20,IF(I6>=22,15,IF(I6>=15,10,IF(I6>=8,5,0)))) -> 0 | J394: =IF(J6>=500,10,IF(J6>=300,8,IF(J6>=200,6,IF(J6>=100,4,IF(J6>=1,2,IF(J6=0,0)))))) -> 0 | K394: =IF(K6>=40,15,IF(K6>=25,12,IF(K6>=15,9,IF(K6>=8,6,0)))) -> 0 | L394: =IF(L6="설치",5,0) -> 0 | M394: =IF(M6="가능",5,0) -> 0 | N394: =IF(N6="사용",5,0) -> 0 | O394: =IF(O6>=550,10,IF(O6>=400,8,IF(O6>=300,6,IF(O6>=200,4,IF(O6>=50,2,0))))) -> 0 | P394: =IF(P6>=5000,10,IF(P6>=3000,8,IF(P6>=2000,6,IF(P6>=1000,4,IF(P6>=500,2,0))))) -> 0 | Q394: =IF(Q6>=1000,10,IF(Q6>=800,8,IF(Q6>=600,6,IF(Q6>=400,4,IF(Q6>=200,2,0))))) -> 0 | R394: =IF(R6>=5000,5,IF(R6>=3000,4,IF(R6>=2000,3,IF(R6>=1000,2,IF(R6>=500,1,0))))) -> 0 | S394: =IF(S6>=4000,5,IF(S6>=2500,4,IF(S6>=1000,3,IF(S6>=500,2,IF(S6>=300,1,0))))) -> 0 | T394: =IF(T6>=15,15,IF(T6>=12,12,IF(T6>=9,9,IF(T6>=6,6,IF(T6>=1,3,0))))) -> 0 | U394: =IF(U6>=50,15,IF(U6>=20,10,IF(U6>=1,5,0))) -> 0 | V394: =IF(V6>=3,15,IF(V6>=2,10,IF(V6>=1,5,0))) -> 0 | W394: =IF(W6>=25,10,IF(W6>=20,8,IF(W6>=16,6,IF(W6>=11,4,IF(W6>=6,2,IF(W6>=1,1,0)))))) -> 0 | X394: =IF(X6="구성",15,0) -> 0 | Y394: =IF(Y6>=4,10,IF(Y6=3,8,IF(Y6=2,6,IF(Y6=1,4,0)))) -> 0 | Z394: =Z6 -> 0 | AA394: =AA6 -> 0 | AB394: =AB6 -> 0 | AC394: =AC6 -> 0 | AD394: =AD6 -> 0 | AE394: =SUM(F394:AD394) -> 0
A395: =A7 -> 2 | B395: =B7 -> 0 | C395: =C7 -> 0 | D395: =D7 -> 0 | E395: =E7 -> 0 | F395: =IF(F7="후원(일시22건 또는 정기8건)또는 자원봉사(8명)",10,IF(F7="후원(일시13건 또는 정기5건)또는 자원봉사(7명)",8,IF(F7="후원(일시7건 또는 정기3건)또는 자원봉사(4명)",6,IF(F7="후원(일시4건 또는 정기2건)또는 자원봉사(2명)",4,IF(F7="후원(일시1건 또는 정기1건)또는 자원봉사(1명)",2,0))))) -> 0 | G395: =IF(G7="게시",5,0) -> 0 | H395: =IF(H7>=6,20,IF(H7=5,15,IF(H7=4,10,IF(H7=3,5,0)))) -> 0 | I395: =IF(I7>=30,20,IF(I7>=22,15,IF(I7>=15,10,IF(I7>=8,5,0)))) -> 0 | J395: =IF(J7>=500,10,IF(J7>=300,8,IF(J7>=200,6,IF(J7>=100,4,IF(J7>=1,2,IF(J7=0,0)))))) -> 0 | K395: =IF(K7>=40,15,IF(K7>=25,12,IF(K7>=15,9,IF(K7>=8,6,0)))) -> 0 | L395: =IF(L7="설치",5,0) -> 0 | M395: =IF(M7="가능",5,0) -> 0 | N395: =IF(N7="사용",5,0) -> 0 | O395: =IF(O7>=550,10,IF(O7>=400,8,IF(O7>=300,6,IF(O7>=200,4,IF(O7>=50,2,0))))) -> 0 | P395: =IF(P7>=5000,10,IF(P7>=3000,8,IF(P7>=2000,6,IF(P7>=1000,4,IF(P7>=500,2,0))))) -> 0 | Q395: =IF(Q7>=1000,10,IF(Q7>=800,8,IF(Q7>=600,6,IF(Q7>=400,4,IF(Q7>=200,2,0))))) -> 0 | R395: =IF(R7>=5000,5,IF(R7>=3000,4,IF(R7>=2000,3,IF(R7>=1000,2,IF(R7>=500,1,0))))) -> 0 | S395: =IF(S7>=4000,5,IF(S7>=2500,4,IF(S7>=1000,3,IF(S7>=500,2,IF(S7>=300,1,0))))) -> 0 | T395: =IF(T7>=15,15,IF(T7>=12,12,IF(T7>=9,9,IF(T7>=6,6,IF(T7>=1,3,0))))) -> 0 | U395: =IF(U7>=50,15,IF(U7>=20,10,IF(U7>=1,5,0))) -> 0 | V395: =IF(V7>=3,15,IF(V7>=2,10,IF(V7>=1,5,0))) -> 0 | W395: =IF(W7>=25,10,IF(W7>=20,8,IF(W7>=16,6,IF(W7>=11,4,IF(W7>=6,2,IF(W7>=1,1,0)))))) -> 0 | X395: =IF(X7="구성",15,0) -> 0 | Y395: =IF(Y7>=4,10,IF(Y7=3,8,IF(Y7=2,6,IF(Y7=1,4,0)))) -> 0 | Z395: =Z7 -> 0 | AA395: =AA7 -> 0 | AB395: =AB7 -> 0 | AC395: =AC7 -> 0 | AD395: =AD7 -> 0 | AE395: =SUM(F395:AD395) -> 0
A396: =A8 -> 3 | B396: =B8 -> 0 | C396: =C8 -> 0 | D396: =D8 -> 0 | E396: =E8 -> 0 | F396: =IF(F8="후원(일시22건 또는 정기8건)또는 자원봉사(8명)",10,IF(F8="후원(일시13건 또는 정기5건)또는 자원봉사(7명)",8,IF(F8="후원(일시7건 또는 정기3건)또는 자원봉사(4명)",6,IF(F8="후원(일시4건 또는 정기2건)또는 자원봉사(2명)",4,IF(F8="후원(일시1건 또는 정기1건)또는 자원봉사(1명)",2,0))))) -> 0 | G396: =IF(G8="게시",5,0) -> 0 | H396: =IF(H8>=6,20,IF(H8=5,15,IF(H8=4,10,IF(H8=3,5,0)))) -> 0 | I396: =IF(I8>=30,20,IF(I8>=22,15,IF(I8>=15,10,IF(I8>=8,5,0)))) -> 0 | J396: =IF(J8>=500,10,IF(J8>=300,8,IF(J8>=200,6,IF(J8>=100,4,IF(J8>=1,2,IF(J8=0,0)))))) -> 0 | K396: =IF(K8>=40,15,IF(K8>=25,12,IF(K8>=15,9,IF(K8>=8,6,0)))) -> 0 | L396: =IF(L8="설치",5,0) -> 0 | M396: =IF(M8="가능",5,0) -> 0 | N396: =IF(N8="사용",5,0) -> 0 | O396: =IF(O8>=550,10,IF(O8>=400,8,IF(O8>=300,6,IF(O8>=200,4,IF(O8>=50,2,0))))) -> 0 | P396: =IF(P8>=5000,10,IF(P8>=3000,8,IF(P8>=2000,6,IF(P8>=1000,4,IF(P8>=500,2,0))))) -> 0 | Q396: =IF(Q8>=1000,10,IF(Q8>=800,8,IF(Q8>=600,6,IF(Q8>=400,4,IF(Q8>=200,2,0))))) -> 0 | R396: =IF(R8>=5000,5,IF(R8>=3000,4,IF(R8>=2000,3,IF(R8>=1000,2,IF(R8>=500,1,0))))) -> 0 | S396: =IF(S8>=4000,5,IF(S8>=2500,4,IF(S8>=1000,3,IF(S8>=500,2,IF(S8>=300,1,0))))) -> 0 | T396: =IF(T8>=15,15,IF(T8>=12,12,IF(T8>=9,9,IF(T8>=6,6,IF(T8>=1,3,0))))) -> 0 | U396: =IF(U8>=50,15,IF(U8>=20,10,IF(U8>=1,5,0))) -> 0 | V396: =IF(V8>=3,15,IF(V8>=2,10,IF(V8>=1,5,0))) -> 0 | W396: =IF(W8>=25,10,IF(W8>=20,8,IF(W8>=16,6,IF(W8>=11,4,IF(W8>=6,2,IF(W8>=1,1,0)))))) -> 0 | X396: =IF(X8="구성",15,0) -> 0 | Y396: =IF(Y8>=4,10,IF(Y8=3,8,IF(Y8=2,6,IF(Y8=1,4,0)))) -> 0 | Z396: =Z8 -> 0 | AA396: =AA8 -> 0 | AB396: =AB8 -> 0 | AC396: =AC8 -> 0 | AD396: =AD8 -> 0 | AE396: =SUM(F396:AD396) -> 0
A397: =A9 -> 4 | B397: =B9 -> 0 | C397: =C9 -> 0 | D397: =D9 -> 0 | E397: =E9 -> 0 | F397: =IF(F9="후원(일시22건 또는 정기8건)또는 자원봉사(8명)",10,IF(F9="후원(일시13건 또는 정기5건)또는 자원봉사(7명)",8,IF(F9="후원(일시7건 또는 정기3건)또는 자원봉사(4명)",6,IF(F9="후원(일시4건 또는 정기2건)또는 자원봉사(2명)",4,IF(F9="후원(일시1건 또는 정기1건)또는 자원봉사(1명)",2,0))))) -> 0 | G397: =IF(G9="게시",5,0) -> 0 | H397: =IF(H9>=6,20,IF(H9=5,15,IF(H9=4,10,IF(H9=3,5,0)))) -> 0 | I397: =IF(I9>=30,20,IF(I9>=22,15,IF(I9>=15,10,IF(I9>=8,5,0)))) -> 0 | J397: =IF(J9>=500,10,IF(J9>=300,8,IF(J9>=200,6,IF(J9>=100,4,IF(J9>=1,2,IF(J9=0,0)))))) -> 0 | K397: =IF(K9>=40,15,IF(K9>=25,12,IF(K9>=15,9,IF(K9>=8,6,0)))) -> 0 | L397: =IF(L9="설치",5,0) -> 0 | M397: =IF(M9="가능",5,0) -> 0 | N397: =IF(N9="사용",5,0) -> 0 | O397: =IF(O9>=550,10,IF(O9>=400,8,IF(O9>=300,6,IF(O9>=200,4,IF(O9>=50,2,0))))) -> 0 | P397: =IF(P9>=5000,10,IF(P9>=3000,8,IF(P9>=2000,6,IF(P9>=1000,4,IF(P9>=500,2,0))))) -> 0 | Q397: =IF(Q9>=1000,10,IF(Q9>=800,8,IF(Q9>=600,6,IF(Q9>=400,4,IF(Q9>=200,2,0))))) -> 0 | R397: =IF(R9>=5000,5,IF(R9>=3000,4,IF(R9>=2000,3,IF(R9>=1000,2,IF(R9>=500,1,0))))) -> 0 | S397: =IF(S9>=4000,5,IF(S9>=2500,4,IF(S9>=1000,3,IF(S9>=500,2,IF(S9>=300,1,0))))) -> 0 | T397: =IF(T9>=15,15,IF(T9>=12,12,IF(T9>=9,9,IF(T9>=6,6,IF(T9>=1,3,0))))) -> 0 | U397: =IF(U9>=50,15,IF(U9>=20,10,IF(U9>=1,5,0))) -> 0 | V397: =IF(V9>=3,15,IF(V9>=2,10,IF(V9>=1,5,0))) -> 0 | W397: =IF(W9>=25,10,IF(W9>=20,8,IF(W9>=16,6,IF(W9>=11,4,IF(W9>=6,2,IF(W9>=1,1,0)))))) -> 0 | X397: =IF(X9="구성",15,0) -> 0 | Y397: =IF(Y9>=4,10,IF(Y9=3,8,IF(Y9=2,6,IF(Y9=1,4,0)))) -> 0 | Z397: =Z9 -> 0 | AA397: =AA9 -> 0 | AB397: =AB9 -> 0 | AC397: =AC9 -> 0 | AD397: =AD9 -> 0 | AE397: =SUM(F397:AD397) -> 0
A398: =A10 -> 5 | B398: =B10 -> 0 | C398: =C10 -> 0 | D398: =D10 -> 0 | E398: =E10 -> 0 | F398: =IF(F10="후원(일시22건 또는 정기8건)또는 자원봉사(8명)",10,IF(F10="후원(일시13건 또는 정기5건)또는 자원봉사(7명)",8,IF(F10="후원(일시7건 또는 정기3건)또는 자원봉사(4명)",6,IF(F10="후원(일시4건 또는 정기2건)또는 자원봉사(2명)",4,IF(F10="후원(일시1건 또는 정기1건)또는 자원봉사(1명)",2,0))))) -> 0 | G398: =IF(G10="게시",5,0) -> 0 | H398: =IF(H10>=6,20,IF(H10=5,15,IF(H10=4,10,IF(H10=3,5,0)))) -> 0 | I398: =IF(I10>=30,20,IF(I10>=22,15,IF(I10>=15,10,IF(I10>=8,5,0)))) -> 0 | J398: =IF(J10>=500,10,IF(J10>=300,8,IF(J10>=200,6,IF(J10>=100,4,IF(J10>=1,2,IF(J10=0,0)))))) -> 0 | K398: =IF(K10>=40,15,IF(K10>=25,12,IF(K10>=15,9,IF(K10>=8,6,0)))) -> 0 | L398: =IF(L10="설치",5,0) -> 0 | M398: =IF(M10="가능",5,0) -> 0 | N398: =IF(N10="사용",5,0) -> 0 | O398: =IF(O10>=550,10,IF(O10>=400,8,IF(O10>=300,6,IF(O10>=200,4,IF(O10>=50,2,0))))) -> 0 | P398: =IF(P10>=5000,10,IF(P10>=3000,8,IF(P10>=2000,6,IF(P10>=1000,4,IF(P10>=500,2,0))))) -> 0 | Q398: =IF(Q10>=1000,10,IF(Q10>=800,8,IF(Q10>=600,6,IF(Q10>=400,4,IF(Q10>=200,2,0))))) -> 0 | R398: =IF(R10>=5000,5,IF(R10>=3000,4,IF(R10>=2000,3,IF(R10>=1000,2,IF(R10>=500,1,0))))) -> 0 | S398: =IF(S10>=4000,5,IF(S10>=2500,4,IF(S10>=1000,3,IF(S10>=500,2,IF(S10>=300,1,0))))) -> 0 | T398: =IF(T10>=15,15,IF(T10>=12,12,IF(T10>=9,9,IF(T10>=6,6,IF(T10>=1,3,0))))) -> 0 | U398: =IF(U10>=50,15,IF(U10>=20,10,IF(U10>=1,5,0))) -> 0 | V398: =IF(V10>=3,15,IF(V10>=2,10,IF(V10>=1,5,0))) -> 0 | W398: =IF(W10>=25,10,IF(W10>=20,8,IF(W10>=16,6,IF(W10>=11,4,IF(W10>=6,2,IF(W10>=1,1,0)))))) -> 0 | X398: =IF(X10="구성",15,0) -> 0 | Y398: =IF(Y10>=4,10,IF(Y10=3,8,IF(Y10=2,6,IF(Y10=1,4,0)))) -> 0 | Z398: =Z10 -> 0 | AA398: =AA10 -> 0 | AB398: =AB10 -> 0 | AC398: =AC10 -> 0 | AD398: =AD10 -> 0 | AE398: =SUM(F398:AD398) -> 0
A399: =A11 -> 6 | B399: =B11 -> 0 | C399: =C11 -> 0 | D399: =D11 -> 0 | E399: =E11 -> 0 | F399: =IF(F11="후원(일시22건 또는 정기8건)또는 자원봉사(8명)",10,IF(F11="후원(일시13건 또는 정기5건)또는 자원봉사(7명)",8,IF(F11="후원(일시7건 또는 정기3건)또는 자원봉사(4명)",6,IF(F11="후원(일시4건 또는 정기2건)또는 자원봉사(2명)",4,IF(F11="후원(일시1건 또는 정기1건)또는 자원봉사(1명)",2,0))))) -> 0 | G399: =IF(G11="게시",5,0) -> 0 | H399: =IF(H11>=6,20,IF(H11=5,15,IF(H11=4,10,IF(H11=3,5,0)))) -> 0 | I399: =IF(I11>=30,20,IF(I11>=22,15,IF(I11>=15,10,IF(I11>=8,5,0)))) -> 0 | J399: =IF(J11>=500,10,IF(J11>=300,8,IF(J11>=200,6,IF(J11>=100,4,IF(J11>=1,2,IF(J11=0,0)))))) -> 0 | K399: =IF(K11>=40,15,IF(K11>=25,12,IF(K11>=15,9,IF(K11>=8,6,0)))) -> 0 | L399: =IF(L11="설치",5,0) -> 0 | M399: =IF(M11="가능",5,0) -> 0 | N399: =IF(N11="사용",5,0) -> 0 | O399: =IF(O11>=550,10,IF(O11>=400,8,IF(O11>=300,6,IF(O11>=200,4,IF(O11>=50,2,0))))) -> 0 | P399: =IF(P11>=5000,10,IF(P11>=3000,8,IF(P11>=2000,6,IF(P11>=1000,4,IF(P11>=500,2,0))))) -> 0 | Q399: =IF(Q11>=1000,10,IF(Q11>=800,8,IF(Q11>=600,6,IF(Q11>=400,4,IF(Q11>=200,2,0))))) -> 0 | R399: =IF(R11>=5000,5,IF(R11>=3000,4,IF(R11>=2000,3,IF(R11>=1000,2,IF(R11>=500,1,0))))) -> 0 | S399: =IF(S11>=4000,5,IF(S11>=2500,4,IF(S11>=1000,3,IF(S11>=500,2,IF(S11>=300,1,0))))) -> 0 | T399: =IF(T11>=15,15,IF(T11>=12,12,IF(T11>=9,9,IF(T11>=6,6,IF(T11>=1,3,0))))) -> 0 | U399: =IF(U11>=50,15,IF(U11>=20,10,IF(U11>=1,5,0))) -> 0 | V399: =IF(V11>=3,15,IF(V11>=2,10,IF(V11>=1,5,0))) -> 0 | W399: =IF(W11>=25,10,IF(W11>=20,8,IF(W11>=16,6,IF(W11>=11,4,IF(W11>=6,2,IF(W11>=1,1,0)))))) -> 0 | X399: =IF(X11="구성",15,0) -> 0 | Y399: =IF(Y11>=4,10,IF(Y11=3,8,IF(Y11=2,6,IF(Y11=1,4,0)))) -> 0 | Z399: =Z11 -> 0 | AA399: =AA11 -> 0 | AB399: =AB11 -> 0 | AC399: =AC11 -> 0 | AD399: =AD11 -> 0 | AE399: =SUM(F399:AD399) -> 0
A400: =A12 -> 7 | B400: =B12 -> 0 | C400: =C12 -> 0 | D400: =D12 -> 0 | E400: =E12 -> 0 | F400: =IF(F12="후원(일시22건 또는 정기8건)또는 자원봉사(8명)",10,IF(F12="후원(일시13건 또는 정기5건)또는 자원봉사(7명)",8,IF(F12="후원(일시7건 또는 정기3건)또는 자원봉사(4명)",6,IF(F12="후원(일시4건 또는 정기2건)또는 자원봉사(2명)",4,IF(F12="후원(일시1건 또는 정기1건)또는 자원봉사(1명)",2,0))))) -> 0 | G400: =IF(G12="게시",5,0) -> 0 | H400: =IF(H12>=6,20,IF(H12=5,15,IF(H12=4,10,IF(H12=3,5,0)))) -> 0 | I400: =IF(I12>=30,20,IF(I12>=22,15,IF(I12>=15,10,IF(I12>=8,5,0)))) -> 0 | J400: =IF(J12>=500,10,IF(J12>=300,8,IF(J12>=200,6,IF(J12>=100,4,IF(J12>=1,2,IF(J12=0,0)))))) -> 0 | K400: =IF(K12>=40,15,IF(K12>=25,12,IF(K12>=15,9,IF(K12>=8,6,0)))) -> 0 | L400: =IF(L12="설치",5,0) -> 0 | M400: =IF(M12="가능",5,0) -> 0 | N400: =IF(N12="사용",5,0) -> 0 | O400: =IF(O12>=550,10,IF(O12>=400,8,IF(O12>=300,6,IF(O12>=200,4,IF(O12>=50,2,0))))) -> 0 | P400: =IF(P12>=5000,10,IF(P12>=3000,8,IF(P12>=2000,6,IF(P12>=1000,4,IF(P12>=500,2,0))))) -> 0 | Q400: =IF(Q12>=1000,10,IF(Q12>=800,8,IF(Q12>=600,6,IF(Q12>=400,4,IF(Q12>=200,2,0))))) -> 0 | R400: =IF(R12>=5000,5,IF(R12>=3000,4,IF(R12>=2000,3,IF(R12>=1000,2,IF(R12>=500,1,0))))) -> 0 | S400: =IF(S12>=4000,5,IF(S12>=2500,4,IF(S12>=1000,3,IF(S12>=500,2,IF(S12>=300,1,0))))) -> 0 | T400: =IF(T12>=15,15,IF(T12>=12,12,IF(T12>=9,9,IF(T12>=6,6,IF(T12>=1,3,0))))) -> 0 | U400: =IF(U12>=50,15,IF(U12>=20,10,IF(U12>=1,5,0))) -> 0 | V400: =IF(V12>=3,15,IF(V12>=2,10,IF(V12>=1,5,0))) -> 0 | W400: =IF(W12>=25,10,IF(W12>=20,8,IF(W12>=16,6,IF(W12>=11,4,IF(W12>=6,2,IF(W12>=1,1,0)))))) -> 0 | X400: =IF(X12="구성",15,0) -> 0 | Y400: =IF(Y12>=4,10,IF(Y12=3,8,IF(Y12=2,6,IF(Y12=1,4,0)))) -> 0 | Z400: =Z12 -> 0 | AA400: =AA12 -> 0 | AB400: =AB12 -> 0 | AC400: =AC12 -> 0 | AD400: =AD12 -> 0 | AE400: =SUM(F400:AD400) -> 0
A401: =A13 -> 8 | B401: =B13 -> 0 | C401: =C13 -> 0 | D401: =D13 -> 0 | E401: =E13 -> 0 | F401: =IF(F13="후원(일시22건 또는 정기8건)또는 자원봉사(8명)",10,IF(F13="후원(일시13건 또는 정기5건)또는 자원봉사(7명)",8,IF(F13="후원(일시7건 또는 정기3건)또는 자원봉사(4명)",6,IF(F13="후원(일시4건 또는 정기2건)또는 자원봉사(2명)",4,IF(F13="후원(일시1건 또는 정기1건)또는 자원봉사(1명)",2,0))))) -> 0 | G401: =IF(G13="게시",5,0) -> 0 | H401: =IF(H13>=6,20,IF(H13=5,15,IF(H13=4,10,IF(H13=3,5,0)))) -> 0 | I401: =IF(I13>=30,20,IF(I13>=22,15,IF(I13>=15,10,IF(I13>=8,5,0)))) -> 0 | J401: =IF(J13>=500,10,IF(J13>=300,8,IF(J13>=200,6,IF(J13>=100,4,IF(J13>=1,2,IF(J13=0,0)))))) -> 0 | K401: =IF(K13>=40,15,IF(K13>=25,12,IF(K13>=15,9,IF(K13>=8,6,0)))) -> 0 | L401: =IF(L13="설치",5,0) -> 0 | M401: =IF(M13="가능",5,0) -> 0 | N401: =IF(N13="사용",5,0) -> 0 | O401: =IF(O13>=550,10,IF(O13>=400,8,IF(O13>=300,6,IF(O13>=200,4,IF(O13>=50,2,0))))) -> 0 | P401: =IF(P13>=5000,10,IF(P13>=3000,8,IF(P13>=2000,6,IF(P13>=1000,4,IF(P13>=500,2,0))))) -> 0 | Q401: =IF(Q13>=1000,10,IF(Q13>=800,8,IF(Q13>=600,6,IF(Q13>=400,4,IF(Q13>=200,2,0))))) -> 0 | R401: =IF(R13>=5000,5,IF(R13>=3000,4,IF(R13>=2000,3,IF(R13>=1000,2,IF(R13>=500,1,0))))) -> 0 | S401: =IF(S13>=4000,5,IF(S13>=2500,4,IF(S13>=1000,3,IF(S13>=500,2,IF(S13>=300,1,0))))) -> 0 | T401: =IF(T13>=15,15,IF(T13>=12,12,IF(T13>=9,9,IF(T13>=6,6,IF(T13>=1,3,0))))) -> 0 | U401: =IF(U13>=50,15,IF(U13>=20,10,IF(U13>=1,5,0))) -> 0 | V401: =IF(V13>=3,15,IF(V13>=2,10,IF(V13>=1,5,0))) -> 0 | W401: =IF(W13>=25,10,IF(W13>=20,8,IF(W13>=16,6,IF(W13>=11,4,IF(W13>=6,2,IF(W13>=1,1,0)))))) -> 0 | X401: =IF(X13="구성",15,0) -> 0 | Y401: =IF(Y13>=4,10,IF(Y13=3,8,IF(Y13=2,6,IF(Y13=1,4,0)))) -> 0 | Z401: =Z13 -> 0 | AA401: =AA13 -> 0 | AB401: =AB13 -> 0 | AC401: =AC13 -> 0 | AD401: =AD13 -> 0 | AE401: =SUM(F401:AD401) -> 0
A402: =A14 -> 9 | B402: =B14 -> 0 | C402: =C14 -> 0 | D402: =D14 -> 0 | E402: =E14 -> 0 | F402: =IF(F14="후원(일시22건 또는 정기8건)또는 자원봉사(8명)",10,IF(F14="후원(일시13건 또는 정기5건)또는 자원봉사(7명)",8,IF(F14="후원(일시7건 또는 정기3건)또는 자원봉사(4명)",6,IF(F14="후원(일시4건 또는 정기2건)또는 자원봉사(2명)",4,IF(F14="후원(일시1건 또는 정기1건)또는 자원봉사(1명)",2,0))))) -> 0 | G402: =IF(G14="게시",5,0) -> 0 | H402: =IF(H14>=6,20,IF(H14=5,15,IF(H14=4,10,IF(H14=3,5,0)))) -> 0 | I402: =IF(I14>=30,20,IF(I14>=22,15,IF(I14>=15,10,IF(I14>=8,5,0)))) -> 0 | J402: =IF(J14>=500,10,IF(J14>=300,8,IF(J14>=200,6,IF(J14>=100,4,IF(J14>=1,2,IF(J14=0,0)))))) -> 0 | K402: =IF(K14>=40,15,IF(K14>=25,12,IF(K14>=15,9,IF(K14>=8,6,0)))) -> 0 | L402: =IF(L14="설치",5,0) -> 0 | M402: =IF(M14="가능",5,0) -> 0 | N402: =IF(N14="사용",5,0) -> 0 | O402: =IF(O14>=550,10,IF(O14>=400,8,IF(O14>=300,6,IF(O14>=200,4,IF(O14>=50,2,0))))) -> 0 | P402: =IF(P14>=5000,10,IF(P14>=3000,8,IF(P14>=2000,6,IF(P14>=1000,4,IF(P14>=500,2,0))))) -> 0 | Q402: =IF(Q14>=1000,10,IF(Q14>=800,8,IF(Q14>=600,6,IF(Q14>=400,4,IF(Q14>=200,2,0))))) -> 0 | R402: =IF(R14>=5000,5,IF(R14>=3000,4,IF(R14>=2000,3,IF(R14>=1000,2,IF(R14>=500,1,0))))) -> 0 | S402: =IF(S14>=4000,5,IF(S14>=2500,4,IF(S14>=1000,3,IF(S14>=500,2,IF(S14>=300,1,0))))) -> 0 | T402: =IF(T14>=15,15,IF(T14>=12,12,IF(T14>=9,9,IF(T14>=6,6,IF(T14>=1,3,0))))) -> 0 | U402: =IF(U14>=50,15,IF(U14>=20,10,IF(U14>=1,5,0))) -> 0 | V402: =IF(V14>=3,15,IF(V14>=2,10,IF(V14>=1,5,0))) -> 0 | W402: =IF(W14>=25,10,IF(W14>=20,8,IF(W14>=16,6,IF(W14>=11,4,IF(W14>=6,2,IF(W14>=1,1,0)))))) -> 0 | X402: =IF(X14="구성",15,0) -> 0 | Y402: =IF(Y14>=4,10,IF(Y14=3,8,IF(Y14=2,6,IF(Y14=1,4,0)))) -> 0 | Z402: =Z14 -> 0 | AA402: =AA14 -> 0 | AB402: =AB14 -> 0 | AC402: =AC14 -> 0 | AD402: =AD14 -> 0 | AE402: =SUM(F402:AD402) -> 0
A403: =A15 -> 10 | B403: =B15 -> 0 | C403: =C15 -> 0 | D403: =D15 -> 0 | E403: =E15 -> 0 | F403: =IF(F15="후원(일시22건 또는 정기8건)또는 자원봉사(8명)",10,IF(F15="후원(일시13건 또는 정기5건)또는 자원봉사(7명)",8,IF(F15="후원(일시7건 또는 정기3건)또는 자원봉사(4명)",6,IF(F15="후원(일시4건 또는 정기2건)또는 자원봉사(2명)",4,IF(F15="후원(일시1건 또는 정기1건)또는 자원봉사(1명)",2,0))))) -> 0 | G403: =IF(G15="게시",5,0) -> 0 | H403: =IF(H15>=6,20,IF(H15=5,15,IF(H15=4,10,IF(H15=3,5,0)))) -> 0 | I403: =IF(I15>=30,20,IF(I15>=22,15,IF(I15>=15,10,IF(I15>=8,5,0)))) -> 0 | J403: =IF(J15>=500,10,IF(J15>=300,8,IF(J15>=200,6,IF(J15>=100,4,IF(J15>=1,2,IF(J15=0,0)))))) -> 0 | K403: =IF(K15>=40,15,IF(K15>=25,12,IF(K15>=15,9,IF(K15>=8,6,0)))) -> 0 | L403: =IF(L15="설치",5,0) -> 0 | M403: =IF(M15="가능",5,0) -> 0 | N403: =IF(N15="사용",5,0) -> 0 | O403: =IF(O15>=550,10,IF(O15>=400,8,IF(O15>=300,6,IF(O15>=200,4,IF(O15>=50,2,0))))) -> 0 | P403: =IF(P15>=5000,10,IF(P15>=3000,8,IF(P15>=2000,6,IF(P15>=1000,4,IF(P15>=500,2,0))))) -> 0 | Q403: =IF(Q15>=1000,10,IF(Q15>=800,8,IF(Q15>=600,6,IF(Q15>=400,4,IF(Q15>=200,2,0))))) -> 0 | R403: =IF(R15>=5000,5,IF(R15>=3000,4,IF(R15>=2000,3,IF(R15>=1000,2,IF(R15>=500,1,0))))) -> 0 | S403: =IF(S15>=4000,5,IF(S15>=2500,4,IF(S15>=1000,3,IF(S15>=500,2,IF(S15>=300,1,0))))) -> 0 | T403: =IF(T15>=15,15,IF(T15>=12,12,IF(T15>=9,9,IF(T15>=6,6,IF(T15>=1,3,0))))) -> 0 | U403: =IF(U15>=50,15,IF(U15>=20,10,IF(U15>=1,5,0))) -> 0 | V403: =IF(V15>=3,15,IF(V15>=2,10,IF(V15>=1,5,0))) -> 0 | W403: =IF(W15>=25,10,IF(W15>=20,8,IF(W15>=16,6,IF(W15>=11,4,IF(W15>=6,2,IF(W15>=1,1,0)))))) -> 0 | X403: =IF(X15="구성",15,0) -> 0 | Y403: =IF(Y15>=4,10,IF(Y15=3,8,IF(Y15=2,6,IF(Y15=1,4,0)))) -> 0 | Z403: =Z15 -> 0 | AA403: =AA15 -> 0 | AB403: =AB15 -> 0 | AC403: =AC15 -> 0 | AD403: =AD15 -> 0 | AE403: =SUM(F403:AD403) -> 0
A404: =A16 -> 11 | B404: =B16 -> 0 | C404: =C16 -> 0 | D404: =D16 -> 0 | E404: =E16 -> 0 | F404: =IF(F16="후원(일시22건 또는 정기8건)또는 자원봉사(8명)",10,IF(F16="후원(일시13건 또는 정기5건)또는 자원봉사(7명)",8,IF(F16="후원(일시7건 또는 정기3건)또는 자원봉사(4명)",6,IF(F16="후원(일시4건 또는 정기2건)또는 자원봉사(2명)",4,IF(F16="후원(일시1건 또는 정기1건)또는 자원봉사(1명)",2,0))))) -> 0 | G404: =IF(G16="게시",5,0) -> 0 | H404: =IF(H16>=6,20,IF(H16=5,15,IF(H16=4,10,IF(H16=3,5,0)))) -> 0 | I404: =IF(I16>=30,20,IF(I16>=22,15,IF(I16>=15,10,IF(I16>=8,5,0)))) -> 0 | J404: =IF(J16>=500,10,IF(J16>=300,8,IF(J16>=200,6,IF(J16>=100,4,IF(J16>=1,2,IF(J16=0,0)))))) -> 0 | K404: =IF(K16>=40,15,IF(K16>=25,12,IF(K16>=15,9,IF(K16>=8,6,0)))) -> 0 | L404: =IF(L16="설치",5,0) -> 0 | M404: =IF(M16="가능",5,0) -> 0 | N404: =IF(N16="사용",5,0) -> 0 | O404: =IF(O16>=550,10,IF(O16>=400,8,IF(O16>=300,6,IF(O16>=200,4,IF(O16>=50,2,0))))) -> 0 | P404: =IF(P16>=5000,10,IF(P16>=3000,8,IF(P16>=2000,6,IF(P16>=1000,4,IF(P16>=500,2,0))))) -> 0 | Q404: =IF(Q16>=1000,10,IF(Q16>=800,8,IF(Q16>=600,6,IF(Q16>=400,4,IF(Q16>=200,2,0))))) -> 0 | R404: =IF(R16>=5000,5,IF(R16>=3000,4,IF(R16>=2000,3,IF(R16>=1000,2,IF(R16>=500,1,0))))) -> 0 | S404: =IF(S16>=4000,5,IF(S16>=2500,4,IF(S16>=1000,3,IF(S16>=500,2,IF(S16>=300,1,0))))) -> 0 | T404: =IF(T16>=15,15,IF(T16>=12,12,IF(T16>=9,9,IF(T16>=6,6,IF(T16>=1,3,0))))) -> 0 | U404: =IF(U16>=50,15,IF(U16>=20,10,IF(U16>=1,5,0))) -> 0 | V404: =IF(V16>=3,15,IF(V16>=2,10,IF(V16>=1,5,0))) -> 0 | W404: =IF(W16>=25,10,IF(W16>=20,8,IF(W16>=16,6,IF(W16>=11,4,IF(W16>=6,2,IF(W16>=1,1,0)))))) -> 0 | X404: =IF(X16="구성",15,0) -> 0 | Y404: =IF(Y16>=4,10,IF(Y16=3,8,IF(Y16=2,6,IF(Y16=1,4,0)))) -> 0 | Z404: =Z16 -> 0 | AA404: =AA16 -> 0 | AB404: =AB16 -> 0 | AC404: =AC16 -> 0 | AD404: =AD16 -> 0 | AE404: =SUM(F404:AD404) -> 0
