Workbook

Sheet 공립 총괄표
B2: 2024년 공립 작은도서관 평가 결과 (총괄표)
B3: * 점수 자동 계산(작성 불필요)
B4: 순번 | C4: 지자체명 (시·군) | D4: 작은도서관명 | E4: 등록일 | F4: 유형 | G4: 등급 | H4: 총점 | I4: 1 | J4: 2 | K4: 3 | L4: 4 | M4: 5 | N4: 6 | O4: 7 | P4: 8 | Q4: 9
I5: 운영/관리 | J5: 시설자원 | K5: 서비스 | L5: 활동 | M5: 독서문화 프로그램 우수성 | N5: 이용자 중심의 장서구성 | O5: 작은도서관 홍보 | P5: 지역사회 교류 | Q5: 도정 협력도
G6: A~E | H6: =SUM(I6:Q6) -> 300 | I6: 65 | J6: 20 | K6: 65 | L6: 50 | M6: 30 | N6: 30 | O6: 10 | P6: 20 | Q6: 10
B7: 1 | C7: ='입력표(공립)'!B217 -> 00시 | D7: ='입력표(공립)'!C217 -> 00작은도서관 | E7: ='입력표(공립)'!D217 -> 2015.11.24. | F7: ='입력표(공립)'!E6 -> 지자체 | G7: =IF(H7>=251,"A",IF(H7>=201,"B",IF(H7>=151,"C",IF(H7>=101,"D",IF(H7<=100,"E"))))) -> E | H7: =SUM(I7:Q7) -> 0 | I7: =SUM('입력표(공립)'!F217:L217) -> 0 | J7: =SUM('입력표(공립)'!M217:O217) -> 0 | K7: =SUM('입력표(공립)'!P217:V217) -> 0 | L7: =SUM('입력표(공립)'!W217:Z217) -> 0 | M7: =SUM('입력표(공립)'!AA217) -> 0 | N7: ='입력표(공립)'!AB217 -> 0 | O7: ='입력표(공립)'!AC217 -> 0 | P7: ='입력표(공립)'!AD217 -> 0 | Q7: ='입력표(공립)'!AE217 -> 0
B8: 2 | C8: ='입력표(공립)'!B218 -> 0 | D8: ='입력표(공립)'!C218 -> 0 | E8: ='입력표(공립)'!D218 -> 0 | F8: ='입력표(공립)'!E7 -> 민간위탁 | G8: =IF(H8>=251,"A",IF(H8>=201,"B",IF(H8>=151,"C",IF(H8>=101,"D",IF(H8<=100,"E"))))) -> E | H8: =SUM(I8:Q8) -> 35 | I8: =SUM('입력표(공립)'!F218:L218) -> 0 | J8: =SUM('입력표(공립)'!M218:O218) -> 0 | K8: =SUM('입력표(공립)'!P218:V218) -> 35 | L8: =SUM('입력표(공립)'!W218:Z218) -> 0 | M8: =SUM('입력표(공립)'!AA218) -> 0 | N8: ='입력표(공립)'!AB218 -> 0 | O8: ='입력표(공립)'!AC218 -> 0 | P8: ='입력표(공립)'!AD218 -> 0 | Q8: ='입력표(공립)'!AE218 -> 0
B9: 3 | C9: ='입력표(공립)'!B219 -> 0 | D9: ='입력표(공립)'!C219 -> 0 | E9: ='입력표(공립)'!D219 -> 0 | F9: ='입력표(공립)'!E8 -> 0 | G9: =IF(H9>=251,"A",IF(H9>=201,"B",IF(H9>=151,"C",IF(H9>=101,"D",IF(H9<=100,"E"))))) -> E | H9: =SUM(I9:Q9) -> 0 | I9: =SUM('입력표(공립)'!F219:L219) -> 0 | J9: =SUM('입력표(공립)'!M219:O219) -> 0 | K9: =SUM('입력표(공립)'!P219:V219) -> 0 | L9: =SUM('입력표(공립)'!W219:Z219) -> 0 | M9: =SUM('입력표(공립)'!AA219) -> 0 | N9: ='입력표(공립)'!AB219 -> 0 | O9: ='입력표(공립)'!AC219 -> 0 | P9: ='입력표(공립)'!AD219 -> 0 | Q9: ='입력표(공립)'!AE219 -> 0
B10: 4 | C10: ='입력표(공립)'!B220 -> 0 | D10: ='입력표(공립)'!C220 -> 0 | E10: ='입력표(공립)'!D220 -> 0 | F10: ='입력표(공립)'!E9 -> 0 | G10: =IF(H10>=251,"A",IF(H10>=201,"B",IF(H10>=151,"C",IF(H10>=101,"D",IF(H10<=100,"E"))))) -> E | H10: =SUM(I10:Q10) -> 0 | I10: =SUM('입력표(공립)'!F220:L220) -> 0 | J10: =SUM('입력표(공립)'!M220:O220) -> 0 | K10: =SUM('입력표(공립)'!P220:V220) -> 0 | L10: =SUM('입력표(공립)'!W220:Z220) -> 0 | M10: =SUM('입력표(공립)'!AA220) -> 0 | N10: ='입력표(공립)'!AB220 -> 0 | O10: ='입력표(공립)'!AC220 -> 0 | P10: ='입력표(공립)'!AD220 -> 0 | Q10: ='입력표(공립)'!AE220 -> 0
B11: 5 | C11: ='입력표(공립)'!B221 -> 0 | D11: ='입력표(공립)'!C221 -> 0 | E11: ='입력표(공립)'!D221 -> 0 | F11: ='입력표(공립)'!E10 -> 0 | G11: =IF(H11>=251,"A",IF(H11>=201,"B",IF(H11>=151,"C",IF(H11>=101,"D",IF(H11<=100,"E"))))) -> E | H11: =SUM(I11:Q11) -> 0 | I11: =SUM('입력표(공립)'!F221:L221) -> 0 | J11: =SUM('입력표(공립)'!M221:O221) -> 0 | K11: =SUM('입력표(공립)'!P221:V221) -> 0 | L11: =SUM('입력표(공립)'!W221:Z221) -> 0 | M11: =SUM('입력표(공립)'!AA221) -> 0 | N11: ='입력표(공립)'!AB221 -> 0 | O11: ='입력표(공립)'!AC221 -> 0 | P11: ='입력표(공립)'!AD221 -> 0 | Q11: ='입력표(공립)'!AE221 -> 0
B12: 6 | C12: ='입력표(공립)'!B222 -> 0 | D12: ='입력표(공립)'!C222 -> 0 | E12: ='입력표(공립)'!D222 -> 0 | F12: ='입력표(공립)'!E11 -> 0 | G12: =IF(H12>=251,"A",IF(H12>=201,"B",IF(H12>=151,"C",IF(H12>=101,"D",IF(H12<=100,"E"))))) -> E | H12: =SUM(I12:Q12) -> 0 | I12: =SUM('입력표(공립)'!F222:L222) -> 0 | J12: =SUM('입력표(공립)'!M222:O222) -> 0 | K12: =SUM('입력표(공립)'!P222:V222) -> 0 | L12: =SUM('입력표(공립)'!W222:Z222) -> 0 | M12: =SUM('입력표(공립)'!AA222) -> 0 | N12: ='입력표(공립)'!AB222 -> 0 | O12: ='입력표(공립)'!AC222 -> 0 | P12: ='입력표(공립)'!AD222 -> 0 | Q12: ='입력표(공립)'!AE222 -> 0
B13: 7 | C13: ='입력표(공립)'!B223 -> 0 | D13: ='입력표(공립)'!C223 -> 0 | E13: ='입력표(공립)'!D223 -> 0 | F13: ='입력표(공립)'!E12 -> 0 | G13: =IF(H13>=251,"A",IF(H13>=201,"B",IF(H13>=151,"C",IF(H13>=101,"D",IF(H13<=100,"E"))))) -> E | H13: =SUM(I13:Q13) -> 0 | I13: =SUM('입력표(공립)'!F223:L223) -> 0 | J13: =SUM('입력표(공립)'!M223:O223) -> 0 | K13: =SUM('입력표(공립)'!P223:V223) -> 0 | L13: =SUM('입력표(공립)'!W223:Z223) -> 0 | M13: =SUM('입력표(공립)'!AA223) -> 0 | N13: ='입력표(공립)'!AB223 -> 0 | O13: ='입력표(공립)'!AC223 -> 0 | P13: ='입력표(공립)'!AD223 -> 0 | Q13: ='입력표(공립)'!AE223 -> 0
B14: 8 | C14: ='입력표(공립)'!B224 -> 0 | D14: ='입력표(공립)'!C224 -> 0 | E14: ='입력표(공립)'!D224 -> 0 | F14: ='입력표(공립)'!E13 -> 0 | G14: =IF(H14>=251,"A",IF(H14>=201,"B",IF(H14>=151,"C",IF(H14>=101,"D",IF(H14<=100,"E"))))) -> E | H14: =SUM(I14:Q14) -> 0 | I14: =SUM('입력표(공립)'!F224:L224) -> 0 | J14: =SUM('입력표(공립)'!M224:O224) -> 0 | K14: =SUM('입력표(공립)'!P224:V224) -> 0 | L14: =SUM('입력표(공립)'!W224:Z224) -> 0 | M14: =SUM('입력표(공립)'!AA224) -> 0 | N14: ='입력표(공립)'!AB224 -> 0 | O14: ='입력표(공립)'!AC224 -> 0 | P14: ='입력표(공립)'!AD224 -> 0 | Q14: ='입력표(공립)'!AE224 -> 0
B15: 9 | C15: ='입력표(공립)'!B225 -> 0 | D15: ='입력표(공립)'!C225 -> 0 | E15: ='입력표(공립)'!D225 -> 0 | F15: ='입력표(공립)'!E14 -> 0 | G15: =IF(H15>=251,"A",IF(H15>=201,"B",IF(H15>=151,"C",IF(H15>=101,"D",IF(H15<=100,"E"))))) -> E | H15: =SUM(I15:Q15) -> 0 | I15: =SUM('입력표(공립)'!F225:L225) -> 0 | J15: =SUM('입력표(공립)'!M225:O225) -> 0 | K15: =SUM('입력표(공립)'!P225:V225) -> 0 | L15: =SUM('입력표(공립)'!W225:Z225) -> 0 | M15: =SUM('입력표(공립)'!AA225) -> 0 | N15: ='입력표(공립)'!AB225 -> 0 | O15: ='입력표(공립)'!AC225 -> 0 | P15: ='입력표(공립)'!AD225 -> 0 | Q15: ='입력표(공립)'!AE225 -> 0
B16: 10 | C16: ='입력표(공립)'!B226 -> 0 | D16: ='입력표(공립)'!C226 -> 0 | E16: ='입력표(공립)'!D226 -> 0 | F16: ='입력표(공립)'!E15 -> 0 | G16: =IF(H16>=251,"A",IF(H16>=201,"B",IF(H16>=151,"C",IF(H16>=101,"D",IF(H16<=100,"E"))))) -> E | H16: =SUM(I16:Q16) -> 0 | I16: =SUM('입력표(공립)'!F226:L226) -> 0 | J16: =SUM('입력표(공립)'!M226:O226) -> 0 | K16: =SUM('입력표(공립)'!P226:V226) -> 0 | L16: =SUM('입력표(공립)'!W226:Z226) -> 0 | M16: =SUM('입력표(공립)'!AA226) -> 0 | N16: ='입력표(공립)'!AB226 -> 0 | O16: ='입력표(공립)'!AC226 -> 0 | P16: ='입력표(공립)'!AD226 -> 0 | Q16: ='입력표(공립)'!AE226 -> 0
B17: 11 | C17: ='입력표(공립)'!B227 -> 0 | D17: ='입력표(공립)'!C227 -> 0 | E17: ='입력표(공립)'!D227 -> 0 | F17: ='입력표(공립)'!E16 -> 0 | G17: =IF(H17>=251,"A",IF(H17>=201,"B",IF(H17>=151,"C",IF(H17>=101,"D",IF(H17<=100,"E"))))) -> E | H17: =SUM(I17:Q17) -> 0 | I17: =SUM('입력표(공립)'!F227:L227) -> 0 | J17: =SUM('입력표(공립)'!M227:O227) -> 0 | K17: =SUM('입력표(공립)'!P227:V227) -> 0 | L17: =SUM('입력표(공립)'!W227:Z227) -> 0 | M17: =SUM('입력표(공립)'!AA227) -> 0 | N17: ='입력표(공립)'!AB227 -> 0 | O17: ='입력표(공립)'!AC227 -> 0 | P17: ='입력표(공립)'!AD227 -> 0 | Q17: ='입력표(공립)'!AE227 -> 0
B18: 12 | C18: ='입력표(공립)'!B228 -> 0 | D18: ='입력표(공립)'!C228 -> 0 | E18: ='입력표(공립)'!D228 -> 0 | F18: ='입력표(공립)'!E17 -> 0 | G18: =IF(H18>=251,"A",IF(H18>=201,"B",IF(H18>=151,"C",IF(H18>=101,"D",IF(H18<=100,"E"))))) -> E | H18: =SUM(I18:Q18) -> 0 | I18: =SUM('입력표(공립)'!F228:L228) -> 0 | J18: =SUM('입력표(공립)'!M228:O228) -> 0 | K18: =SUM('입력표(공립)'!P228:V228) -> 0 | L18: =SUM('입력표(공립)'!W228:Z228) -> 0 | M18: =SUM('입력표(공립)'!AA228) -> 0 | N18: ='입력표(공립)'!AB228 -> 0 | O18: ='입력표(공립)'!AC228 -> 0 | P18: ='입력표(공립)'!AD228 -> 0 | Q18: ='입력표(공립)'!AE228 -> 0
... B214: 208 | C214: ='입력표(공립)'!B424 -> 0 | D214: ='입력표(공립)'!C424 -> 0 | E214: ='입력표(공립)'!D424 -> 0 | F214: ='입력표(공립)'!E213 -> 0 | G214: =IF(H214>=251,"A",IF(H214>=201,"B",IF(H214>=151,"C",IF(H214>=101,"D",IF(H214<=100,"E"))))) -> E | H214: =SUM(I214:Q214) -> 0 | I214: =SUM('입력표(공립)'!F424:L424) -> 0 | J214: =SUM('입력표(공립)'!M424:O424) -> 0 | K214: =SUM('입력표(공립)'!P424:V424) -> 0 | L214: =SUM('입력표(공립)'!W424:Z424) -> 0 | M214: =SUM('입력표(공립)'!AA424) -> 0 | N214: ='입력표(공립)'!AB424 -> 0 | O214: ='입력표(공립)'!AC424 -> 0 | P214: ='입력표(공립)'!AD424 -> 0 | Q214: ='입력표(공립)'!AE424 -> 0

Sheet 사립 총괄표 
B2: 2024년 사립 작은도서관 평가 결과 (총괄표)
B3: * 점수 자동 계산(작성 불필요)
B4: 순번 | C4: 지자체명 (시·군) | D4: 작은도서관명 | E4: 등록일 | F4: 유형 | G4: 등급 | H4: 총점 | I4: 1 | J4: 2 | K4: 3 | L4: 4 | M4: 5 | N4: 6 | O4: 7 | P4: 8 | Q4: 9
I5: 운영/관리 | J5: 시설자원 | K5: 서비스 | L5: 활동 | M5: 독서문화프로그램 우수성 | N5: 이용자 중심의 장서구성 | O5: 작은도서관 홍보 | P5: 지역사회 교류 | Q5: 도, 시군정책 협력도
G6: (A~E) | H6: =SUM(I6:Q6) -> 300 | I6: 80 | J6: 25 | K6: 45 | L6: 50 | M6: 30 | N6: 20 | O6: 10 | P6: 10 | Q6: 30
B7: ='입력표(사립)'!A750 -> 1 | C7: ='입력표(사립)'!B750 -> 00시 | D7: ='입력표(사립)'!C750 -> 00작은도서관 | E7: ='입력표(사립)'!D750 -> 2020.09.14. | F7: ='입력표(사립)'!E750 -> 개인 및 단체 | G7: =IF(H7>=251,"A",IF(H7>=201,"B",IF(H7>=151,"C",IF(H7>=101,"D",IF(H7<101,"E"))))) -> E | H7: =SUM(I7:Q7) -> 0 | I7: =SUM('입력표(사립)'!F750:K750) -> 0 | J7: =SUM('입력표(사립)'!L750:O750) -> 0 | K7: =SUM('입력표(사립)'!P750:U750) -> 0 | L7: =SUM('입력표(사립)'!V750:Y750) -> 0 | M7: =SUM('입력표(사립)'!Z750) -> 0 | N7: =SUM('입력표(사립)'!AA750) -> 0 | O7: =SUM('입력표(사립)'!AB750) -> 0 | P7: =SUM('입력표(사립)'!AC750) -> 0 | Q7: =SUM('입력표(사립)'!AD750) -> 0
B8: ='입력표(사립)'!A751 -> 2 | C8: ='입력표(사립)'!B751 -> 00군 | D8: ='입력표(사립)'!C751 -> 0 | E8: ='입력표(사립)'!D751 -> 0 | F8: ='입력표(사립)'!E751 -> 종교시설 | G8: =IF(H8>=251,"A",IF(H8>=201,"B",IF(H8>=151,"C",IF(H8>=101,"D",IF(H8<101,"E"))))) -> E | H8: =SUM(I8:Q8) -> 0 | I8: =SUM('입력표(사립)'!F751:K751) -> 0 | J8: =SUM('입력표(사립)'!L751:O751) -> 0 | K8: =SUM('입력표(사립)'!P751:U751) -> 0 | L8: =SUM('입력표(사립)'!V751:Y751) -> 0 | M8: =SUM('입력표(사립)'!Z751) -> 0 | N8: =SUM('입력표(사립)'!AA751) -> 0 | O8: =SUM('입력표(사립)'!AB751) -> 0 | P8: =SUM('입력표(사립)'!AC751) -> 0 | Q8: =SUM('입력표(사립)'!AD751) -> 0
B9: ='입력표(사립)'!A752 -> 3 | C9: ='입력표(사립)'!B752 -> 0 | D9: ='입력표(사립)'!C752 -> 0 | E9: ='입력표(사립)'!D752 -> 0 | F9: ='입력표(사립)'!E752 -> 0 | G9: =IF(H9>=251,"A",IF(H9>=201,"B",IF(H9>=151,"C",IF(H9>=101,"D",IF(H9<101,"E"))))) -> E | H9: =SUM(I9:Q9) -> 0 | I9: =SUM('입력표(사립)'!F752:K752) -> 0 | J9: =SUM('입력표(사립)'!L752:O752) -> 0 | K9: =SUM('입력표(사립)'!P752:U752) -> 0 | L9: =SUM('입력표(사립)'!V752:Y752) -> 0 | M9: =SUM('입력표(사립)'!Z752) -> 0 | N9: =SUM('입력표(사립)'!AA752) -> 0 | O9: =SUM('입력표(사립)'!AB752) -> 0 | P9: =SUM('입력표(사립)'!AC752) -> 0 | Q9: =SUM('입력표(사립)'!AD752) -> 0
B10: ='입력표(사립)'!A753 -> 4 | C10: ='입력표(사립)'!B753 -> 0 | D10: ='입력표(사립)'!C753 -> 0 | E10: ='입력표(사립)'!D753 -> 0 | F10: ='입력표(사립)'!E753 -> 0 | G10: =IF(H10>=251,"A",IF(H10>=201,"B",IF(H10>=151,"C",IF(H10>=101,"D",IF(H10<101,"E"))))) -> E | H10: =SUM(I10:Q10) -> 0 | I10: =SUM('입력표(사립)'!F753:K753) -> 0 | J10: =SUM('입력표(사립)'!L753:O753) -> 0 | K10: =SUM('입력표(사립)'!P753:U753) -> 0 | L10: =SUM('입력표(사립)'!V753:Y753) -> 0 | M10: =SUM('입력표(사립)'!Z753) -> 0 | N10: =SUM('입력표(사립)'!AA753) -> 0 | O10: =SUM('입력표(사립)'!AB753) -> 0 | P10: =SUM('입력표(사립)'!AC753) -> 0 | Q10: =SUM('입력표(사립)'!AD753) -> 0
B11: ='입력표(사립)'!A754 -> 5 | C11: ='입력표(사립)'!B754 -> 0 | D11: ='입력표(사립)'!C754 -> 0 | E11: ='입력표(사립)'!D754 -> 0 | F11: ='입력표(사립)'!E754 -> 0 | G11: =IF(H11>=251,"A",IF(H11>=201,"B",IF(H11>=151,"C",IF(H11>=101,"D",IF(H11<101,"E"))))) -> E | H11: =SUM(I11:Q11) -> 0 | I11: =SUM('입력표(사립)'!F754:K754) -> 0 | J11: =SUM('입력표(사립)'!L754:O754) -> 0 | K11: =SUM('입력표(사립)'!P754:U754) -> 0 | L11: =SUM('입력표(사립)'!V754:Y754) -> 0 | M11: =SUM('입력표(사립)'!Z754) -> 0 | N11: =SUM('입력표(사립)'!AA754) -> 0 | O11: =SUM('입력표(사립)'!AB754) -> 0 | P11: =SUM('입력표(사립)'!AC754) -> 0 | Q11: =SUM('입력표(사립)'!AD754) -> 0
B12: ='입력표(사립)'!A755 -> 6 | C12: ='입력표(사립)'!B755 -> 0 | D12: ='입력표(사립)'!C755 -> 0 | E12: ='입력표(사립)'!D755 -> 0 | F12: ='입력표(사립)'!E755 -> 0 | G12: =IF(H12>=251,"A",IF(H12>=201,"B",IF(H12>=151,"C",IF(H12>=101,"D",IF(H12<101,"E"))))) -> E | H12: =SUM(I12:Q12) -> 0 | I12: =SUM('입력표(사립)'!F755:K755) -> 0 | J12: =SUM('입력표(사립)'!L755:O755) -> 0 | K12: =SUM('입력표(사립)'!P755:U755) -> 0 | L12: =SUM('입력표(사립)'!V755:Y755) -> 0 | M12: =SUM('입력표(사립)'!Z755) -> 0 | N12: =SUM('입력표(사립)'!AA755) -> 0 | O12: =SUM('입력표(사립)'!AB755) -> 0 | P12: =SUM('입력표(사립)'!AC755) -> 0 | Q12: =SUM('입력표(사립)'!AD755) -> 0
B13: ='입력표(사립)'!A756 -> 7 | C13: ='입력표(사립)'!B756 -> 0 | D13: ='입력표(사립)'!C756 -> 0 | E13: ='입력표(사립)'!D756 -> 0 | F13: ='입력표(사립)'!E756 -> 0 | G13: =IF(H13>=251,"A",IF(H13>=201,"B",IF(H13>=151,"C",IF(H13>=101,"D",IF(H13<101,"E"))))) -> E | H13: =SUM(I13:Q13) -> 0 | I13: =SUM('입력표(사립)'!F756:K756) -> 0 | J13: =SUM('입력표(사립)'!L756:O756) -> 0 | K13: =SUM('입력표(사립)'!P756:U756) -> 0 | L13: =SUM('입력표(사립)'!V756:Y756) -> 0 | M13: =SUM('입력표(사립)'!Z756) -> 0 | N13: =SUM('입력표(사립)'!AA756) -> 0 | O13: =SUM('입력표(사립)'!AB756) -> 0 | P13: =SUM('입력표(사립)'!AC756) -> 0 | Q13: =SUM('입력표(사립)'!AD756) -> 0
B14: ='입력표(사립)'!A757 -> 8 | C14: ='입력표(사립)'!B757 -> 0 | D14: ='입력표(사립)'!C757 -> 0 | E14: ='입력표(사립)'!D757 -> 0 | F14: ='입력표(사립)'!E757 -> 0 | G14: =IF(H14>=251,"A",IF(H14>=201,"B",IF(H14>=151,"C",IF(H14>=101,"D",IF(H14<101,"E"))))) -> E | H14: =SUM(I14:Q14) -> 0 | I14: =SUM('입력표(사립)'!F757:K757) -> 0 | J14: =SUM('입력표(사립)'!L757:O757) -> 0 | K14: =SUM('입력표(사립)'!P757:U757) -> 0 | L14: =SUM('입력표(사립)'!V757:Y757) -> 0 | M14: =SUM('입력표(사립)'!Z757) -> 0 | N14: =SUM('입력표(사립)'!AA757) -> 0 | O14: =SUM('입력표(사립)'!AB757) -> 0 | P14: =SUM('입력표(사립)'!AC757) -> 0 | Q14: =SUM('입력표(사립)'!AD757) -> 0
B15: ='입력표(사립)'!A758 -> 9 | C15: ='입력표(사립)'!B758 -> 0 | D15: ='입력표(사립)'!C758 -> 0 | E15: ='입력표(사립)'!D758 -> 0 | F15: ='입력표(사립)'!E758 -> 0 | G15: =IF(H15>=251,"A",IF(H15>=201,"B",IF(H15>=151,"C",IF(H15>=101,"D",IF(H15<101,"E"))))) -> E | H15: =SUM(I15:Q15) -> 0 | I15: =SUM('입력표(사립)'!F758:K758) -> 0 | J15: =SUM('입력표(사립)'!L758:O758) -> 0 | K15: =SUM('입력표(사립)'!P758:U758) -> 0 | L15: =SUM('입력표(사립)'!V758:Y758) -> 0 | M15: =SUM('입력표(사립)'!Z758) -> 0 | N15: =SUM('입력표(사립)'!AA758) -> 0 | O15: =SUM('입력표(사립)'!AB758) -> 0 | P15: =SUM('입력표(사립)'!AC758) -> 0 | Q15: =SUM('입력표(사립)'!AD758) -> 0
B16: ='입력표(사립)'!A759 -> 10 | C16: ='입력표(사립)'!B759 -> 0 | D16: ='입력표(사립)'!C759 -> 0 | E16: ='입력표(사립)'!D759 -> 0 | F16: ='입력표(사립)'!E759 -> 0 | G16: =IF(H16>=251,"A",IF(H16>=201,"B",IF(H16>=151,"C",IF(H16>=101,"D",IF(H16<101,"E"))))) -> E | H16: =SUM(I16:Q16) -> 0 | I16: =SUM('입력표(사립)'!F759:K759) -> 0 | J16: =SUM('입력표(사립)'!L759:O759) -> 0 | K16: =SUM('입력표(사립)'!P759:U759) -> 0 | L16: =SUM('입력표(사립)'!V759:Y759) -> 0 | M16: =SUM('입력표(사립)'!Z759) -> 0 | N16: =SUM('입력표(사립)'!AA759) -> 0 | O16: =SUM('입력표(사립)'!AB759) -> 0 | P16: =SUM('입력표(사립)'!AC759) -> 0 | Q16: =SUM('입력표(사립)'!AD759) -> 0
B17: ='입력표(사립)'!A760 -> 11 | C17: ='입력표(사립)'!B760 -> 0 | D17: ='입력표(사립)'!C760 -> 0 | E17: ='입력표(사립)'!D760 -> 0 | F17: ='입력표(사립)'!E760 -> 0 | G17: =IF(H17>=251,"A",IF(H17>=201,"B",IF(H17>=151,"C",IF(H17>=101,"D",IF(H17<101,"E"))))) -> E | H17: =SUM(I17:Q17) -> 0 | I17: =SUM('입력표(사립)'!F760:K760) -> 0 | J17: =SUM('입력표(사립)'!L760:O760) -> 0 | K17: =SUM('입력표(사립)'!P760:U760) -> 0 | L17: =SUM('입력표(사립)'!V760:Y760) -> 0 | M17: =SUM('입력표(사립)'!Z760) -> 0 | N17: =SUM('입력표(사립)'!AA760) -> 0 | O17: =SUM('입력표(사립)'!AB760) -> 0 | P17: =SUM('입력표(사립)'!AC760) -> 0 | Q17: =SUM('입력표(사립)'!AD760) -> 0
B18: ='입력표(사립)'!A761 -> 12 | C18: ='입력표(사립)'!B761 -> 0 | D18: ='입력표(사립)'!C761 -> 0 | E18: ='입력표(사립)'!D761 -> 0 | F18: ='입력표(사립)'!E761 -> 0 | G18: =IF(H18>=251,"A",IF(H18>=201,"B",IF(H18>=151,"C",IF(H18>=101,"D",IF(H18<101,"E"))))) -> E | H18: =SUM(I18:Q18) -> 0 | I18: =SUM('입력표(사립)'!F761:K761) -> 0 | J18: =SUM('입력표(사립)'!L761:O761) -> 0 | K18: =SUM('입력표(사립)'!P761:U761) -> 0 | L18: =SUM('입력표(사립)'!V761:Y761) -> 0 | M18: =SUM('입력표(사립)'!Z761) -> 0 | N18: =SUM('입력표(사립)'!AA761) -> 0 | O18: =SUM('입력표(사립)'!AB761) -> 0 | P18: =SUM('입력표(사립)'!AC761) -> 0 | Q18: =SUM('입력표(사립)'!AD761) -> 0
... B747: ='입력표(사립)'!A1490 -> 741 | C747: ='입력표(사립)'!B1490 -> 0 | D747: ='입력표(사립)'!C1490 -> 0 | E747: ='입력표(사립)'!D1490 -> 0 | F747: ='입력표(사립)'!E1490 -> 0 | G747: =IF(H747>=251,"A",IF(H747>=201,"B",IF(H747>=151,"C",IF(H747>=101,"D",IF(H747<101,"E"))))) -> E | H747: =SUM(I747:Q747) -> 0 | I747: =SUM('입력표(사립)'!F1490:K1490) -> 0 | J747: =SUM('입력표(사립)'!L1490:O1490) -> 0 | K747: =SUM('입력표(사립)'!P1490:U1490) -> 0 | L747: =SUM('입력표(사립)'!V1490:Y1490) -> 0 | M747: =SUM('입력표(사립)'!Z1490) -> 0 | N747: =SUM('입력표(사립)'!AA1490) -> 0 | O747: =SUM('입력표(사립)'!AB1490) -> 0 | P747: =SUM('입력표(사립)'!AC1490) -> 0 | Q747: =SUM('입력표(사립)'!AD1490) -> 0

Sheet 입력표(공립)
A1: 2025년도 공립 작은도서관 평가 결과 입력표 ○ 흰색부분만 입력(점수 자동 계산됨) - (정량) 콤보박스 이용 또는 실적(수치) 입력 / (정성) 점수 입력 ○ 작성 방법(붙임 3 참고)을 준수하여 입력 요청 ○ 입력단위 확인요망 - 금액 입력단위는 반드시 [만원]단위로 입력 (예 : 실제 금액이 160,000원일 경우 16으로 입력)
A3: 작은도서관 현황 | F3: 정량평가 | AA3: 정성평가
A4: 연번 | B4: 시군명 | C4: 작은도서관명 | D4: 등록일 | E4: 운영주체 ※ 콤보박스 이용 입력 | F4: 1. (공립)연간 운영계획 수립 ※ 콤보박스 이용 입력 | G4: 2.개관일수 (1일 4시간 이상) | H4: 3. 개관시간 | I4: 4. 교육 참가 시간 (근무자 총 누적 교육시간) | J4: 5. 자료구입비 | K4: 6. (공립)전담인력의 전문성 | L4: 7. (공립)이용자 만족도 실시 여부 ※ 콤보박스 이용 입력 | M4: 8. (공립)연속간행물 | N4: 9. (공립)도서관리 및 정보검색 ※ 콤보박스 이용 입력 | O4: 10. 연간 장서 수집량 | P4: 11-1. 연간 대출권수 (읍/동 소재 작은도서관) | Q4: 11-2. 연간 대출권수 (면 소재 작은도서관) | R4: 12-1. 연간 이용자 수 (읍/동 소재 작은도서관) | S4: 12-2. 연간 이용자 수 (면 소재 작은도서관) | T4: 13. (공립)상호대차 서비스 실시 ※ 콤보박스 이용 입력 | U4: 14. 독서문화프로그램 수 ※ 없는 경우 0으로 입력 | V4: 15. 독서문화프로그램 실시 횟수 ※ 없는 경우 0으로 입력 | W4: 16. 독서·문화 동아리 구성 ※ 없는 경우 0으로 입력 | X4: 17. 독서·문화 동아리 활동 횟수 | Y4: 18. 도서관운영위원회 구성 ※ 콤보박스 이용 입력 | Z4: 19. 도서관 운영위원회 활동 횟수 | AA4: 1. 독서문화 프로그램 우수성 | AB4: 2. 이용자 중심의 장서구성 | AC4: 3. 작은도서관 홍보 | AD4: 4. 지역사회 교류 | AE4: 5. 도정 협력도
A5: 평가기준 | K5: 인원 수 작성(숫자 입력) ex) 0, 1, 5 | M5: 숫자로 입력 ex) 0, 5, 8 ,10
A6: 1 | B6: 00시 | C6: 00작은도서관 | D6: 2015.11.24. | E6: 지자체 | AH6: 지자체
A7: 2 | E7: 민간위탁 | P7: 15000 | R7: 7000 | T7: 실시 | AH7: 민간위탁
A8: 3
A9: 4
A10: 5 | AI10: 관리자 + 이용자(인터넷 가능)
A11: 6 | AI11: 관리자(도서관리프로그램용)
A12: 7 | AI12: 없음
A13: 8
A14: 9
A15: 10
A16: 11
A17: 12
A18: 13
A19: 14
A20: 15
A21: 16
A22: 17
A23: 18
A24: 19
... A213: 208
A214: 점수환산결과 | AF214: 합계
A217: =A6 -> 1 | B217: =B6 -> 00시 | C217: =C6 -> 00작은도서관 | D217: =D6 -> 2015.11.24. | F217: =IF(F6="수립",10,0) -> 0 | G217: =IF(G6>=6,10,IF(G6=5,5,IF(G6<=4,0))) -> 0 | H217: =IF(H6>=48,10,IF(H6>=40,5,IF(H6<40,0))) -> 0 | I217: =IF(I6>=40,10,IF(I6>=25,8,IF(I6>=15,6,IF(I6>=8,4,IF(I6>=1,2,0))))) -> 0 | J217: =IF(J6>=700,10,IF(J6>=600,8,IF(J6>=500,6,IF(J6>=400,4,IF(J6>=200,2,IF(J6>=50,1,0)))))) -> 0 | K217: =IF(K6>=1,5,0) -> 0 | L217: =IF(L6="실시",10,0) -> 0 | M217: =IF(M6>=8,5,IF(M6>=4,3,IF(M6>=1,1,0))) -> 0 | N217: =IF(N6="관리자 + 이용자(인터넷 가능)",5,IF(N6="관리자(도서관리프로그램용)",3,0)) -> 0 | O217: =IF(O6>=1000,10,IF(O6>=800,8,IF(O6>=600,6,IF(O6>=300,4,IF(O6>=100,2,IF(O6>=1,1,0)))))) -> 0 | P217: =IF(P6>=15000,15,IF(P6>=12000,12,IF(P6>=8000,9,IF(P6>=5000,6,IF(P6>=2000,3,IF(P6>=100,1,0)))))) -> 0 | Q217: =IF(Q6>=8000,15,IF(Q6>=6000,12,IF(Q6>=4000,9,IF(Q6>=2000,6,IF(Q6>=1000,3,IF(Q6>=50,1,0)))))) -> 0 | R217: =IF(R6>=7000,10,IF(R6>=5000,8,IF(R6>=3000,6,IF(R6>=1000,4,IF(R6>=500,2,0))))) -> 0 | S217: =IF(S6>=6000,10,IF(S6>=4500,8,IF(S6>=2500,6,IF(S6>=1000,4,IF(S6>=500,2,0))))) -> 0 | T217: =IF(T6="실시",10,0) -> 0 | U217: =IF(U6>=16,15,IF(U6>=11,12,IF(U6>=6,9,IF(U6>=1,6,0)))) -> 0 | V217: =IF(V6>=60,15,IF(V6>=45,12,IF(V6>=30,10,IF(V6>=15,8,IF(V6>=1,6,0))))) -> 0 | W217: =IF(W6>=3,10,IF(W6>=2,7,IF(W6>=1,4,0))) -> 0 | X217: =IF(X6>=25,15,IF(X6>=18,12,IF(X6>=12,9,IF(X6>=6,6,IF(X6>=3,3,IF(X6>=1,1,0)))))) -> 0 | Y217: =IF(Y6="구성",15,0) -> 0 | Z217: =IF(Z6>=5,10,IF(Z6>=4,8,IF(Z6>=3,6,IF(Z6>=2,4,IF(Z6>=1,2,0))))) -> 0 | AA217: =AA6 -> 0 | AB217: =AB6 -> 0 | AC217: =AC6 -> 0 | AD217: =AD6 -> 0 | AE217: =AE6 -> 0 | AF217: =SUM(F217:AE217) -> 0
A218: =A7 -> 2 | B218: =B7 -> 0 | C218: =C7 -> 0 | D218: =D7 -> 0 | F218: =IF(F7="수립",10,0) -> 0 | G218: =IF(G7>=6,10,IF(G7=5,5,IF(G7<=4,0))) -> 0 | H218: =IF(H7>=48,10,IF(H7>=40,5,IF(H7<40,0))) -> 0 | I218: =IF(I7>=40,10,IF(I7>=25,8,IF(I7>=15,6,IF(I7>=8,4,IF(I7>=1,2,0))))) -> 0 | J218: =IF(J7>=700,10,IF(J7>=600,8,IF(J7>=500,6,IF(J7>=400,4,IF(J7>=200,2,IF(J7>=50,1,0)))))) -> 0 | K218: =IF(K7>=1,5,0) -> 0 | L218: =IF(L7="실시",10,0) -> 0 | M218: =IF(M7>=8,5,IF(M7>=4,3,IF(M7>=1,1,0))) -> 0 | N218: =IF(N7="관리자 + 이용자(인터넷 가능)",5,IF(N7="관리자(도서관리프로그램용)",3,0)) -> 0 | O218: =IF(O7>=1000,10,IF(O7>=800,8,IF(O7>=600,6,IF(O7>=300,4,IF(O7>=100,2,IF(O7>=1,1,0)))))) -> 0 | P218: =IF(P7>=15000,15,IF(P7>=12000,12,IF(P7>=8000,9,IF(P7>=5000,6,IF(P7>=2000,3,IF(P7>=100,1,0)))))) -> 15 | Q218: =IF(Q7>=8000,15,IF(Q7>=6000,12,IF(Q7>=4000,9,IF(Q7>=2000,6,IF(Q7>=1000,3,IF(Q7>=50,1,0)))))) -> 0 | R218: =IF(R7>=7000,10,IF(R7>=5000,8,IF(R7>=3000,6,IF(R7>=1000,4,IF(R7>=500,2,0))))) -> 10 | S218: =IF(S7>=6000,10,IF(S7>=4500,8,IF(S7>=2500,6,IF(S7>=1000,4,IF(S7>=500,2,0))))) -> 0 | T218: =IF(T7="실시",10,0) -> 10 | U218: =IF(U7>=16,15,IF(U7>=11,12,IF(U7>=6,9,IF(U7>=1,6,0)))) -> 0 | V218: =IF(V7>=60,15,IF(V7>=45,12,IF(V7>=30,10,IF(V7>=15,8,IF(V7>=1,6,0))))) -> 0 | W218: =IF(W7>=3,10,IF(W7>=2,7,IF(W7>=1,4,0))) -> 0 | X218: =IF(X7>=25,15,IF(X7>=18,12,IF(X7>=12,9,IF(X7>=6,6,IF(X7>=3,3,IF(X7>=1,1,0)))))) -> 0 | Y218: =IF(Y7="구성",15,0) -> 0 | Z218: =IF(Z7>=5,10,IF(Z7>=4,8,IF(Z7>=3,6,IF(Z7>=2,4,IF(Z7>=1,2,0))))) -> 0 | AA218: =AA7 -> 0 | AB218: =AB7 -> 0 | AC218: =AC7 -> 0 | AD218: =AD7 -> 0 | AE218: =AE7 -> 0 | AF218: =SUM(F218:AE218) -> 35
A219: =A8 -> 3 | B219: =B8 -> 0 | C219: =C8 -> 0 | D219: =D8 -> 0 | F219: =IF(F8="수립",10,0) -> 0 | G219: =IF(G8>=6,10,IF(G8=5,5,IF(G8<=4,0))) -> 0 | H219: =IF(H8>=48,10,IF(H8>=40,5,IF(H8<40,0))) -> 0 | I219: =IF(I8>=40,10,IF(I8>=25,8,IF(I8>=15,6,IF(I8>=8,4,IF(I8>=1,2,0))))) -> 0 | J219: =IF(J8>=700,10,IF(J8>=600,8,IF(J8>=500,6,IF(J8>=400,4,IF(J8>=200,2,IF(J8>=50,1,0)))))) -> 0 | K219: =IF(K8>=1,5,0) -> 0 | L219: =IF(L8="실시",10,0) -> 0 | M219: =IF(M8>=8,5,IF(M8>=4,3,IF(M8>=1,1,0))) -> 0 | N219: =IF(N8="관리자 + 이용자(인터넷 가능)",5,IF(N8="관리자(도서관리프로그램용)",3,0)) -> 0 | O219: =IF(O8>=1000,10,IF(O8>=800,8,IF(O8>=600,6,IF(O8>=300,4,IF(O8>=100,2,IF(O8>=1,1,0)))))) -> 0 | P219: =IF(P8>=15000,15,IF(P8>=12000,12,IF(P8>=8000,9,IF(P8>=5000,6,IF(P8>=2000,3,IF(P8>=100,1,0)))))) -> 0 | Q219: =IF(Q8>=8000,15,IF(Q8>=6000,12,IF(Q8>=4000,9,IF(Q8>=2000,6,IF(Q8>=1000,3,IF(Q8>=50,1,0)))))) -> 0 | R219: =IF(R8>=7000,10,IF(R8>=5000,8,IF(R8>=3000,6,IF(R8>=1000,4,IF(R8>=500,2,0))))) -> 0 | S219: =IF(S8>=6000,10,IF(S8>=4500,8,IF(S8>=2500,6,IF(S8>=1000,4,IF(S8>=500,2,0))))) -> 0 | T219: =IF(T8="실시",10,0) -> 0 | U219: =IF(U8>=16,15,IF(U8>=11,12,IF(U8>=6,9,IF(U8>=1,6,0)))) -> 0 | V219: =IF(V8>=60,15,IF(V8>=45,12,IF(V8>=30,10,IF(V8>=15,8,IF(V8>=1,6,0))))) -> 0 | W219: =IF(W8>=3,10,IF(W8>=2,7,IF(W8>=1,4,0))) -> 0 | X219: =IF(X8>=25,15,IF(X8>=18,12,IF(X8>=12,9,IF(X8>=6,6,IF(X8>=3,3,IF(X8>=1,1,0)))))) -> 0 | Y219: =IF(Y8="구성",15,0) -> 0 | Z219: =IF(Z8>=5,10,IF(Z8>=4,8,IF(Z8>=3,6,IF(Z8>=2,4,IF(Z8>=1,2,0))))) -> 0 | AA219: =AA8 -> 0 | AB219: =AB8 -> 0 | AC219: =AC8 -> 0 | AD219: =AD8 -> 0 | AE219: =AE8 -> 0 | AF219: =SUM(F219:AE219) -> 0
A220: =A9 -> 4 | B220: =B9 -> 0 | C220: =C9 -> 0 | D220: =D9 -> 0 | F220: =IF(F9="수립",10,0) -> 0 | G220: =IF(G9>=6,10,IF(G9=5,5,IF(G9<=4,0))) -> 0 | H220: =IF(H9>=48,10,IF(H9>=40,5,IF(H9<40,0))) -> 0 | I220: =IF(I9>=40,10,IF(I9>=25,8,IF(I9>=15,6,IF(I9>=8,4,IF(I9>=1,2,0))))) -> 0 | J220: =IF(J9>=700,10,IF(J9>=600,8,IF(J9>=500,6,IF(J9>=400,4,IF(J9>=200,2,IF(J9>=50,1,0)))))) -> 0 | K220: =IF(K9>=1,5,0) -> 0 | L220: =IF(L9="실시",10,0) -> 0 | M220: =IF(M9>=8,5,IF(M9>=4,3,IF(M9>=1,1,0))) -> 0 | N220: =IF(N9="관리자 + 이용자(인터넷 가능)",5,IF(N9="관리자(도서관리프로그램용)",3,0)) -> 0 | O220: =IF(O9>=1000,10,IF(O9>=800,8,IF(O9>=600,6,IF(O9>=300,4,IF(O9>=100,2,IF(O9>=1,1,0)))))) -> 0 | P220: =IF(P9>=15000,15,IF(P9>=12000,12,IF(P9>=8000,9,IF(P9>=5000,6,IF(P9>=2000,3,IF(P9>=100,1,0)))))) -> 0 | Q220: =IF(Q9>=8000,15,IF(Q9>=6000,12,IF(Q9>=4000,9,IF(Q9>=2000,6,IF(Q9>=1000,3,IF(Q9>=50,1,0)))))) -> 0 | R220: =IF(R9>=7000,10,IF(R9>=5000,8,IF(R9>=3000,6,IF(R9>=1000,4,IF(R9>=500,2,0))))) -> 0 | S220: =IF(S9>=6000,10,IF(S9>=4500,8,IF(S9>=2500,6,IF(S9>=1000,4,IF(S9>=500,2,0))))) -> 0 | T220: =IF(T9="실시",10,0) -> 0 | U220: =IF(U9>=16,15,IF(U9>=11,12,IF(U9>=6,9,IF(U9>=1,6,0)))) -> 0 | V220: =IF(V9>=60,15,IF(V9>=45,12,IF(V9>=30,10,IF(V9>=15,8,IF(V9>=1,6,0))))) -> 0 | W220: =IF(W9>=3,10,IF(W9>=2,7,IF(W9>=1,4,0))) -> 0 | X220: =IF(X9>=25,15,IF(X9>=18,12,IF(X9>=12,9,IF(X9>=6,6,IF(X9>=3,3,IF(X9>=1,1,0)))))) -> 0 | Y220: =IF(Y9="구성",15,0) -> 0 | Z220: =IF(Z9>=5,10,IF(Z9>=4,8,IF(Z9>=3,6,IF(Z9>=2,4,IF(Z9>=1,2,0))))) -> 0 | AA220: =AA9 -> 0 | AB220: =AB9 -> 0 | AC220: =AC9 -> 0 | AD220: =AD9 -> 0 | AE220: =AE9 -> 0 | AF220: =SUM(F220:AE220) -> 0
A221: =A10 -> 5 | B221: =B10 -> 0 | C221: =C10 -> 0 | D221: =D10 -> 0 | F221: =IF(F10="수립",10,0) -> 0 | G221: =IF(G10>=6,10,IF(G10=5,5,IF(G10<=4,0))) -> 0 | H221: =IF(H10>=48,10,IF(H10>=40,5,IF(H10<40,0))) -> 0 | I221: =IF(I10>=40,10,IF(I10>=25,8,IF(I10>=15,6,IF(I10>=8,4,IF(I10>=1,2,0))))) -> 0 | J221: =IF(J10>=700,10,IF(J10>=600,8,IF(J10>=500,6,IF(J10>=400,4,IF(J10>=200,2,IF(J10>=50,1,0)))))) -> 0 | K221: =IF(K10>=1,5,0) -> 0 | L221: =IF(L10="실시",10,0) -> 0 | M221: =IF(M10>=8,5,IF(M10>=4,3,IF(M10>=1,1,0))) -> 0 | N221: =IF(N10="관리자 + 이용자(인터넷 가능)",5,IF(N10="관리자(도서관리프로그램용)",3,0)) -> 0 | O221: =IF(O10>=1000,10,IF(O10>=800,8,IF(O10>=600,6,IF(O10>=300,4,IF(O10>=100,2,IF(O10>=1,1,0)))))) -> 0 | P221: =IF(P10>=15000,15,IF(P10>=12000,12,IF(P10>=8000,9,IF(P10>=5000,6,IF(P10>=2000,3,IF(P10>=100,1,0)))))) -> 0 | Q221: =IF(Q10>=8000,15,IF(Q10>=6000,12,IF(Q10>=4000,9,IF(Q10>=2000,6,IF(Q10>=1000,3,IF(Q10>=50,1,0)))))) -> 0 | R221: =IF(R10>=7000,10,IF(R10>=5000,8,IF(R10>=3000,6,IF(R10>=1000,4,IF(R10>=500,2,0))))) -> 0 | S221: =IF(S10>=6000,10,IF(S10>=4500,8,IF(S10>=2500,6,IF(S10>=1000,4,IF(S10>=500,2,0))))) -> 0 | T221: =IF(T10="실시",10,0) -> 0 | U221: =IF(U10>=16,15,IF(U10>=11,12,IF(U10>=6,9,IF(U10>=1,6,0)))) -> 0 | V221: =IF(V10>=60,15,IF(V10>=45,12,IF(V10>=30,10,IF(V10>=15,8,IF(V10>=1,6,0))))) -> 0 | W221: =IF(W10>=3,10,IF(W10>=2,7,IF(W10>=1,4,0))) -> 0 | X221: =IF(X10>=25,15,IF(X10>=18,12,IF(X10>=12,9,IF(X10>=6,6,IF(X10>=3,3,IF(X10>=1,1,0)))))) -> 0 | Y221: =IF(Y10="구성",15,0) -> 0 | Z221: =IF(Z10>=5,10,IF(Z10>=4,8,IF(Z10>=3,6,IF(Z10>=2,4,IF(Z10>=1,2,0))))) -> 0 | AA221: =AA10 -> 0 | AB221: =AB10 -> 0 | AC221: =AC10 -> 0 | AD221: =AD10 -> 0 | AE221: =AE10 -> 0 | AF221: =SUM(F221:AE221) -> 0
A222: =A11 -> 6 | B222: =B11 -> 0 | C222: =C11 -> 0 | D222: =D11 -> 0 | F222: =IF(F11="수립",10,0) -> 0 | G222: =IF(G11>=6,10,IF(G11=5,5,IF(G11<=4,0))) -> 0 | H222: =IF(H11>=48,10,IF(H11>=40,5,IF(H11<40,0))) -> 0 | I222: =IF(I11>=40,10,IF(I11>=25,8,IF(I11>=15,6,IF(I11>=8,4,IF(I11>=1,2,0))))) -> 0 | J222: =IF(J11>=700,10,IF(J11>=600,8,IF(J11>=500,6,IF(J11>=400,4,IF(J11>=200,2,IF(J11>=50,1,0)))))) -> 0 | K222: =IF(K11>=1,5,0) -> 0 | L222: =IF(L11="실시",10,0) -> 0 | M222: =IF(M11>=8,5,IF(M11>=4,3,IF(M11>=1,1,0))) -> 0 | N222: =IF(N11="관리자 + 이용자(인터넷 가능)",5,IF(N11="관리자(도서관리프로그램용)",3,0)) -> 0 | O222: =IF(O11>=1000,10,IF(O11>=800,8,IF(O11>=600,6,IF(O11>=300,4,IF(O11>=100,2,IF(O11>=1,1,0)))))) -> 0 | P222: =IF(P11>=15000,15,IF(P11>=12000,12,IF(P11>=8000,9,IF(P11>=5000,6,IF(P11>=2000,3,IF(P11>=100,1,0)))))) -> 0 | Q222: =IF(Q11>=8000,15,IF(Q11>=6000,12,IF(Q11>=4000,9,IF(Q11>=2000,6,IF(Q11>=1000,3,IF(Q11>=50,1,0)))))) -> 0 | R222: =IF(R11>=7000,10,IF(R11>=5000,8,IF(R11>=3000,6,IF(R11>=1000,4,IF(R11>=500,2,0))))) -> 0 | S222: =IF(S11>=6000,10,IF(S11>=4500,8,IF(S11>=2500,6,IF(S11>=1000,4,IF(S11>=500,2,0))))) -> 0 | T222: =IF(T11="실시",10,0) -> 0 | U222: =IF(U11>=16,15,IF(U11>=11,12,IF(U11>=6,9,IF(U11>=1,6,0)))) -> 0 | V222: =IF(V11>=60,15,IF(V11>=45,12,IF(V11>=30,10,IF(V11>=15,8,IF(V11>=1,6,0))))) -> 0 | W222: =IF(W11>=3,10,IF(W11>=2,7,IF(W11>=1,4,0))) -> 0 | X222: =IF(X11>=25,15,IF(X11>=18,12,IF(X11>=12,9,IF(X11>=6,6,IF(X11>=3,3,IF(X11>=1,1,0)))))) -> 0 | Y222: =IF(Y11="구성",15,0) -> 0 | Z222: =IF(Z11>=5,10,IF(Z11>=4,8,IF(Z11>=3,6,IF(Z11>=2,4,IF(Z11>=1,2,0))))) -> 0 | AA222: =AA11 -> 0 | AB222: =AB11 -> 0 | AC222: =AC11 -> 0 | AD222: =AD11 -> 0 | AE222: =AE11 -> 0 | AF222: =SUM(F222:AE222) -> 0
A223: =A12 -> 7 | B223: =B12 -> 0 | C223: =C12 -> 0 | D223: =D12 -> 0 | F223: =IF(F12="수립",10,0) -> 0 | G223: =IF(G12>=6,10,IF(G12=5,5,IF(G12<=4,0))) -> 0 | H223: =IF(H12>=48,10,IF(H12>=40,5,IF(H12<40,0))) -> 0 | I223: =IF(I12>=40,10,IF(I12>=25,8,IF(I12>=15,6,IF(I12>=8,4,IF(I12>=1,2,0))))) -> 0 | J223: =IF(J12>=700,10,IF(J12>=600,8,IF(J12>=500,6,IF(J12>=400,4,IF(J12>=200,2,IF(J12>=50,1,0)))))) -> 0 | K223: =IF(K12>=1,5,0) -> 0 | L223: =IF(L12="실시",10,0) -> 0 | M223: =IF(M12>=8,5,IF(M12>=4,3,IF(M12>=1,1,0))) -> 0 | N223: =IF(N12="관리자 + 이용자(인터넷 가능)",5,IF(N12="관리자(도서관리프로그램용)",3,0)) -> 0 | O223: =IF(O12>=1000,10,IF(O12>=800,8,IF(O12>=600,6,IF(O12>=300,4,IF(O12>=100,2,IF(O12>=1,1,0)))))) -> 0 | P223: =IF(P12>=15000,15,IF(P12>=12000,12,IF(P12>=8000,9,IF(P12>=5000,6,IF(P12>=2000,3,IF(P12>=100,1,0)))))) -> 0 | Q223: =IF(Q12>=8000,15,IF(Q12>=6000,12,IF(Q12>=4000,9,IF(Q12>=2000,6,IF(Q12>=1000,3,IF(Q12>=50,1,0)))))) -> 0 | R223: =IF(R12>=7000,10,IF(R12>=5000,8,IF(R12>=3000,6,IF(R12>=1000,4,IF(R12>=500,2,0))))) -> 0 | S223: =IF(S12>=6000,10,IF(S12>=4500,8,IF(S12>=2500,6,IF(S12>=1000,4,IF(S12>=500,2,0))))) -> 0 | T223: =IF(T12="실시",10,0) -> 0 | U223: =IF(U12>=16,15,IF(U12>=11,12,IF(U12>=6,9,IF(U12>=1,6,0)))) -> 0 | V223: =IF(V12>=60,15,IF(V12>=45,12,IF(V12>=30,10,IF(V12>=15,8,IF(V12>=1,6,0))))) -> 0 | W223: =IF(W12>=3,10,IF(W12>=2,7,IF(W12>=1,4,0))) -> 0 | X223: =IF(X12>=25,15,IF(X12>=18,12,IF(X12>=12,9,IF(X12>=6,6,IF(X12>=3,3,IF(X12>=1,1,0)))))) -> 0 | Y223: =IF(Y12="구성",15,0) -> 0 | Z223: =IF(Z12>=5,10,IF(Z12>=4,8,IF(Z12>=3,6,IF(Z12>=2,4,IF(Z12>=1,2,0))))) -> 0 | AA223: =AA12 -> 0 | AB223: =AB12 -> 0 | AC223: =AC12 -> 0 | AD223: =AD12 -> 0 | AE223: =AE12 -> 0 | AF223: =SUM(F223:AE223) -> 0
A224: =A13 -> 8 | B224: =B13 -> 0 | C224: =C13 -> 0 | D224: =D13 -> 0 | F224: =IF(F13="수립",10,0) -> 0 | G224: =IF(G13>=6,10,IF(G13=5,5,IF(G13<=4,0))) -> 0 | H224: =IF(H13>=48,10,IF(H13>=40,5,IF(H13<40,0))) -> 0 | I224: =IF(I13>=40,10,IF(I13>=25,8,IF(I13>=15,6,IF(I13>=8,4,IF(I13>=1,2,0))))) -> 0 | J224: =IF(J13>=700,10,IF(J13>=600,8,IF(J13>=500,6,IF(J13>=400,4,IF(J13>=200,2,IF(J13>=50,1,0)))))) -> 0 | K224: =IF(K13>=1,5,0) -> 0 | L224: =IF(L13="실시",10,0) -> 0 | M224: =IF(M13>=8,5,IF(M13>=4,3,IF(M13>=1,1,0))) -> 0 | N224: =IF(N13="관리자 + 이용자(인터넷 가능)",5,IF(N13="관리자(도서관리프로그램용)",3,0)) -> 0 | O224: =IF(O13>=1000,10,IF(O13>=800,8,IF(O13>=600,6,IF(O13>=300,4,IF(O13>=100,2,IF(O13>=1,1,0)))))) -> 0 | P224: =IF(P13>=15000,15,IF(P13>=12000,12,IF(P13>=8000,9,IF(P13>=5000,6,IF(P13>=2000,3,IF(P13>=100,1,0)))))) -> 0 | Q224: =IF(Q13>=8000,15,IF(Q13>=6000,12,IF(Q13>=4000,9,IF(Q13>=2000,6,IF(Q13>=1000,3,IF(Q13>=50,1,0)))))) -> 0 | R224: =IF(R13>=7000,10,IF(R13>=5000,8,IF(R13>=3000,6,IF(R13>=1000,4,IF(R13>=500,2,0))))) -> 0 | S224: =IF(S13>=6000,10,IF(S13>=4500,8,IF(S13>=2500,6,IF(S13>=1000,4,IF(S13>=500,2,0))))) -> 0 | T224: =IF(T13="실시",10,0) -> 0 | U224: =IF(U13>=16,15,IF(U13>=11,12,IF(U13>=6,9,IF(U13>=1,6,0)))) -> 0 | V224: =IF(V13>=60,15,IF(V13>=45,12,IF(V13>=30,10,IF(V13>=15,8,IF(V13>=1,6,0))))) -> 0 | W224: =IF(W13>=3,10,IF(W13>=2,7,IF(W13>=1,4,0))) -> 0 | X224: =IF(X13>=25,15,IF(X13>=18,12,IF(X13>=12,9,IF(X13>=6,6,IF(X13>=3,3,IF(X13>=1,1,0)))))) -> 0 | Y224: =IF(Y13="구성",15,0) -> 0 | Z224: =IF(Z13>=5,10,IF(Z13>=4,8,IF(Z13>=3,6,IF(Z13>=2,4,IF(Z13>=1,2,0))))) -> 0 | AA224: =AA13 -> 0 | AB224: =AB13 -> 0 | AC224: =AC13 -> 0 | AD224: =AD13 -> 0 | AE224: =AE13 -> 0 | AF224: =SUM(F224:AE224) -> 0
A225: =A14 -> 9 | B225: =B14 -> 0 | C225: =C14 -> 0 | D225: =D14 -> 0 | F225: =IF(F14="수립",10,0) -> 0 | G225: =IF(G14>=6,10,IF(G14=5,5,IF(G14<=4,0))) -> 0 | H225: =IF(H14>=48,10,IF(H14>=40,5,IF(H14<40,0))) -> 0 | I225: =IF(I14>=40,10,IF(I14>=25,8,IF(I14>=15,6,IF(I14>=8,4,IF(I14>=1,2,0))))) -> 0 | J225: =IF(J14>=700,10,IF(J14>=600,8,IF(J14>=500,6,IF(J14>=400,4,IF(J14>=200,2,IF(J14>=50,1,0)))))) -> 0 | K225: =IF(K14>=1,5,0) -> 0 | L225: =IF(L14="실시",10,0) -> 0 | M225: =IF(M14>=8,5,IF(M14>=4,3,IF(M14>=1,1,0))) -> 0 | N225: =IF(N14="관리자 + 이용자(인터넷 가능)",5,IF(N14="관리자(도서관리프로그램용)",3,0)) -> 0 | O225: =IF(O14>=1000,10,IF(O14>=800,8,IF(O14>=600,6,IF(O14>=300,4,IF(O14>=100,2,IF(O14>=1,1,0)))))) -> 0 | P225: =IF(P14>=15000,15,IF(P14>=12000,12,IF(P14>=8000,9,IF(P14>=5000,6,IF(P14>=2000,3,IF(P14>=100,1,0)))))) -> 0 | Q225: =IF(Q14>=8000,15,IF(Q14>=6000,12,IF(Q14>=4000,9,IF(Q14>=2000,6,IF(Q14>=1000,3,IF(Q14>=50,1,0)))))) -> 0 | R225: =IF(R14>=7000,10,IF(R14>=5000,8,IF(R14>=3000,6,IF(R14>=1000,4,IF(R14>=500,2,0))))) -> 0 | S225: =IF(S14>=6000,10,IF(S14>=4500,8,IF(S14>=2500,6,IF(S14>=1000,4,IF(S14>=500,2,0))))) -> 0 | T225: =IF(T14="실시",10,0) -> 0 | U225: =IF(U14>=16,15,IF(U14>=11,12,IF(U14>=6,9,IF(U14>=1,6,0)))) -> 0 | V225: =IF(V14>=60,15,IF(V14>=45,12,IF(V14>=30,10,IF(V14>=15,8,IF(V14>=1,6,0))))) -> 0 | W225: =IF(W14>=3,10,IF(W14>=2,7,IF(W14>=1,4,0))) -> 0 | X225: =IF(X14>=25,15,IF(X14>=18,12,IF(X14>=12,9,IF(X14>=6,6,IF(X14>=3,3,IF(X14>=1,1,0)))))) -> 0 | Y225: =IF(Y14="구성",15,0) -> 0 | Z225: =IF(Z14>=5,10,IF(Z14>=4,8,IF(Z14>=3,6,IF(Z14>=2,4,IF(Z14>=1,2,0))))) -> 0 | AA225: =AA14 -> 0 | AB225: =AB14 -> 0 | AC225: =AC14 -> 0 | AD225: =AD14 -> 0 | AE225: =AE14 -> 0 | AF225: =SUM(F225:AE225) -> 0
A226: =A15 -> 10 | B226: =B15 -> 0 | C226: =C15 -> 0 | D226: =D15 -> 0 | F226: =IF(F15="수립",10,0) -> 0 | G226: =IF(G15>=6,10,IF(G15=5,5,IF(G15<=4,0))) -> 0 | H226: =IF(H15>=48,10,IF(H15>=40,5,IF(H15<40,0))) -> 0 | I226: =IF(I15>=40,10,IF(I15>=25,8,IF(I15>=15,6,IF(I15>=8,4,IF(I15>=1,2,0))))) -> 0 | J226: =IF(J15>=700,10,IF(J15>=600,8,IF(J15>=500,6,IF(J15>=400,4,IF(J15>=200,2,IF(J15>=50,1,0)))))) -> 0 | K226: =IF(K15>=1,5,0) -> 0 | L226: =IF(L15="실시",10,0) -> 0 | M226: =IF(M15>=8,5,IF(M15>=4,3,IF(M15>=1,1,0))) -> 0 | N226: =IF(N15="관리자 + 이용자(인터넷 가능)",5,IF(N15="관리자(도서관리프로그램용)",3,0)) -> 0 | O226: =IF(O15>=1000,10,IF(O15>=800,8,IF(O15>=600,6,IF(O15>=300,4,IF(O15>=100,2,IF(O15>=1,1,0)))))) -> 0 | P226: =IF(P15>=15000,15,IF(P15>=12000,12,IF(P15>=8000,9,IF(P15>=5000,6,IF(P15>=2000,3,IF(P15>=100,1,0)))))) -> 0 | Q226: =IF(Q15>=8000,15,IF(Q15>=6000,12,IF(Q15>=4000,9,IF(Q15>=2000,6,IF(Q15>=1000,3,IF(Q15>=50,1,0)))))) -> 0 | R226: =IF(R15>=7000,10,IF(R15>=5000,8,IF(R15>=3000,6,IF(R15>=1000,4,IF(R15>=500,2,0))))) -> 0 | S226: =IF(S15>=6000,10,IF(S15>=4500,8,IF(S15>=2500,6,IF(S15>=1000,4,IF(S15>=500,2,0))))) -> 0 | T226: =IF(T15="실시",10,0) -> 0 | U226: =IF(U15>=16,15,IF(U15>=11,12,IF(U15>=6,9,IF(U15>=1,6,0)))) -> 0 | V226: =IF(V15>=60,15,IF(V15>=45,12,IF(V15>=30,10,IF(V15>=15,8,IF(V15>=1,6,0))))) -> 0 | W226: =IF(W15>=3,10,IF(W15>=2,7,IF(W15>=1,4,0))) -> 0 | X226: =IF(X15>=25,15,IF(X15>=18,12,IF(X15>=12,9,IF(X15>=6,6,IF(X15>=3,3,IF(X15>=1,1,0)))))) -> 0 | Y226: =IF(Y15="구성",15,0) -> 0 | Z226: =IF(Z15>=5,10,IF(Z15>=4,8,IF(Z15>=3,6,IF(Z15>=2,4,IF(Z15>=1,2,0))))) -> 0 | AA226: =AA15 -> 0 | AB226: =AB15 -> 0 | AC226: =AC15 -> 0 | AD226: =AD15 -> 0 | AE226: =AE15 -> 0 | AF226: =SUM(F226:AE226) -> 0
A227: =A16 -> 11 | B227: =B16 -> 0 | C227: =C16 -> 0 | D227: =D16 -> 0 | F227: =IF(F16="수립",10,0) -> 0 | G227: =IF(G16>=6,10,IF(G16=5,5,IF(G16<=4,0))) -> 0 | H227: =IF(H16>=48,10,IF(H16>=40,5,IF(H16<40,0))) -> 0 | I227: =IF(I16>=40,10,IF(I16>=25,8,IF(I16>=15,6,IF(I16>=8,4,IF(I16>=1,2,0))))) -> 0 | J227: =IF(J16>=700,10,IF(J16>=600,8,IF(J16>=500,6,IF(J16>=400,4,IF(J16>=200,2,IF(J16>=50,1,0)))))) -> 0 | K227: =IF(K16>=1,5,0) -> 0 | L227: =IF(L16="실시",10,0) -> 0 | M227: =IF(M16>=8,5,IF(M16>=4,3,IF(M16>=1,1,0))) -> 0 | N227: =IF(N16="관리자 + 이용자(인터넷 가능)",5,IF(N16="관리자(도서관리프로그램용)",3,0)) -> 0 | O227: =IF(O16>=1000,10,IF(O16>=800,8,IF(O16>=600,6,IF(O16>=300,4,IF(O16>=100,2,IF(O16>=1,1,0)))))) -> 0 | P227: =IF(P16>=15000,15,IF(P16>=12000,12,IF(P16>=8000,9,IF(P16>=5000,6,IF(P16>=2000,3,IF(P16>=100,1,0)))))) -> 0 | Q227: =IF(Q16>=8000,15,IF(Q16>=6000,12,IF(Q16>=4000,9,IF(Q16>=2000,6,IF(Q16>=1000,3,IF(Q16>=50,1,0)))))) -> 0 | R227: =IF(R16>=7000,10,IF(R16>=5000,8,IF(R16>=3000,6,IF(R16>=1000,4,IF(R16>=500,2,0))))) -> 0 | S227: =IF(S16>=6000,10,IF(S16>=4500,8,IF(S16>=2500,6,IF(S16>=1000,4,IF(S16>=500,2,0))))) -> 0 | T227: =IF(T16="실시",10,0) -> 0 | U227: =IF(U16>=16,15,IF(U16>=11,12,IF(U16>=6,9,IF(U16>=1,6,0)))) -> 0 | V227: =IF(V16>=60,15,IF(V16>=45,12,IF(V16>=30,10,IF(V16>=15,8,IF(V16>=1,6,0))))) -> 0 | W227: =IF(W16>=3,10,IF(W16>=2,7,IF(W16>=1,4,0))) -> 0 | X227: =IF(X16>=25,15,IF(X16>=18,12,IF(X16>=12,9,IF(X16>=6,6,IF(X16>=3,3,IF(X16>=1,1,0)))))) -> 0 | Y227: =IF(Y16="구성",15,0) -> 0 | Z227: =IF(Z16>=5,10,IF(Z16>=4,8,IF(Z16>=3,6,IF(Z16>=2,4,IF(Z16>=1,2,0))))) -> 0 | AA227: =AA16 -> 0 | AB227: =AB16 -> 0 | AC227: =AC16 -> 0 | AD227: =AD16 -> 0 | AE227: =AE16 -> 0 | AF227: =SUM(F227:AE227) -> 0
A228: =A17 -> 12 | B228: =B17 -> 0 | C228: =C17 -> 0 | D228: =D17 -> 0 | F228: =IF(F17="수립",10,0) -> 0 | G228: =IF(G17>=6,10,IF(G17=5,5,IF(G17<=4,0))) -> 0 | H228: =IF(H17>=48,10,IF(H17>=40,5,IF(H17<40,0))) -> 0 | I228: =IF(I17>=40,10,IF(I17>=25,8,IF(I17>=15,6,IF(I17>=8,4,IF(I17>=1,2,0))))) -> 0 | J228: =IF(J17>=700,10,IF(J17>=600,8,IF(J17>=500,6,IF(J17>=400,4,IF(J17>=200,2,IF(J17>=50,1,0)))))) -> 0 | K228: =IF(K17>=1,5,0) -> 0 | L228: =IF(L17="실시",10,0) -> 0 | M228: =IF(M17>=8,5,IF(M17>=4,3,IF(M17>=1,1,0))) -> 0 | N228: =IF(N17="관리자 + 이용자(인터넷 가능)",5,IF(N17="관리자(도서관리프로그램용)",3,0)) -> 0 | O228: =IF(O17>=1000,10,IF(O17>=800,8,IF(O17>=600,6,IF(O17>=300,4,IF(O17>=100,2,IF(O17>=1,1,0)))))) -> 0 | P228: =IF(P17>=15000,15,IF(P17>=12000,12,IF(P17>=8000,9,IF(P17>=5000,6,IF(P17>=2000,3,IF(P17>=100,1,0)))))) -> 0 | Q228: =IF(Q17>=8000,15,IF(Q17>=6000,12,IF(Q17>=4000,9,IF(Q17>=2000,6,IF(Q17>=1000,3,IF(Q17>=50,1,0)))))) -> 0 | R228: =IF(R17>=7000,10,IF(R17>=5000,8,IF(R17>=3000,6,IF(R17>=1000,4,IF(R17>=500,2,0))))) -> 0 | S228: =IF(S17>=6000,10,IF(S17>=4500,8,IF(S17>=2500,6,IF(S17>=1000,4,IF(S17>=500,2,0))))) -> 0 | T228: =IF(T17="실시",10,0) -> 0 | U228: =IF(U17>=16,15,IF(U17>=11,12,IF(U17>=6,9,IF(U17>=1,6,0)))) -> 0 | V228: =IF(V17>=60,15,IF(V17>=45,12,IF(V17>=30,10,IF(V17>=15,8,IF(V17>=1,6,0))))) -> 0 | W228: =IF(W17>=3,10,IF(W17>=2,7,IF(W17>=1,4,0))) -> 0 | X228: =IF(X17>=25,15,IF(X17>=18,12,IF(X17>=12,9,IF(X17>=6,6,IF(X17>=3,3,IF(X17>=1,1,0)))))) -> 0 | Y228: =IF(Y17="구성",15,0) -> 0 | Z228: =IF(Z17>=5,10,IF(Z17>=4,8,IF(Z17>=3,6,IF(Z17>=2,4,IF(Z17>=1,2,0))))) -> 0 | AA228: =AA17 -> 0 | AB228: =AB17 -> 0 | AC228: =AC17 -> 0 | AD228: =AD17 -> 0 | AE228: =AE17 -> 0 | AF228: =SUM(F228:AE228) -> 0
... A291: =A80 -> 75 | B291: =B80 -> 0 | C291: =C80 -> 0 | D291: =D80 -> 0 | F291: =IF(F80="수립",10,0) -> 0 | G291: =IF(G80>=6,10,IF(G80=5,5,IF(G80<=4,0))) -> 0 | H291: =IF(H80>=48,10,IF(H80>=40,5,IF(H80<40,0))) -> 0 | I291: =IF(I80>=40,10,IF(I80>=25,8,IF(I80>=15,6,IF(I80>=8,4,IF(I80>=1,2,0))))) -> 0 | J291: =IF(J80>=700,10,IF(J80>=600,8,IF(J80>=500,6,IF(J80>=400,4,IF(J80>=200,2,IF(J80>=50,1,0)))))) -> 0 | K291: =IF(K80>=1,5,0) -> 0 | L291: =IF(L80="실시",10,0) -> 0 | M291: =IF(M80>=8,5,IF(M80>=4,3,IF(M80>=1,1,0))) -> 0 | N291: =IF(N80="관리자 + 이용자(인터넷 가능)",5,IF(N80="관리자(도서관리프로그램용)",3,0)) -> 0 | O291: =IF(O80>=1000,10,IF(O80>=800,8,IF(O80>=600,6,IF(O80>=300,4,IF(O80>=100,2,IF(O80>=1,1,0)))))) -> 0 | P291: =IF(P80>=15000,15,IF(P80>=12000,12,IF(P80>=8000,9,IF(P80>=5000,6,IF(P80>=2000,3,IF(P80>=100,1,0)))))) -> 0 | Q291: =IF(Q80>=8000,15,IF(Q80>=6000,12,IF(Q80>=4000,9,IF(Q80>=2000,6,IF(Q80>=1000,3,IF(Q80>=50,1,0)))))) -> 0 | R291: =IF(R80>=7000,10,IF(R80>=5000,8,IF(R80>=3000,6,IF(R80>=1000,4,IF(R80>=500,2,0))))) -> 0 | S291: =IF(S80>=6000,10,IF(S80>=4500,8,IF(S80>=2500,6,IF(S80>=1000,4,IF(S80>=500,2,0))))) -> 0 | T291: =IF(T80="실시",10,0) -> 0 | U291: =IF(U80>=16,15,IF(U80>=11,12,IF(U80>=6,9,IF(U80>=1,6,0)))) -> 0 | V291: =IF(V80>=60,15,IF(V80>=45,12,IF(V80>=30,10,IF(V80>=15,8,IF(V80>=1,6,0))))) -> 0 | W291: =IF(W80>=3,10,IF(W80>=2,7,IF(W80>=1,4,0))) -> 0 | X291: =IF(X80>=25,15,IF(X80>=18,12,IF(X80>=12,9,IF(X80>=6,6,IF(X80>=3,3,IF(X80>=1,1,0)))))) -> 0 | Y291: =IF(Y80="구성",15,0) -> 0 | Z291: =IF(Z80>=5,10,IF(Z80>=4,8,IF(Z80>=3,6,IF(Z80>=2,4,IF(Z80>=1,2,0))))) -> 0 | AA291: =AA80 -> 0 | AB291: =AB80 -> 0 | AC291: =AC80 -> 0 | AD291: =AD80 -> 0 | AE291: =AE80 -> 0 | AF291: =SUM(F291:AE291) -> 0
A292: =A81 -> 76 | B292: =B81 -> 0 | C292: =C81 -> 0 | D292: =D81 -> 0 | F292: =IF(F81="수립",10,0) -> 0 | G292: =IF(G81>=6,10,IF(G81=5,5,IF(G81<=4,0))) -> 0 | H292: =IF(H81>=48,10,IF(H81>=40,5,IF(H81<40,0))) -> 0 | I292: =IF(I81>=40,10,IF(I81>=25,8,IF(I81>=15,6,IF(I81>=8,4,IF(I81>=1,2,0))))) -> 0 | J292: =IF(J81>=700,10,IF(J81>=600,8,IF(J81>=500,6,IF(J81>=400,4,IF(J81>=200,2,IF(J81>=50,1,0)))))) -> 0 | K292: =IF(K81>=1,5,0) -> 0 | L292: =IF(L81="실시",10,0) -> 0 | M292: =IF(M81>=8,5,IF(M81>=4,3,IF(M81>=1,1,0))) -> 0 | N292: =IF(N81="관리자 + 이용자(인터넷 가능)",5,IF(N81="관리자(도서관리프로그램용)",3,0)) -> 0 | O292: =IF(O81>=1000,10,IF(O81>=800,8,IF(O81>=600,6,IF(O81>=300,4,IF(O81>=100,2,IF(O81>=1,1,0)))))) -> 0 | P292: =IF(P81>=15000,15,IF(P81>=12000,12,IF(P81>=8000,9,IF(P81>=5000,6,IF(P81>=2000,3,IF(P81>=100,1,0)))))) -> 0 | Q292: =IF(Q81>=8000,15,IF(Q81>=6000,12,IF(Q81>=4000,9,IF(Q81>=2000,6,IF(Q81>=1000,3,IF(Q81>=50,1,0)))))) -> 0 | R292: =IF(R81>=7000,10,IF(R81>=5000,8,IF(R81>=3000,6,IF(R81>=1000,4,IF(R81>=500,2,0))))) -> 0 | S292: =IF(S81>=6000,10,IF(S81>=4500,8,IF(S81>=2500,6,IF(S81>=1000,4,IF(S81>=500,2,0))))) -> 0 | T292: =IF(T81="실시",10,0) -> 0 | U292: =IF(U81>=16,15,IF(U81>=11,12,IF(U81>=6,9,IF(U81>=1,6,0)))) -> 0 | V292: =IF(V81>=60,15,IF(V81>=45,12,IF(V81>=30,10,IF(V81>=15,8,IF(V81>=1,6,0))))) -> 0 | W292: =IF(W81>=3,10,IF(W81>=2,7,IF(W81>=1,4,0))) -> 0 | X292: =IF(X81>=25,15,IF(X81>=18,12,IF(X81>=12,9,IF(X81>=6,6,IF(X81>=3,3,IF(X81>=1,1,0)))))) -> 0 | Y292: =IF(Y81="구성",15,0) -> 0 | Z292: =IF(Z81>=5,10,IF(Z81>=4,8,IF(Z81>=3,6,IF(Z81>=2,4,IF(Z81>=1,2,0))))) -> 0 | AA292: 0 | AB292: 0 | AC292: 0 | AD292: 0 | AE292: 0 | AF292: =SUM(F292:AE292) -> 0
A293: =A82 -> 77 | B293: =B82 -> 0 | C293: =C82 -> 0 | D293: =D82 -> 0 | F293: =IF(F82="수립",10,0) -> 0 | G293: =IF(G82>=6,10,IF(G82=5,5,IF(G82<=4,0))) -> 0 | H293: =IF(H82>=48,10,IF(H82>=40,5,IF(H82<40,0))) -> 0 | I293: =IF(I82>=40,10,IF(I82>=25,8,IF(I82>=15,6,IF(I82>=8,4,IF(I82>=1,2,0))))) -> 0 | J293: =IF(J82>=700,10,IF(J82>=600,8,IF(J82>=500,6,IF(J82>=400,4,IF(J82>=200,2,IF(J82>=50,1,0)))))) -> 0 | K293: =IF(K82>=1,5,0) -> 0 | L293: =IF(L82="실시",10,0) -> 0 | M293: =IF(M82>=8,5,IF(M82>=4,3,IF(M82>=1,1,0))) -> 0 | N293: =IF(N82="관리자 + 이용자(인터넷 가능)",5,IF(N82="관리자(도서관리프로그램용)",3,0)) -> 0 | O293: =IF(O82>=1000,10,IF(O82>=800,8,IF(O82>=600,6,IF(O82>=300,4,IF(O82>=100,2,IF(O82>=1,1,0)))))) -> 0 | P293: =IF(P82>=15000,15,IF(P82>=12000,12,IF(P82>=8000,9,IF(P82>=5000,6,IF(P82>=2000,3,IF(P82>=100,1,0)))))) -> 0 | Q293: =IF(Q82>=8000,15,IF(Q82>=6000,12,IF(Q82>=4000,9,IF(Q82>=2000,6,IF(Q82>=1000,3,IF(Q82>=50,1,0)))))) -> 0 | R293: =IF(R82>=7000,10,IF(R82>=5000,8,IF(R82>=3000,6,IF(R82>=1000,4,IF(R82>=500,2,0))))) -> 0 | S293: =IF(S82>=6000,10,IF(S82>=4500,8,IF(S82>=2500,6,IF(S82>=1000,4,IF(S82>=500,2,0))))) -> 0 | T293: =IF(T82="실시",10,0) -> 0 | U293: =IF(U82>=16,15,IF(U82>=11,12,IF(U82>=6,9,IF(U82>=1,6,0)))) -> 0 | V293: =IF(V82>=60,15,IF(V82>=45,12,IF(V82>=30,10,IF(V82>=15,8,IF(V82>=1,6,0))))) -> 0 | W293: =IF(W82>=3,10,IF(W82>=2,7,IF(W82>=1,4,0))) -> 0 | X293: =IF(X82>=25,15,IF(X82>=18,12,IF(X82>=12,9,IF(X82>=6,6,IF(X82>=3,3,IF(X82>=1,1,0)))))) -> 0 | Y293: =IF(Y82="구성",15,0) -> 0 | Z293: =IF(Z82>=5,10,IF(Z82>=4,8,IF(Z82>=3,6,IF(Z82>=2,4,IF(Z82>=1,2,0))))) -> 0 | AA293: =AA82 -> 0 | AB293: =AB82 -> 0 | AC293: =AC82 -> 0 | AD293: =AD82 -> 0 | AE293: =AE82 -> 0 | AF293: =SUM(F293:AE293) -> 0
...

Sheet 입력표(사립)
A1: 2025년도 사립 작은도서관 평가 결과 입력표 ○ 흰색부분만 입력(점수 자동 계산됨) - (정량) 콤보박스 이용 또는 수치 입력 / (정성) 배점 입력 ○ 작성 방법(붙임 3 참고)을 준수하여 입력 요청 ○ 입력단위 확인요망 - 금액 입력단위는 반드시 [만원]단위로 입력 (예 : 실제 금액이 160,000원일 경우 16으로 입력)
A3: 작은도서관 현황 | F3: 정량평가 | Z3: 정성평가
A4: 연번 | B4: 시군명 | C4: 작은도서관명 | D4: 등록일 | E4: 운영주체 ※ 콤보박스 이용 입력 | F4: 1. (사립)후원 및 주민단체 지원여부 ※ 콤보박스 이용 입력 | G4: 2. (사립)이용안내 게시 여부 ※ 콤보박스 이용 입력 | H4: 3. 개관일수 (1일 4시간 이상) | I4: 4. 개관시간 (정기 / 주) | J4: 5. 자료구입비 | K4: 6. 전담인력(자원봉사자 포함) 직무교육 - (총 누적 교육시간) | L4: 7. (사립)작은도서관 외부 간판 설치 여부 ※ 콤보박스 이용 입력 | M4: 8. (사립)누구나 출입 가능 ※ 콤보박스 이용 입력 | N4: 9. (사립)도서관리프로그램 사용 여부 ※ 콤보박스 이용 입력 | O4: 10. 연간 장서 수집량* *평가 기간 내 신규 구입 및 기증 도서 ※ 기증도서는 최근 3년 이내 1월 1일 이후 발행 도서만 포함 | P4: 11-1. 연간 대출권수 (읍/동 소재 작은도서관) | Q4: 11-2. 연간 대출 권수 (면 소재 작은도서관) | R4: 12-1. 연간 이용자 수 (읍/동 소재 작은도서관) | S4: 12-2. 연간 이용자 수 (면 소재 작은도서관) | T4: 13. 독서·문화프로그램 수 | U4: 14. 독서·문화프로그램 실시 횟수 | V4: 15. 독서·문화 동아리 구성 | W4: 16. 독서·문화 동아리 활동 횟수* * 평가 기간 내 누적활동 횟수 | X4: 17. 도서관운영위원회 구성 ※ 콤보박스 이용 입력 | Y4: 18. 도서관 운영위원회 활동 횟수 | Z4: 1. 독서문화프로그램 우수성 (지역특색, 특화) | AA4: 2. 이용자 중심의 장서구성 | AB4: 3. 작은도서관 홍보 | AC4: 4. 지역사회 교류 | AD4: 5. 도, 시군정책 협력도
A5: 평가기준 | Y5: 숫자로 입력(0, 1, 5)
A6: 1 | B6: 00시 | C6: 00작은도서관 | D6: 2020.09.14. | E6: 개인 및 단체 | AF6: 개인 및 단체
A7: 2 | B7: 00군 | E7: 종교시설 | AF7: 새마을문고 | AI7: 후원(일시22건 또는 정기8건)또는 자원봉사(8명)
A8: 3 | AF8: 종교시설 | AI8: 후원(일시13건 또는 정기5건)또는 자원봉사(7명)
A9: 4 | AF9: 법인 | AI9: 후원(일시7건 또는 정기3건)또는 자원봉사(4명)
A10: 5 | AF10: 아파트 | AI10: 후원(일시4건 또는 정기2건)또는 자원봉사(2명)
A11: 6 | AI11: 후원(일시1건 또는 정기1건)또는 자원봉사(1명)
A12: 7 | AI12: 지원이 없다
A13: 8
A14: 9
A15: 10
A16: 11
A17: 12
A18: 13
A19: 14
A20: 15
A21: 16
A22: 17
A23: 18
A24: 19
... A746: 741
A747: 점수환산결과 | AE747: 합계
A750: =A6 -> 1 | B750: =B6 -> 00시 | C750: =C6 -> 00작은도서관 | D750: =D6 -> 2020.09.14. | E750: =E6 -> 개인 및 단체 | F750: =IF(F6="후원(일시22건 또는 정기8건)또는 자원봉사(8명)",10,IF(F6="후원(일시13건 또는 정기5건)또는 자원봉사(7명)",8,IF(F6="후원(일시7건 또는 정기3건)또는 자원봉사(4명)",6,IF(F6="후원(일시4건 또는 정기2건)또는 자원봉사(2명)",4,IF(F6="후원(일시1건 또는 정기1건)또는 자원봉사(1명)",2,0))))) -> 0 | G750: =IF(G6="게시",5,0) -> 0 | H750: =IF(H6>=6,20,IF(H6=5,15,IF(H6=4,10,IF(H6=3,5,0)))) -> 0 | I750: =IF(I6>=30,20,IF(I6>=22,15,IF(I6>=15,10,IF(I6>=8,5,0)))) -> 0 | J750: =IF(J6>=400,10,IF(J6>=300,8,IF(J6>=200,6,IF(J6>=100,4,IF(J6>=1,2,IF(J6=0,0)))))) -> 0 | K750: =IF(K6>=35,15,IF(K6>=25,12,IF(K6>=15,9,IF(K6>=5,6,IF(K6>=1,3,0))))) -> 0 | L750: =IF(L6="설치",5,0) -> 0 | M750: =IF(M6="가능",5,0) -> 0 | N750: =IF(N6="사용",5,0) -> 0 | O750: =IF(O6>=550,10,IF(O6>=400,9,IF(O6>=300,7,IF(O6>=200,5,IF(O6>=50,3,IF(O6>=1,1,0)))))) -> 0 | P750: =IF(P6>=4000,10,IF(P6>=3000,8,IF(P6>=2000,6,IF(P6>=1000,4,IF(P6>=500,2,IF(P6>=50,1,0)))))) -> 0 | Q750: =IF(Q6>=1000,10,IF(Q6>=800,8,IF(Q6>=600,6,IF(Q6>=400,4,IF(Q6>=200,1,IF(Q6>=30,1,0)))))) -> 0 | R750: =IF(R6>=5000,5,IF(R6>=3000,4,IF(R6>=2000,3,IF(R6>=1000,2,IF(R6>=500,1,0))))) -> 0 | S750: =IF(S6>=4000,5,IF(S6>=2500,4,IF(S6>=1000,3,IF(S6>=500,2,IF(S6>=300,1,0))))) -> 0 | T750: =IF(T6>=15,15,IF(T6>=12,12,IF(T6>=9,9,IF(T6>=6,6,IF(T6>=1,3,0))))) -> 0 | U750: =IF(U6>=50,15,IF(U6>=40,13,IF(U6>=30,11,IF(U6>=20,9,IF(U6>=10,7,IF(U6>=1,5,0)))))) -> 0 | V750: =IF(V6>=3,15,IF(V6>=2,10,IF(V6>=1,5,0))) -> 0 | W750: =IF(W6>=25,10,IF(W6>=20,8,IF(W6>=16,6,IF(W6>=11,4,IF(W6>=6,2,IF(W6>=1,1,0)))))) -> 0 | X750: =IF(X6="구성",15,0) -> 0 | Y750: =IF(Y6>=4,10,IF(Y6=3,8,IF(Y6=2,6,IF(Y6=1,4,0)))) -> 0 | Z750: =Z6 -> 0 | AA750: =AA6 -> 0 | AB750: =AB6 -> 0 | AC750: =AC6 -> 0 | AD750: =AD6 -> 0 | AE750: =SUM(F750:AD750) -> 0
A751: =A7 -> 2 | B751: =B7 -> 00군 | C751: =C7 -> 0 | D751: =D7 -> 0 | E751: =E7 -> 종교시설 | F751: =IF(F7="후원(일시22건 또는 정기8건)또는 자원봉사(8명)",10,IF(F7="후원(일시13건 또는 정기5건)또는 자원봉사(7명)",8,IF(F7="후원(일시7건 또는 정기3건)또는 자원봉사(4명)",6,IF(F7="후원(일시4건 또는 정기2건)또는 자원봉사(2명)",4,IF(F7="후원(일시1건 또는 정기1건)또는 자원봉사(1명)",2,0))))) -> 0 | G751: =IF(G7="게시",5,0) -> 0 | H751: =IF(H7>=6,20,IF(H7=5,15,IF(H7=4,10,IF(H7=3,5,0)))) -> 0 | I751: =IF(I7>=30,20,IF(I7>=22,15,IF(I7>=15,10,IF(I7>=8,5,0)))) -> 0 | J751: =IF(J7>=400,10,IF(J7>=300,8,IF(J7>=200,6,IF(J7>=100,4,IF(J7>=1,2,IF(J7=0,0)))))) -> 0 | K751: =IF(K7>=35,15,IF(K7>=25,12,IF(K7>=15,9,IF(K7>=5,6,IF(K7>=1,3,0))))) -> 0 | L751: =IF(L7="설치",5,0) -> 0 | M751: =IF(M7="가능",5,0) -> 0 | N751: =IF(N7="사용",5,0) -> 0 | O751: =IF(O7>=550,10,IF(O7>=400,9,IF(O7>=300,7,IF(O7>=200,5,IF(O7>=50,3,IF(O7>=1,1,0)))))) -> 0 | P751: =IF(P7>=4000,10,IF(P7>=3000,8,IF(P7>=2000,6,IF(P7>=1000,4,IF(P7>=500,2,IF(P7>=50,1,0)))))) -> 0 | Q751: =IF(Q7>=1000,10,IF(Q7>=800,8,IF(Q7>=600,6,IF(Q7>=400,4,IF(Q7>=200,1,IF(Q7>=30,1,0)))))) -> 0 | R751: =IF(R7>=5000,5,IF(R7>=3000,4,IF(R7>=2000,3,IF(R7>=1000,2,IF(R7>=500,1,0))))) -> 0 | S751: =IF(S7>=4000,5,IF(S7>=2500,4,IF(S7>=1000,3,IF(S7>=500,2,IF(S7>=300,1,0))))) -> 0 | T751: =IF(T7>=15,15,IF(T7>=12,12,IF(T7>=9,9,IF(T7>=6,6,IF(T7>=1,3,0))))) -> 0 | U751: =IF(U7>=50,15,IF(U7>=40,13,IF(U7>=30,11,IF(U7>=20,9,IF(U7>=10,7,IF(U7>=1,5,0)))))) -> 0 | V751: =IF(V7>=3,15,IF(V7>=2,10,IF(V7>=1,5,0))) -> 0 | W751: =IF(W7>=25,10,IF(W7>=20,8,IF(W7>=16,6,IF(W7>=11,4,IF(W7>=6,2,IF(W7>=1,1,0)))))) -> 0 | X751: =IF(X7="구성",15,0) -> 0 | Y751: =IF(Y7>=4,10,IF(Y7=3,8,IF(Y7=2,6,IF(Y7=1,4,0)))) -> 0 | Z751: =Z7 -> 0 | AA751: =AA7 -> 0 | AB751: =AB7 -> 0 | AC751: =AC7 -> 0 | AD751: =AD7 -> 0 | AE751: =SUM(F751:AD751) -> 0
A752: =A8 -> 3 | B752: =B8 -> 0 | C752: =C8 -> 0 | D752: =D8 -> 0 | E752: =E8 -> 0 | F752: =IF(F8="후원(일시22건 또는 정기8건)또는 자원봉사(8명)",10,IF(F8="후원(일시13건 또는 정기5건)또는 자원봉사(7명)",8,IF(F8="후원(일시7건 또는 정기3건)또는 자원봉사(4명)",6,IF(F8="후원(일시4건 또는 정기2건)또는 자원봉사(2명)",4,IF(F8="후원(일시1건 또는 정기1건)또는 자원봉사(1명)",2,0))))) -> 0 | G752: =IF(G8="게시",5,0) -> 0 | H752: =IF(H8>=6,20,IF(H8=5,15,IF(H8=4,10,IF(H8=3,5,0)))) -> 0 | I752: =IF(I8>=30,20,IF(I8>=22,15,IF(I8>=15,10,IF(I8>=8,5,0)))) -> 0 | J752: =IF(J8>=400,10,IF(J8>=300,8,IF(J8>=200,6,IF(J8>=100,4,IF(J8>=1,2,IF(J8=0,0)))))) -> 0 | K752: =IF(K8>=35,15,IF(K8>=25,12,IF(K8>=15,9,IF(K8>=5,6,IF(K8>=1,3,0))))) -> 0 | L752: =IF(L8="설치",5,0) -> 0 | M752: =IF(M8="가능",5,0) -> 0 | N752: =IF(N8="사용",5,0) -> 0 | O752: =IF(O8>=550,10,IF(O8>=400,9,IF(O8>=300,7,IF(O8>=200,5,IF(O8>=50,3,IF(O8>=1,1,0)))))) -> 0 | P752: =IF(P8>=4000,10,IF(P8>=3000,8,IF(P8>=2000,6,IF(P8>=1000,4,IF(P8>=500,2,IF(P8>=50,1,0)))))) -> 0 | Q752: =IF(Q8>=1000,10,IF(Q8>=800,8,IF(Q8>=600,6,IF(Q8>=400,4,IF(Q8>=200,1,IF(Q8>=30,1,0)))))) -> 0 | R752: =IF(R8>=5000,5,IF(R8>=3000,4,IF(R8>=2000,3,IF(R8>=1000,2,IF(R8>=500,1,0))))) -> 0 | S752: =IF(S8>=4000,5,IF(S8>=2500,4,IF(S8>=1000,3,IF(S8>=500,2,IF(S8>=300,1,0))))) -> 0 | T752: =IF(T8>=15,15,IF(T8>=12,12,IF(T8>=9,9,IF(T8>=6,6,IF(T8>=1,3,0))))) -> 0 | U752: =IF(U8>=50,15,IF(U8>=40,13,IF(U8>=30,11,IF(U8>=20,9,IF(U8>=10,7,IF(U8>=1,5,0)))))) -> 0 | V752: =IF(V8>=3,15,IF(V8>=2,10,IF(V8>=1,5,0))) -> 0 | W752: =IF(W8>=25,10,IF(W8>=20,8,IF(W8>=16,6,IF(W8>=11,4,IF(W8>=6,2,IF(W8>=1,1,0)))))) -> 0 | X752: =IF(X8="구성",15,0) -> 0 | Y752: =IF(Y8>=4,10,IF(Y8=3,8,IF(Y8=2,6,IF(Y8=1,4,0)))) -> 0 | Z752: =Z8 -> 0 | AA752: =AA8 -> 0 | AB752: =AB8 -> 0 | AC752: =AC8 -> 0 | AD752: =AD8 -> 0 | AE752: =SUM(F752:AD752) -> 0
A753: =A9 -> 4 | B753: =B9 -> 0 | C753: =C9 -> 0 | D753: =D9 -> 0 | E753: =E9 -> 0 | F753: =IF(F9="후원(일시22건 또는 정기8건)또는 자원봉사(8명)",10,IF(F9="후원(일시13건 또는 정기5건)또는 자원봉사(7명)",8,IF(F9="후원(일시7건 또는 정기3건)또는 자원봉사(4명)",6,IF(F9="후원(일시4건 또는 정기2건)또는 자원봉사(2명)",4,IF(F9="후원(일시1건 또는 정기1건)또는 자원봉사(1명)",2,0))))) -> 0 | G753: =IF(G9="게시",5,0) -> 0 | H753: =IF(H9>=6,20,IF(H9=5,15,IF(H9=4,10,IF(H9=3,5,0)))) -> 0 | I753: =IF(I9>=30,20,IF(I9>=22,15,IF(I9>=15,10,IF(I9>=8,5,0)))) -> 0 | J753: =IF(J9>=400,10,IF(J9>=300,8,IF(J9>=200,6,IF(J9>=100,4,IF(J9>=1,2,IF(J9=0,0)))))) -> 0 | K753: =IF(K9>=35,15,IF(K9>=25,12,IF(K9>=15,9,IF(K9>=5,6,IF(K9>=1,3,0))))) -> 0 | L753: =IF(L9="설치",5,0) -> 0 | M753: =IF(M9="가능",5,0) -> 0 | N753: =IF(N9="사용",5,0) -> 0 | O753: =IF(O9>=550,10,IF(O9>=400,9,IF(O9>=300,7,IF(O9>=200,5,IF(O9>=50,3,IF(O9>=1,1,0)))))) -> 0 | P753: =IF(P9>=4000,10,IF(P9>=3000,8,IF(P9>=2000,6,IF(P9>=1000,4,IF(P9>=500,2,IF(P9>=50,1,0)))))) -> 0 | Q753: =IF(Q9>=1000,10,IF(Q9>=800,8,IF(Q9>=600,6,IF(Q9>=400,4,IF(Q9>=200,1,IF(Q9>=30,1,0)))))) -> 0 | R753: =IF(R9>=5000,5,IF(R9>=3000,4,IF(R9>=2000,3,IF(R9>=1000,2,IF(R9>=500,1,0))))) -> 0 | S753: =IF(S9>=4000,5,IF(S9>=2500,4,IF(S9>=1000,3,IF(S9>=500,2,IF(S9>=300,1,0))))) -> 0 | T753: =IF(T9>=15,15,IF(T9>=12,12,IF(T9>=9,9,IF(T9>=6,6,IF(T9>=1,3,0))))) -> 0 | U753: =IF(U9>=50,15,IF(U9>=40,13,IF(U9>=30,11,IF(U9>=20,9,IF(U9>=10,7,IF(U9>=1,5,0)))))) -> 0 | V753: =IF(V9>=3,15,IF(V9>=2,10,IF(V9>=1,5,0))) -> 0 | W753: =IF(W9>=25,10,IF(W9>=20,8,IF(W9>=16,6,IF(W9>=11,4,IF(W9>=6,2,IF(W9>=1,1,0)))))) -> 0 | X753: =IF(X9="구성",15,0) -> 0 | Y753: =IF(Y9>=4,10,IF(Y9=3,8,IF(Y9=2,6,IF(Y9=1,4,0)))) -> 0 | Z753: =Z9 -> 0 | AA753: =AA9 -> 0 | AB753: =AB9 -> 0 | AC753: =AC9 -> 0 | AD753: =AD9 -> 0 | AE753: =SUM(F753:AD753) -> 0
A754: =A10 -> 5 | B754: =B10 -> 0 | C754: =C10 -> 0 | D754: =D10 -> 0 | E754: =E10 -> 0 | F754: =IF(F10="후원(일시22건 또는 정기8건)또는 자원봉사(8명)",10,IF(F10="후원(일시13건 또는 정기5건)또는 자원봉사(7명)",8,IF(F10="후원(일시7건 또는 정기3건)또는 자원봉사(4명)",6,IF(F10="후원(일시4건 또는 정기2건)또는 자원봉사(2명)",4,IF(F10="후원(일시1건 또는 정기1건)또는 자원봉사(1명)",2,0))))) -> 0 | G754: =IF(G10="게시",5,0) -> 0 | H754: =IF(H10>=6,20,IF(H10=5,15,IF(H10=4,10,IF(H10=3,5,0)))) -> 0 | I754: =IF(I10>=30,20,IF(I10>=22,15,IF(I10>=15,10,IF(I10>=8,5,0)))) -> 0 | J754: =IF(J10>=400,10,IF(J10>=300,8,IF(J10>=200,6,IF(J10>=100,4,IF(J10>=1,2,IF(J10=0,0)))))) -> 0 | K754: =IF(K10>=35,15,IF(K10>=25,12,IF(K10>=15,9,IF(K10>=5,6,IF(K10>=1,3,0))))) -> 0 | L754: =IF(L10="설치",5,0) -> 0 | M754: =IF(M10="가능",5,0) -> 0 | N754: =IF(N10="사용",5,0) -> 0 | O754: =IF(O10>=550,10,IF(O10>=400,9,IF(O10>=300,7,IF(O10>=200,5,IF(O10>=50,3,IF(O10>=1,1,0)))))) -> 0 | P754: =IF(P10>=4000,10,IF(P10>=3000,8,IF(P10>=2000,6,IF(P10>=1000,4,IF(P10>=500,2,IF(P10>=50,1,0)))))) -> 0 | Q754: =IF(Q10>=1000,10,IF(Q10>=800,8,IF(Q10>=600,6,IF(Q10>=400,4,IF(Q10>=200,1,IF(Q10>=30,1,0)))))) -> 0 | R754: =IF(R10>=5000,5,IF(R10>=3000,4,IF(R10>=2000,3,IF(R10>=1000,2,IF(R10>=500,1,0))))) -> 0 | S754: =IF(S10>=4000,5,IF(S10>=2500,4,IF(S10>=1000,3,IF(S10>=500,2,IF(S10>=300,1,0))))) -> 0 | T754: =IF(T10>=15,15,IF(T10>=12,12,IF(T10>=9,9,IF(T10>=6,6,IF(T10>=1,3,0))))) -> 0 | U754: =IF(U10>=50,15,IF(U10>=40,13,IF(U10>=30,11,IF(U10>=20,9,IF(U10>=10,7,IF(U10>=1,5,0)))))) -> 0 | V754: =IF(V10>=3,15,IF(V10>=2,10,IF(V10>=1,5,0))) -> 0 | W754: =IF(W10>=25,10,IF(W10>=20,8,IF(W10>=16,6,IF(W10>=11,4,IF(W10>=6,2,IF(W10>=1,1,0)))))) -> 0 | X754: =IF(X10="구성",15,0) -> 0 | Y754: =IF(Y10>=4,10,IF(Y10=3,8,IF(Y10=2,6,IF(Y10=1,4,0)))) -> 0 | Z754: =Z10 -> 0 | AA754: =AA10 -> 0 | AB754: =AB10 -> 0 | AC754: =AC10 -> 0 | AD754: =AD10 -> 0 | AE754: =SUM(F754:AD754) -> 0
A755: =A11 -> 6 | B755: =B11 -> 0 | C755: =C11 -> 0 | D755: =D11 -> 0 | E755: =E11 -> 0 | F755: =IF(F11="후원(일시22건 또는 정기8건)또는 자원봉사(8명)",10,IF(F11="후원(일시13건 또는 정기5건)또는 자원봉사(7명)",8,IF(F11="후원(일시7건 또는 정기3건)또는 자원봉사(4명)",6,IF(F11="후원(일시4건 또는 정기2건)또는 자원봉사(2명)",4,IF(F11="후원(일시1건 또는 정기1건)또는 자원봉사(1명)",2,0))))) -> 0 | G755: =IF(G11="게시",5,0) -> 0 | H755: =IF(H11>=6,20,IF(H11=5,15,IF(H11=4,10,IF(H11=3,5,0)))) -> 0 | I755: =IF(I11>=30,20,IF(I11>=22,15,IF(I11>=15,10,IF(I11>=8,5,0)))) -> 0 | J755: =IF(J11>=400,10,IF(J11>=300,8,IF(J11>=200,6,IF(J11>=100,4,IF(J11>=1,2,IF(J11=0,0)))))) -> 0 | K755: =IF(K11>=35,15,IF(K11>=25,12,IF(K11>=15,9,IF(K11>=5,6,IF(K11>=1,3,0))))) -> 0 | L755: =IF(L11="설치",5,0) -> 0 | M755: =IF(M11="가능",5,0) -> 0 | N755: =IF(N11="사용",5,0) -> 0 | O755: =IF(O11>=550,10,IF(O11>=400,9,IF(O11>=300,7,IF(O11>=200,5,IF(O11>=50,3,IF(O11>=1,1,0)))))) -> 0 | P755: =IF(P11>=4000,10,IF(P11>=3000,8,IF(P11>=2000,6,IF(P11>=1000,4,IF(P11>=500,2,IF(P11>=50,1,0)))))) -> 0 | Q755: =IF(Q11>=1000,10,IF(Q11>=800,8,IF(Q11>=600,6,IF(Q11>=400,4,IF(Q11>=200,1,IF(Q11>=30,1,0)))))) -> 0 | R755: =IF(R11>=5000,5,IF(R11>=3000,4,IF(R11>=2000,3,IF(R11>=1000,2,IF(R11>=500,1,0))))) -> 0 | S755: =IF(S11>=4000,5,IF(S11>=2500,4,IF(S11>=1000,3,IF(S11>=500,2,IF(S11>=300,1,0))))) -> 0 | T755: =IF(T11>=15,15,IF(T11>=12,12,IF(T11>=9,9,IF(T11>=6,6,IF(T11>=1,3,0))))) -> 0 | U755: =IF(U11>=50,15,IF(U11>=40,13,IF(U11>=30,11,IF(U11>=20,9,IF(U11>=10,7,IF(U11>=1,5,0)))))) -> 0 | V755: =IF(V11>=3,15,IF(V11>=2,10,IF(V11>=1,5,0))) -> 0 | W755: =IF(W11>=25,10,IF(W11>=20,8,IF(W11>=16,6,IF(W11>=11,4,IF(W11>=6,2,IF(W11>=1,1,0)))))) -> 0 | X755: =IF(X11="구성",15,0) -> 0 | Y755: =IF(Y11>=4,10,IF(Y11=3,8,IF(Y11=2,6,IF(Y11=1,4,0)))) -> 0 | Z755: =Z11 -> 0 | AA755: =AA11 -> 0 | AB755: =AB11 -> 0 | AC755: =AC11 -> 0 | AD755: =AD11 -> 0 | AE755: =SUM(F755:AD755) -> 0
A756: =A12 -> 7 | B756: =B12 -> 0 | C756: =C12 -> 0 | D756: =D12 -> 0 | E756: =E12 -> 0 | F756: =IF(F12="후원(일시22건 또는 정기8건)또는 자원봉사(8명)",10,IF(F12="후원(일시13건 또는 정기5건)또는 자원봉사(7명)",8,IF(F12="후원(일시7건 또는 정기3건)또는 자원봉사(4명)",6,IF(F12="후원(일시4건 또는 정기2건)또는 자원봉사(2명)",4,IF(F12="후원(일시1건 또는 정기1건)또는 자원봉사(1명)",2,0))))) -> 0 | G756: =IF(G12="게시",5,0) -> 0 | H756: =IF(H12>=6,20,IF(H12=5,15,IF(H12=4,10,IF(H12=3,5,0)))) -> 0 | I756: =IF(I12>=30,20,IF(I12>=22,15,IF(I12>=15,10,IF(I12>=8,5,0)))) -> 0 | J756: =IF(J12>=400,10,IF(J12>=300,8,IF(J12>=200,6,IF(J12>=100,4,IF(J12>=1,2,IF(J12=0,0)))))) -> 0 | K756: =IF(K12>=35,15,IF(K12>=25,12,IF(K12>=15,9,IF(K12>=5,6,IF(K12>=1,3,0))))) -> 0 | L756: =IF(L12="설치",5,0) -> 0 | M756: =IF(M12="가능",5,0) -> 0 | N756: =IF(N12="사용",5,0) -> 0 | O756: =IF(O12>=550,10,IF(O12>=400,9,IF(O12>=300,7,IF(O12>=200,5,IF(O12>=50,3,IF(O12>=1,1,0)))))) -> 0 | P756: =IF(P12>=4000,10,IF(P12>=3000,8,IF(P12>=2000,6,IF(P12>=1000,4,IF(P12>=500,2,IF(P12>=50,1,0)))))) -> 0 | Q756: =IF(Q12>=1000,10,IF(Q12>=800,8,IF(Q12>=600,6,IF(Q12>=400,4,IF(Q12>=200,1,IF(Q12>=30,1,0)))))) -> 0 | R756: =IF(R12>=5000,5,IF(R12>=3000,4,IF(R12>=2000,3,IF(R12>=1000,2,IF(R12>=500,1,0))))) -> 0 | S756: =IF(S12>=4000,5,IF(S12>=2500,4,IF(S12>=1000,3,IF(S12>=500,2,IF(S12>=300,1,0))))) -> 0 | T756: =IF(T12>=15,15,IF(T12>=12,12,IF(T12>=9,9,IF(T12>=6,6,IF(T12>=1,3,0))))) -> 0 | U756: =IF(U12>=50,15,IF(U12>=40,13,IF(U12>=30,11,IF(U12>=20,9,IF(U12>=10,7,IF(U12>=1,5,0)))))) -> 0 | V756: =IF(V12>=3,15,IF(V12>=2,10,IF(V12>=1,5,0))) -> 0 | W756: =IF(W12>=25,10,IF(W12>=20,8,IF(W12>=16,6,IF(W12>=11,4,IF(W12>=6,2,IF(W12>=1,1,0)))))) -> 0 | X756: =IF(X12="구성",15,0) -> 0 | Y756: =IF(Y12>=4,10,IF(Y12=3,8,IF(Y12=2,6,IF(Y12=1,4,0)))) -> 0 | Z756: =Z12 -> 0 | AA756: =AA12 -> 0 | AB756: =AB12 -> 0 | AC756: =AC12 -> 0 | AD756: =AD12 -> 0 | AE756: =SUM(F756:AD756) -> 0
A757: =A13 -> 8 | B757: =B13 -> 0 | C757: =C13 -> 0 | D757: =D13 -> 0 | E757: =E13 -> 0 | F757: =IF(F13="후원(일시22건 또는 정기8건)또는 자원봉사(8명)",10,IF(F13="후원(일시13건 또는 정기5건)또는 자원봉사(7명)",8,IF(F13="후원(일시7건 또는 정기3건)또는 자원봉사(4명)",6,IF(F13="후원(일시4건 또는 정기2건)또는 자원봉사(2명)",4,IF(F13="후원(일시1건 또는 정기1건)또는 자원봉사(1명)",2,0))))) -> 0 | G757: =IF(G13="게시",5,0) -> 0 | H757: =IF(H13>=6,20,IF(H13=5,15,IF(H13=4,10,IF(H13=3,5,0)))) -> 0 | I757: =IF(I13>=30,20,IF(I13>=22,15,IF(I13>=15,10,IF(I13>=8,5,0)))) -> 0 | J757: =IF(J13>=400,10,IF(J13>=300,8,IF(J13>=200,6,IF(J13>=100,4,IF(J13>=1,2,IF(J13=0,0)))))) -> 0 | K757: =IF(K13>=35,15,IF(K13>=25,12,IF(K13>=15,9,IF(K13>=5,6,IF(K13>=1,3,0))))) -> 0 | L757: =IF(L13="설치",5,0) -> 0 | M757: =IF(M13="가능",5,0) -> 0 | N757: =IF(N13="사용",5,0) -> 0 | O757: =IF(O13>=550,10,IF(O13>=400,9,IF(O13>=300,7,IF(O13>=200,5,IF(O13>=50,3,IF(O13>=1,1,0)))))) -> 0 | P757: =IF(P13>=4000,10,IF(P13>=3000,8,IF(P13>=2000,6,IF(P13>=1000,4,IF(P13>=500,2,IF(P13>=50,1,0)))))) -> 0 | Q757: =IF(Q13>=1000,10,IF(Q13>=800,8,IF(Q13>=600,6,IF(Q13>=400,4,IF(Q13>=200,1,IF(Q13>=30,1,0)))))) -> 0 | R757: =IF(R13>=5000,5,IF(R13>=3000,4,IF(R13>=2000,3,IF(R13>=1000,2,IF(R13>=500,1,0))))) -> 0 | S757: =IF(S13>=4000,5,IF(S13>=2500,4,IF(S13>=1000,3,IF(S13>=500,2,IF(S13>=300,1,0))))) -> 0 | T757: =IF(T13>=15,15,IF(T13>=12,12,IF(T13>=9,9,IF(T13>=6,6,IF(T13>=1,3,0))))) -> 0 | U757: =IF(U13>=50,15,IF(U13>=40,13,IF(U13>=30,11,IF(U13>=20,9,IF(U13>=10,7,IF(U13>=1,5,0)))))) -> 0 | V757: =IF(V13>=3,15,IF(V13>=2,10,IF(V13>=1,5,0))) -> 0 | W757: =IF(W13>=25,10,IF(W13>=20,8,IF(W13>=16,6,IF(W13>=11,4,IF(W13>=6,2,IF(W13>=1,1,0)))))) -> 0 | X757: =IF(X13="구성",15,0) -> 0 | Y757: =IF(Y13>=4,10,IF(Y13=3,8,IF(Y13=2,6,IF(Y13=1,4,0)))) -> 0 | Z757: =Z13 -> 0 | AA757: =AA13 -> 0 | AB757: =AB13 -> 0 | AC757: =AC13 -> 0 | AD757: =AD13 -> 0 | AE757: =SUM(F757:AD757) -> 0
