Workbook

Sheet 공립 총괄표
B2: 2024년 공립 작은도서관 평가 결과 (총괄표)
B3: * 점수 자동 계산(작성 불필요)
B4: 순번 | C4: 지자체명 (시·군) | D4: 작은도서관명 | E4: 등록일 | F4: 유형 | G4: 등급 | H4: 총점 | I4: 1 | J4: 2 | K4: 3 | L4: 4 | M4: 5 | N4: 6 | O4: 7 | P4: 8 | Q4: 9
I5: 운영/관리 | J5: 시설자원 | K5: 서비스 | L5: 활동 | M5: 독서문화 프로그램 우수성 | N5: 이용자 중심의 장서구성 | O5: 작은도서관 홍보 | P5: 지역사회 교류 | Q5: 도정 협력도
G6: A~E | H6: =SUM(I6:Q6) -> 300 | I6: 65 | J6: 20 | K6: 65 | L6: 50 | M6: 30 | N6: 30 | O6: 10 | P6: 20 | Q6: 10
B7: 1 | C7: ='입력표(공립)'!B217 -> 00시 | D7: ='입력표(공립)'!C217 -> 00작은도서관 | E7: ='입력표(공립)'!D217 -> 2015.11.24. | F7: ='입력표(공립)'!E6 -> 지자체 | G7: =IF(H7>=251,"A",IF(H7>=201,"B",IF(H7>=151,"C",IF(H7>=101,"D",IF(H7<=100,"E"))))) -> E | H7: =SUM(I7:Q7) -> 0 | I7: =SUM('입력표(공립)'!F217:L217) -> 0 | J7: =SUM('입력표(공립)'!M217:O217) -> 0 | K7: =SUM('입력표(공립)'!P217:V217) -> 0 | L7: =SUM('입력표(공립)'!W217:Z217) -> 0 | M7: =SUM('입력표(공립)'!AA217) -> 0 | N7: ='입력표(공립)'!AB217 -> 0 | O7: ='입력표(공립)'!AC217 -> 0 | P7: ='입력표(공립)'!AD217 -> 0 | Q7: ='입력표(공립)'!AE217 -> 0
B8: 2 | C8: ='입력표(공립)'!B218 -> 0 | D8: ='입력표(공립)'!C218 -> 0 | E8: ='입력표(공립)'!D218 -> 0 | F8: ='입력표(공립)'!E7 -> 민간위탁 | G8: =IF(H8>=251,"A",IF(H8>=201,"B",IF(H8>=151,"C",IF(H8>=101,"D",IF(H8<=100,"E"))))) -> E | H8: =SUM(I8:Q8) -> 35 | I8: =SUM('입력표(공립)'!F218:L218) -> 0 | J8: =SUM('입력표(공립)'!M218:O218) -> 0 | K8: =SUM('입력표(공립)'!P218:V218) -> 35 | L8: =SUM('입력표(공립)'!W218:Z218) -> 0 | M8: =SUM('입력표(공립)'!AA218) -> 0 | N8: ='입력표(공립)'!AB218 -> 0 | O8: ='입력표(공립)'!AC218 -> 0 | P8: ='입력표(공립)'!AD218 -> 0 | Q8: ='입력표(공립)'!AE218 -> 0
B9: 3 | C9: ='입력표(공립)'!B219 -> 0 | D9: ='입력표(공립)'!C219 -> 0 | E9: ='입력표(공립)'!D219 -> 0 | F9: ='입력표(공립)'!E8 -> 0 | G9: =IF(H9>=251,"A",IF(H9>=201,"B",IF(H9>=151,"C",IF(H9>=101,"D",IF(H9<=100,"E"))))) -> E | H9: =SUM(I9:Q9) -> 0 | I9: =SUM('입력표(공립)'!F219:L219) -> 0 | J9: =SUM('입력표(공립)'!M219:O219) -> 0 | K9: =SUM('입력표(공립)'!P219:V219) -> 0 | L9: =SUM('입력표(공립)'!W219:Z219) -> 0 | M9: =SUM('입력표(공립)'!AA219) -> 0 | N9: ='입력표(공립)'!AB219 -> 0 | O9: ='입력표(공립)'!AC219 -> 0 | P9: ='입력표(공립)'!AD219 -> 0 | Q9: ='입력표(공립)'!AE219 -> 0
B10: 4 | C10: ='입력표(공립)'!B220 -> 0 | D10: ='입력표(공립)'!C220 -> 0 | E10: ='입력표(공립)'!D220 -> 0 | F10: ='입력표(공립)'!E9 -> 0 | G10: =IF(H10>=251,"A",IF(H10>=201,"B",IF(H10>=151,"C",IF(H10>=101,"D",IF(H10<=100,"E"))))) -> E | H10: =SUM(I10:Q10) -> 0 | I10: =SUM('입력표(공립)'!F220:L220) -> 0 | J10: =SUM('입력표(공립)'!M220:O220) -> 0 | K10: =SUM('입력표(공립)'!P220:V220) -> 0 | L10: =SUM('입력표(공립)'!W220:Z220) -> 0 | M10: =SUM('입력표(공립)'!AA220) -> 0 | N10: ='입력표(공립)'!AB220 -> 0 | O10: ='입력표(공립)'!AC220 -> 0 | P10: ='입력표(공립)'!AD220 -> 0 | Q10: ='입력표(공립)'!AE220 -> 0
B11: 5 | C11: ='입력표(공립)'!B221 -> 0 | D11: ='입력표(공립)'!C221 -> 0 | E11: ='입력표(공립)'!D221 -> 0 | F11: ='입력표(공립)'!E10 -> 0 | G11: =IF(H11>=251,"A",IF(H11>=201,"B",IF(H11>=151,"C",IF(H11>=101,"D",IF(H11<=100,"E"))))) -> E | H11: =SUM(I11:Q11) -> 0 | I11: =SUM('입력표(공립)'!F221:L221) -> 0 | J11: =SUM('입력표(공립)'!M221:O221) -> 0 | K11: =SUM('입력표(공립)'!P221:V221) -> 0 | L11: =SUM('입력표(공립)'!W221:Z221) -> 0 | M11: =SUM('입력표(공립)'!AA221) -> 0 | N11: ='입력표(공립)'!AB221 -> 0 | O11: ='입력표(공립)'!AC221 -> 0 | P11: ='입력표(공립)'!AD221 -> 0 | Q11: ='입력표(공립)'!AE221 -> 0
B12: 6 | C12: ='입력표(공립)'!B222 -> 0 | D12: ='입력표(공립)'!C222 -> 0 | E12: ='입력표(공립)'!D222 -> 0 | F12: ='입력표(공립)'!E11 -> 0 | G12: =IF(H12>=251,"A",IF(H12>=201,"B",IF(H12>=151,"C",IF(H12>=101,"D",IF(H12<=100,"E"))))) -> E | H12: =SUM(I12:Q12) -> 0 | I12: =SUM('입력표(공립)'!F222:L222) -> 0 | J12: =SUM('입력표(공립)'!M222:O222) -> 0 | K12: =SUM('입력표(공립)'!P222:V222) -> 0 | L12: =SUM('입력표(공립)'!W222:Z222) -> 0 | M12: =SUM('입력표(공립)'!AA222) -> 0 | N12: ='입력표(공립)'!AB222 -> 0 | O12: ='입력표(공립)'!AC222 -> 0 | P12: ='입력표(공립)'!AD222 -> 0 | Q12: ='입력표(공립)'!AE222 -> 0
B13: 7 | C13: ='입력표(공립)'!B223 -> 0 | D13: ='입력표(공립)'!C223 -> 0 | E13: ='입력표(공립)'!D223 -> 0 | F13: ='입력표(공립)'!E12 -> 0 | G13: =IF(H13>=251,"A",IF(H13>=201,"B",IF(H13>=151,"C",IF(H13>=101,"D",IF(H13<=100,"E"))))) -> E | H13: =SUM(I13:Q13) -> 0 | I13: =SUM('입력표(공립)'!F223:L223) -> 0 | J13: =SUM('입력표(공립)'!M223:O223) -> 0 | K13: =SUM('입력표(공립)'!P223:V223) -> 0 | L13: =SUM('입력표(공립)'!W223:Z223) -> 0 | M13: =SUM('입력표(공립)'!AA223) -> 0 | N13: ='입력표(공립)'!AB223 -> 0 | O13: ='입력표(공립)'!AC223 -> 0 | P13: ='입력표(공립)'!AD223 -> 0 | Q13: ='입력표(공립)'!AE223 -> 0
B14: 8 | C14: ='입력표(공립)'!B224 -> 0 | D14: ='입력표(공립)'!C224 -> 0 | E14: ='입력표(공립)'!D224 -> 0 | F14: ='입력표(공립)'!E13 -> 0 | G14: =IF(H14>=251,"A",IF(H14>=201,"B",IF(H14>=151,"C",IF(H14>=101,"D",IF(H14<=100,"E"))))) -> E | H14: =SUM(I14:Q14) -> 0 | I14: =SUM('입력표(공립)'!F224:L224) -> 0 | J14: =SUM('입력표(공립)'!M224:O224) -> 0 | K14: =SUM('입력표(공립)'!P224:V224) -> 0 | L14: =SUM('입력표(공립)'!W224:Z224) -> 0 | M14: =SUM('입력표(공립)'!AA224) -> 0 | N14: ='입력표(공립)'!AB224 -> 0 | O14: ='입력표(공립)'!AC224 -> 0 | P14: ='입력표(공립)'!AD224 -> 0 | Q14: ='입력표(공립)'!AE224 -> 0
B15: 9 | C15: ='입력표(공립)'!B225 -> 0 | D15: ='입력표(공립)'!C225 -> 0 | E15: ='입력표(공립)'!D225 -> 0 | F15: ='입력표(공립)'!E14 -> 0 | G15: =IF(H15>=251,"A",IF(H15>=201,"B",IF(H15>=151,"C",IF(H15>=101,"D",IF(H15<=100,"E"))))) -> E | H15: =SUM(I15:Q15) -> 0 | I15: =SUM('입력표(공립)'!F225:L225) -> 0 | J15: =SUM('입력표(공립)'!M225:O225) -> 0 | K15: =SUM('입력표(공립)'!P225:V225) -> 0 | L15: =SUM('입력표(공립)'!W225:Z225) -> 0 | M15: =SUM('입력표(공립)'!AA225) -> 0 | N15: ='입력표(공립)'!AB225 -> 0 | O15: ='입력표(공립)'!AC225 -> 0 | P15: ='입력표(공립)'!AD225 -> 0 | Q15: ='입력표(공립)'!AE225 -> 0
B16: 10 | C16: ='입력표(공립)'!B226 -> 0 | D16: ='입력표(공립)'!C226 -> 0 | E16: ='입력표(공립)'!D226 -> 0 | F16: ='입력표(공립)'!E15 -> 0 | G16: =IF(H16>=251,"A",IF(H16>=201,"B",IF(H16>=151,"C",IF(H16>=101,"D",IF(H16<=100,"E"))))) -> E | H16: =SUM(I16:Q16) -> 0 | I16: =SUM('입력표(공립)'!F226:L226) -> 0 | J16: =SUM('입력표(공립)'!M226:O226) -> 0 | K16: =SUM('입력표(공립)'!P226:V226) -> 0 | L16: =SUM('입력표(공립)'!W226:Z226) -> 0 | M16: =SUM('입력표(공립)'!AA226) -> 0 | N16: ='입력표(공립)'!AB226 -> 0 | O16: ='입력표(공립)'!AC226 -> 0 | P16: ='입력표(공립)'!AD226 -> 0 | Q16: ='입력표(공립)'!AE226 -> 0
B17: 11 | C17: ='입력표(공립)'!B227 -> 0 | D17: ='입력표(공립)'!C227 -> 0 | E17: ='입력표(공립)'!D227 -> 0 | F17: ='입력표(공립)'!E16 -> 0 | G17: =IF(H17>=251,"A",IF(H17>=201,"B",IF(H17>=151,"C",IF(H17>=101,"D",IF(H17<=100,"E"))))) -> E | H17: =SUM(I17:Q17) -> 0 | I17: =SUM('입력표(공립)'!F227:L227) -> 0 | J17: =SUM('입력표(공립)'!M227:O227) -> 0 | K17: =SUM('입력표(공립)'!P227:V227) -> 0 | L17: =SUM('입력표(공립)'!W227:Z227) -> 0 | M17: =SUM('입력표(공립)'!AA227) -> 0 | N17: ='입력표(공립)'!AB227 -> 0 | O17: ='입력표(공립)'!AC227 -> 0 | P17: ='입력표(공립)'!AD227 -> 0 | Q17: ='입력표(공립)'!AE227 -> 0
B18: 12 | C18: ='입력표(공립)'!B228 -> 0 | D18: ='입력표(공립)'!C228 -> 0 | E18: ='입력표(공립)'!D228 -> 0 | F18: ='입력표(공립)'!E17 -> 0 | G18: =IF(H18>=251,"A",IF(H18>=201,"B",IF(H18>=151,"C",IF(H18>=101,"D",IF(H18<=100,"E"))))) -> E | H18: =SUM(I18:Q18) -> 0 | I18: =SUM('입력표(공립)'!F228:L228) -> 0 | J18: =SUM('입력표(공립)'!M228:O228) -> 0 | K18: =SUM('입력표(공립)'!P228:V228) -> 0 | L18: =SUM('입력표(공립)'!W228:Z228) -> 0 | M18: =SUM('입력표(공립)'!AA228) -> 0 | N18: ='입력표(공립)'!AB228 -> 0 | O18: ='입력표(공립)'!AC228 -> 0 | P18: ='입력표(공립)'!AD228 -> 0 | Q18: ='입력표(공립)'!AE228 -> 0
... B214: 208 | C214: ='입력표(공립)'!B424 -> 0 | D214: ='입력표(공립)'!C424 -> 0 | E214: ='입력표(공립)'!D424 -> 0 | F214: ='입력표(공립)'!E213 -> 0 | G214: =IF(H214>=251,"A",IF(H214>=201,"B",IF(H214>=151,"C",IF(H214>=101,"D",IF(H214<=100,"E"))))) -> E | H214: =SUM(I214:Q214) -> 0 | I214: =SUM('입력표(공립)'!F424:L424) -> 0 | J214: =SUM('입력표(공립)'!M424:O424) -> 0 | K214: =SUM('입력표(공립)'!P424:V424) -> 0 | L214: =SUM('입력표(공립)'!W424:Z424) -> 0 | M214: =SUM('입력표(공립)'!AA424) -> 0 | N214: ='입력표(공립)'!AB424 -> 0 | O214: ='입력표(공립)'!AC424 -> 0 | P214: ='입력표(공립)'!AD424 -> 0 | Q214: ='입력표(공립)'!AE424 -> 0

Sheet 사립 총괄표 
B2: 2024년 사립 작은도서관 평가 결과 (총괄표)
B3: * 점수 자동 계산(작성 불필요)
B4: 순번 | C4: 지자체명 (시·군) | D4: 작은도서관명 | E4: 등록일 | F4: 유형 | G4: 등급 | H4: 총점 | I4: 1 | J4: 2 | K4: 3 | L4: 4 | M4: 5 | N4: 6 | O4: 7 | P4: 8 | Q4: 9
I5: 운영/관리 | J5: 시설자원 | K5: 서비스 | L5: 활동 | M5: 독서문화프로그램 우수성 | N5: 이용자 중심의 장서구성 | O5: 작은도서관 홍보 | P5: 지역사회 교류 | Q5: 도, 시군정책 협력도
G6: (A~E) | H6: =SUM(I6:Q6) -> 300 | I6: 80 | J6: 25 | K6: 45 | L6: 50 | M6: 30 | N6: 20 | O6: 10 | P6: 10 | Q6: 30
B7: ='입력표(사립)'!A750 -> 1 | C7: ='입력표(사립)'!B750 -> 00시 | D7: ='입력표(사립)'!C750 -> 00작은도서관 | E7: ='입력표(사립)'!D750 -> 2020.09.14. | F7: ='입력표(사립)'!E750 -> 개인 및 단체 | G7: =IF(H7>=251,"A",IF(H7>=201,"B",IF(H7>=151,"C",IF(H7>=101,"D",IF(H7<101,"E"))))) -> E | H7: =SUM(I7:Q7) -> 0 | I7: =SUM('입력표(사립)'!F750:K750) -> 0 | J7: =SUM('입력표(사립)'!L750:O750) -> 0 | K7: =SUM('입력표(사립)'!P750:U750) -> 0 | L7: =SUM('입력표(사립)'!V750:Y750) -> 0 | M7: =SUM('입력표(사립)'!Z750) -> 0 | N7: =SUM('입력표(사립)'!AA750) -> 0 | O7: =SUM('입력표(사립)'!AB750) -> 0 | P7: =SUM('입력표(사립)'!AC750) -> 0 | Q7: =SUM('입력표(사립)'!AD750) -> 0
B8: ='입력표(사립)'!A751 -> 2 | C8: ='입력표(사립)'!B751 -> 00군 | D8: ='입력표(사립)'!C751 -> 0 | E8: ='입력표(사립)'!D751 -> 0 | F8: ='입력표(사립)'!E751 -> 종교시설 | G8: =IF(H8>=251,"A",IF(H8>=201,"B",IF(H8>=151,"C",IF(H8>=101,"D",IF(H8<101,"E"))))) -> E | H8: =SUM(I8:Q8) -> 0 | I8: =SUM('입력표(사립)'!F751:K751) -> 0 | J8: =SUM('입력표(사립)'!L751:O751) -> 0 | K8: =SUM('입력표(사립)'!P751:U751) -> 0 | L8: =SUM('입력표(사립)'!V751:Y751) -> 0 | M8: =SUM('입력표(사립)'!Z751) -> 0 | N8: =SUM('입력표(사립)'!AA751) -> 0 | O8: =SUM('입력표(사립)'!AB751) -> 0 | P8: =SUM('입력표(사립)'!AC751) -> 0 | Q8: =SUM('입력표(사립)'!AD751) -> 0
B9: ='입력표(사립)'!A752 -> 3 | C9: ='입력표(사립)'!B752 -> 0 | D9: ='입력표(사립)'!C752 -> 0 | E9: ='입력표(사립)'!D752 -> 0 | F9: ='입력표(사립)'!E752 -> 0 | G9: =IF(H9>=251,"A",IF(H9>=201,"B",IF(H9>=151,"C",IF(H9>=101,"D",IF(H9<101,"E"))))) -> E | H9: =SUM(I9:Q9) -> 0 | I9: =SUM('입력표(사립)'!F752:K752) -> 0 | J9: =SUM('입력표(사립)'!L752:O752) -> 0 | K9: =SUM('입력표(사립)'!P752:U752) -> 0 | L9: =SUM('입력표(사립)'!V752:Y752) -> 0 | M9: =SUM('입력표(사립)'!Z752) -> 0 | N9: =SUM('입력표(사립)'!AA752) -> 0 | O9: =SUM('입력표(사립)'!AB752) -> 0 | P9: =SUM('입력표(사립)'!AC752) -> 0 | Q9: =SUM('입력표(사립)'!AD752) -> 0
B10: ='입력표(사립)'!A753 -> 4 | C10: ='입력표(사립)'!B753 -> 0 | D10: ='입력표(사립)'!C753 -> 0 | E10: ='입력표(사립)'!D753 -> 0 | F10: ='입력표(사립)'!E753 -> 0 | G10: =IF(H10>=251,"A",IF(H10>=201,"B",IF(H10>=151,"C",IF(H10>=101,"D",IF(H10<101,"E"))))) -> E | H10: =SUM(I10:Q10) -> 0 | I10: =SUM('입력표(사립)'!F753:K753) -> 0 | J10: =SUM('입력표(사립)'!L753:O753) -> 0 | K10: =SUM('입력표(사립)'!P753:U753) -> 0 | L10: =SUM('입력표(사립)'!V753:Y753) -> 0 | M10: =SUM('입력표(사립)'!Z753) -> 0 | N10: =SUM('입력표(사립)'!AA753) -> 0 | O10: =SUM('입력표(사립)'!AB753) -> 0 | P10: =SUM('입력표(사립)'!AC753) -> 0 | Q10: =SUM('입력표(사립)'!AD753) -> 0
B11: ='입력표(사립)'!A754 -> 5 | C11: ='입력표(사립)'!B754 -> 0 | D11: ='입력표(사립)'!C754 -> 0 | E11: ='입력표(사립)'!D754 -> 0 | F11: ='입력표(사립)'!E754 -> 0 | G11: =IF(H11>=251,"A",IF(H11>=201,"B",IF(H11>=151,"C",IF(H11>=101,"D",IF(H11<101,"E"))))) -> E | H11: =SUM(I11:Q11) -> 0 | I11: =SUM('입력표(사립)'!F754:K754) -> 0 | J11: =SUM('입력표(사립)'!L754:O754) -> 0 | K11: =SUM('입력표(사립)'!P754:U754) -> 0 | L11: =SUM('입력표(사립)'!V754:Y754) -> 0 | M11: =SUM('입력표(사립)'!Z754) -> 0 | N11: =SUM('입력표(사립)'!AA754) -> 0 | O11: =SUM('입력표(사립)'!AB754) -> 0 | P11: =SUM('입력표(사립)'!AC754) -> 0 | Q11: =SUM('입력표(사립)'!AD754) -> 0
B12: ='입력표(사립)'!A755 -> 6 | C12: ='입력표(사립)'!B755 -> 0 | D12: ='입력표(사립)'!C755 -> 0 | E12: ='입력표(사립)'!D755 -> 0 | F12: ='입력표(사립)'!E755 -> 0 | G12: =IF(H12>=251,"A",IF(H12>=201,"B",IF(H12>=151,"C",IF(H12>=101,"D",IF(H12<101,"E"))))) -> E | H12: =SUM(I12:Q12) -> 0 | I12: =SUM('입력표(사립)'!F755:K755) -> 0 | J12: =SUM('입력표(사립)'!L755:O755) -> 0 | K12: =SUM('입력표(사립)'!P755:U755) -> 0 | L12: =SUM('입력표(사립)'!V755:Y755) -> 0 | M12: =SUM('입력표(사립)'!Z755) -> 0 | N12: =SUM('입력표(사립)'!AA755) -> 0 | O12: =SUM('입력표(사립)'!AB755) -> 0 | P12: =SUM('입력표(사립)'!AC755) -> 0 | Q12: =SUM('입력표(사립)'!AD755) -> 0
B13: ='입력표(사립)'!A756 -> 7 | C13: ='입력표(사립)'!B756 -> 0 | D13: ='입력표(사립)'!C756 -> 0 | E13: ='입력표(사립)'!D756 -> 0 | F13: ='입력표(사립)'!E756 -> 0 | G13: =IF(H13>=251,"A",IF(H13>=201,"B",IF(H13>=151,"C",IF(H13>=101,"D",IF(H13<101,"E"))))) -> E | H13: =SUM(I13:Q13) -> 0 | I13: =SUM('입력표(사립)'!F756:K756) -> 0 | J13: =SUM('입력표(사립)'!L756:O756) -> 0 | K13: =SUM('입력표(사립)'!P756:U756) -> 0 | L13: =SUM('입력표(사립)'!V756:Y756) -> 0 | M13: =SUM('입력표(사립)'!Z756) -> 0 | N13: =SUM('입력표(사립)'!AA756) -> 0 | O13: =SUM('입력표(사립)'!AB756) -> 0 | P13: =SUM('입력표(사립)'!AC756) -> 0 | Q13: =SUM('입력표(사립)'!AD756) -> 0
B14: ='입력표(사립)'!A757 -> 8 | C14: ='입력표(사립)'!B757 -> 0 | D14: ='입력표(사립)'!C757 -> 0 | E14: ='입력표(사립)'!D757 -> 0 | F14: ='입력표(사립)'!E757 -> 0 | G14: =IF(H14>=251,"A",IF(H14>=201,"B",IF(H14>=151,"C",IF(H14>=101,"D",IF(H14<101,"E"))))) -> E | H14: =SUM(I14:Q14) -> 0 | I14: =SUM('입력표(사립)'!F757:K757) -> 0 | J14: =SUM('입력표(사립)'!L757:O757) -> 0 | K14: =SUM('입력표(사립)'!P757:U757) -> 0 | L14: =SUM('입력표(사립)'!V757:Y757) -> 0 | M14: =SUM('입력표(사립)'!Z757) -> 0 | N14: =SUM('입력표(사립)'!AA757) -> 0 | O14: =SUM('입력표(사립)'!AB757) -> 0 | P14: =SUM('입력표(사립)'!AC757) -> 0 | Q14: =SUM('입력표(사립)'!AD757) -> 0
B15: ='입력표(사립)'!A758 -> 9 | C15: ='입력표(사립)'!B758 -> 0 | D15: ='입력표(사립)'!C758 -> 0 | E15: ='입력표(사립)'!D758 -> 0 | F15: ='입력표(사립)'!E758 -> 0 | G15: =IF(H15>=251,"A",IF(H15>=201,"B",IF(H15>=151,"C",IF(H15>=101,"D",IF(H15<101,"E"))))) -> E | H15: =SUM(I15:Q15) -> 0 | I15: =SUM('입력표(사립)'!F758:K758) -> 0 | J15: =SUM('입력표(사립)'!L758:O758) -> 0 | K15: =SUM('입력표(사립)'!P758:U758) -> 0 | L15: =SUM('입력표(사립)'!V758:Y758) -> 0 | M15: =SUM('입력표(사립)'!Z758) -> 0 | N15: =SUM('입력표(사립)'!AA758) -> 0 | O15: =SUM('입력표(사립)'!AB758) -> 0 | P15: =SUM('입력표(사립)'!AC758) -> 0 | Q15: =SUM('입력표(사립)'!AD758) -> 0
B16: ='입력표(사립)'!A759 -> 10 | C16: ='입력표(사립)'!B759 -> 0 | D16: ='입력표(사립)'!C759 -> 0 | E16: ='입력표(사립)'!D759 -> 0 | F16: ='입력표(사립)'!E759 -> 0 | G16: =IF(H16>=251,"A",IF(H16>=201,"B",IF(H16>=151,"C",IF(H16>=101,"D",IF(H16<101,"E"))))) -> E | H16: =SUM(I16:Q16) -> 0 | I16: =SUM('입력표(사립)'!F759:K759) -> 0 | J16: =SUM('입력표(사립)'!L759:O759) -> 0 | K16: =SUM('입력표(사립)'!P759:U759) -> 0 | L16: =SUM('입력표(사립)'!V759:Y759) -> 0 | M16: =SUM('입력표(사립)'!Z759) -> 0 | N16: =SUM('입력표(사립)'!AA759) -> 0 | O16: =SUM('입력표(사립)'!AB759) -> 0 | P16: =SUM('입력표(사립)'!AC759) -> 0 | Q16: =SUM('입력표(사립)'!AD759) -> 0
B17: ='입력표(사립)'!A760 -> 11 | C17: ='입력표(사립)'!B760 -> 0 | D17: ='입력표(사립)'!C760 -> 0 | E17: ='입력표(사립)'!D760 -> 0 | F17: ='입력표(사립)'!E760 -> 0 | G17: =IF(H17>=251,"A",IF(H17>=201,"B",IF(H17>=151,"C",IF(H17>=101,"D",IF(H17<101,"E"))))) -> E | H17: =SUM(I17:Q17) -> 0 | I17: =SUM('입력표(사립)'!F760:K760) -> 0 | J17: =SUM('입력표(사립)'!L760:O760) -> 0 | K17: =SUM('입력표(사립)'!P760:U760) -> 0 | L17: =SUM('입력표(사립)'!V760:Y760) -> 0 | M17: =SUM('입력표(사립)'!Z760) -> 0 | N17: =SUM('입력표(사립)'!AA760) -> 0 | O17: =SUM('입력표(사립)'!AB760) -> 0 | P17: =SUM('입력표(사립)'!AC760) -> 0 | Q17: =SUM('입력표(사립)'!AD760) -> 0
B18: ='입력표(사립)'!A761 -> 12 | C18: ='입력표(사립)'!B761 -> 0 | D18: ='입력표(사립)'!C761 -> 0 | E18: ='입력표(사립)'!D761 -> 0 | F18: ='입력표(사립)'!E761 -> 0 | G18: =IF(H18>=251,"A",IF(H18>=201,"B",IF(H18>=151,"C",IF(H18>=101,"D",IF(H18<101,"E"))))) -> E | H18: =SUM(I18:Q18) -> 0 | I18: =SUM('입력표(사립)'!F761:K761) -> 0 | J18: =SUM('입력표(사립)'!L761:O761) -> 0 | K18: =SUM('입력표(사립)'!P761:U761) -> 0 | L18: =SUM('입력표(사립)'!V761:Y761) -> 0 | M18: =SUM('입력표(사립)'!Z761) -> 0 | N18: =SUM('입력표(사립)'!AA761) -> 0 | O18: =SUM('입력표(사립)'!AB761) -> 0 | P18: =SUM('입력표(사립)'!AC761) -> 0 | Q18: =SUM('입력표(사립)'!AD761) -> 0
... B747: ='입력표(사립)'!A1490 -> 741 | C747: ='입력표(사립)'!B1490 -> 0 | D747: ='입력표(사립)'!C1490 -> 0 | E747: ='입력표(사립)'!D1490 -> 0 | F747: ='입력표(사립)'!E1490 -> 0 | G747: =IF(H747>=251,"A",IF(H747>=201,"B",IF(H747>=151,"C",IF(H747>=101,"D",IF(H747<101,"E"))))) -> E | H747: =SUM(I747:Q747) -> 0 | I747: =SUM('입력표(사립)'!F1490:K1490) -> 0 | J747: =SUM('입력표(사립)'!L1490:O1490) -> 0 | K747: =SUM('입력표(사립)'!P1490:U1490) -> 0 | L747: =SUM('입력표(사립)'!V1490:Y1490) -> 0 | M747: =SUM('입력표(사립)'!Z1490) -> 0 | N747: =SUM('입력표(사립)'!AA1490) -> 0 | O747: =SUM('입력표(사립)'!AB1490) -> 0 | P747: =SUM('입력표(사립)'!AC1490) -> 0 | Q747: =SUM('입력표(사립)'!AD1490) -> 0

Sheet 입력표(공립)
A1: 2025년도 공립 작은도서관 평가 결과 입력표 ○ 흰색부분만 입력(점수 자동 계산됨) - (정량) 콤보박스 이용 또는 실적(수치) 입력 / (정성) 점수 입력 ○ 작성 방법(붙임 3 참고)을 준수하여 입력 요청 ○ 입력단위 확인요망 - 금액 입력단위는 반드시 [만원]단위로 입력 (예 : 실제 금액이 160,000원일 경우 16으로 입력)
A3: 작은도서관 현황 | F3: 정량평가 | AA3: 정성평가
A4: 연번 | B4: 시군명 | C4: 작은도서관명 | D4: 등록일 | E4: 운영주체 ※ 콤보박스 이용 입력 | F4: 1. (공립)연간 운영계획 수립 ※ 콤보박스 이용 입력 | G4: 2.개관일수 (1일 4시간 이상) | H4: 3. 개관시간 | I4: 4. 교육 참가 시간 (근무자 총 누적 교육시간) | J4: 5. 자료구입비 | K4: 6. (공립)전담인력의 전문성 | L4: 7. (공립)이용자 만족도 실시 여부 ※ 콤보박스 이용 입력 | M4: 8. (공립)연속간행물 | N4: 9. (공립)도서관리 및 정보검색 ※ 콤보박스 이용 입력 | O4: 10. 연간 장서 수집량 | P4: 11-1. 연간 대출권수 (읍/동 소재 작은도서관) | Q4: 11-2. 연간 대출권수 (면 소재 작은도서관) | R4: 12-1. 연간 이용자 수 (읍/동 소재 작은도서관) | S4: 12-2. 연간 이용자 수 (면 소재 작은도서관) | T4: 13. (공립)상호대차 서비스 실시 ※ 콤보박스 이용 입력 | U4: 14. 독서문화프로그램 수 ※ 없는 경우 0으로 입력 | V4: 15. 독서문화프로그램 실시 횟수 ※ 없는 경우 0으로 입력 | W4: 16. 독서·문화 동아리 구성 ※ 없는 경우 0으로 입력 | X4: 17. 독서·문화 동아리 활동 횟수 | Y4: 18. 도서관운영위원회 구성 ※ 콤보박스 이용 입력 | Z4: 19. 도서관 운영위원회 활동 횟수 | AA4: 1. 독서문화 프로그램 우수성 | AB4: 2. 이용자 중심의 장서구성 | AC4: 3. 작은도서관 홍보 | AD4: 4. 지역사회 교류 | AE4: 5. 도정 협력도
A5: 평가기준 | K5: 인원 수 작성(숫자 입력) ex) 0, 1, 5 | M5: 숫자로 입력 ex) 0, 5, 8 ,10
A6: 1 | B6: 00시 | C6: 00작은도서관 | D6: 2015.11.24. | E6: 지자체 | AH6: 지자체
A7: 2 | E7: 민간위탁 | P7: 15000 | R7: 7000 | T7: 실시 | AH7: 민간위탁
A8: 3
A9: 4
A10: 5 | AI10: 관리자 + 이용자(인터넷 가능)
A11: 6 | AI11: 관리자(도서관리프로그램용)
A12: 7 | AI12: 없음
A13: 8
A14: 9
A15: 10
A16: 11
A17: 12
A18: 13
A19: 14
A20: 15
A21: 16
A22: 17
A23: 18
A24: 19
... A213: 208
A214: 점수환산결과 | AF214: 합계
A217: =A6 -> 1 | B217: =B6 -> 00시 | C217: =C6 -> 00작은도서관 | D217: =D6 -> 2015.11.24. | F217: =IF(F6="수립",10,0) -> 0 | G217: =IF(G6>=6,10,IF(G6=5,5,IF(G6<=4,0))) -> 0 | H217: =IF(H6>=48,10,IF(H6>=40,5,IF(H6<40,0))) -> 0 | I217: =IF(I6>=40,10,IF(I6>=25,8,IF(I6>=15,6,IF(I6>=8,4,IF(I6>=1,2,0))))) -> 0 | J217: =IF(J6>=700,10,IF(J6>=600,8,IF(J6>=500,6,IF(J6>=400,4,IF(J6>=200,2,IF(J6>=50,1,0)))))) -> 0 | K217: =IF(K6>=1,5,0) -> 0 | L217: =IF(L6="실시",10,0) -> 0 | M217: =IF(M6>=8,5,IF(M6>=4,3,IF(M6>=1,1,0))) -> 0 | N217: =IF(N6="관리자 + 이용자(인터넷 가능)",5,IF(N6="관리자(도서관리프로그램용)",3,0)) -> 0 | O217: =IF(O6>=1000,10,IF(O6>=800,8,IF(O6>=600,6,IF(O6>=300,4,IF(O6>=100,2,IF(O6>=1,1,0)))))) -> 0 | P217: =IF(P6>=15000,15,IF(P6>=12000,12,IF(P6>=8000,9,IF(P6>=5000,6,IF(P6>=2000,3,IF(P6>=100,1,0)))))) -> 0 | Q217: =IF(Q6>=8000,15,IF(Q6>=6000,12,IF(Q6>=4000,9,IF(Q6>=2000,6,IF(Q6>=1000,3,IF(Q6>=50,1,0)))))) -> 0 | R217: =IF(R6>=7000,10,IF(R6>=5000,8,IF(R6>=3000,6,IF(R6>=1000,4,IF(R6>=500,2,0))))) -> 0 | S217: =IF(S6>=6000,10,IF(S6>=4500,8,IF(S6>=2500,6,IF(S6>=1000,4,IF(S6>=500,2,0))))) -> 0 | T217: =IF(T6="실시",10,0) -> 0 | U217: =IF(U6>=16,15,IF(U6>=11,12,IF(U6>=6,9,IF(U6>=1,6,0)))) -> 0 | V217: =IF(V6>=60,15,IF(V6>=45,12,IF(V6>=30,10,IF(V6>=15,8,IF(V6>=1,6,0))))) -> 0 | W217: =IF(W6>=3,10,IF(W6>=2,7,IF(W6>=1,4,0))) -> 0 | X217: =IF(X6>=25,15,IF(X6>=18,12,IF(X6>=12,9,IF(X6>=6,6,IF(X6>=3,3,IF(X6>=1,1,0)))))) -> 0 | Y217: =IF(Y6="구성",15,0) -> 0 | Z217: =IF(Z6>=5,10,IF(Z6>=4,8,IF(Z6>=3,6,IF(Z6>=2,4,IF(Z6>=1,2,0))))) -> 0 | AA217: =AA6 -> 0 | AB217: =AB6 -> 0 | AC217: =AC6 -> 0 | AD217: =AD6 -> 0 | AE217: =AE6 -> 0 | AF217: =SUM(F217:AE217) -> 0
A218: =A7 -> 2 | B218: =B7 -> 0 | C218: =C7 -> 0 | D218: =D7 -> 0 | F218: =IF(F7="수립",10,0) -> 0 | G218: =IF(G7>=6,10,IF(G7=5,5,IF(G7<=4,0))) -> 0 | H218: =IF(H7>=48,10,IF(H7>=40,5,IF(H7<40,0))) -> 0 | I218: =IF(I7>=40,10,IF(I7>=25,8,IF(I7>=15,6,IF(I7>=8,4,IF(I7>=1,2,0))))) -> 0 | J218: =IF(J7>=700,10,IF(J7>=600,8,IF(J7>=500,6,IF(J7>=400,4,IF(J7>=200,2,IF(J7>=50,1,0)))))) -> 0 | K218: =IF(K7>=1,5,0) -> 0 | L218: =IF(L7="실시",10,0) -> 0 | M218: =IF(M7>=8,5,IF(M7>=4,3,IF(M7>=1,1,0))) -> 0 | N218: =IF(N7="관리자 + 이용자(인터넷 가능)",5,IF(N7="관리자(도서관리프로그램용)",3,0)) -> 0 | O218: =IF(O7>=1000,10,IF(O7>=800,8,IF(O7>=600,6,IF(O7>=300,4,IF(O7>=100,2,IF(O7>=1,1,0)))))) -> 0 | P218: =IF(P7>=15000,15,IF(P7>=12000,12,IF(P7>=8000,9,IF(P7>=5000,6,IF(P7>=2000,3,IF(P7>=100,1,0)))))) -> 15 | Q218: =IF(Q7>=8000,15,IF(Q7>=6000,12,IF(Q7>=4000,9,IF(Q7>=2000,6,IF(Q7>=1000,3,IF(Q7>=50,1,0)))))) -> 0 | R218: =IF(R7>=7000,10,IF(R7>=5000,8,IF(R7>=3000,6,IF(R7>=1000,4,IF(R7>=500,2,0))))) -> 10 | S218: =IF(S7>=6000,10,IF(S7>=4500,8,IF(S7>=2500,6,IF(S7>=1000,4,IF(S7>=500,2,0))))) -> 0 | T218: =IF(T7="실시",10,0) -> 10 | U218: =IF(U7>=16,15,IF(U7>=11,12,IF(U7>=6,9,IF(U7>=1,6,0)))) -> 0 | V218: =IF(V7>=60,15,IF(V7>=45,12,IF(V7>=30,10,IF(V7>=15,8,IF(V7>=1,6,0))))) -> 0 | W218: =IF(W7>=3,10,IF(W7>=2,7,IF(W7>=1,4,0))) -> 0 | X218: =IF(X7>=25,15,IF(X7>=18,12,IF(X7>=12,9,IF(X7>=6,6,IF(X7>=3,3,IF(X7>=1,1,0)))))) -> 0 | Y218: =IF(Y7="구성",15,0) -> 0 | Z218: =IF(Z7>=5,10,IF(Z7>=4,8,IF(Z7>=3,6,IF(Z7>=2,4,IF(Z7>=1,2,0))))) -> 0 | AA218: =AA7 -> 0 | AB218: =AB7 -> 0 | AC218: =AC7 -> 0 | AD218: =AD7 -> 0 | AE218: =AE7 -> 0 | AF218: =SUM(F218:AE218) -> 35
A219: =A8 -> 3 | B219: =B8 -> 0 | C219: =C8 -> 0 | D219: =D8 -> 0 | F219: =IF(F8="수립",10,0) -> 0 | G219: =IF(G8>=6,10,IF(G8=5,5,IF(G8<=4,0))) -> 0 | H219: =IF(H8>=48,10,IF(H8>=40,5,IF(H8<40,0))) -> 0 | I219: =IF(I8>=40,10,IF(I8>=25,8,IF(I8>=15,6,IF(I8>=8,4,IF(I8>=1,2,0))))) -> 0 | J219: =IF(J8>=700,10,IF(J8>=600,8,IF(J8>=500,6,IF(J8>=400,4,IF(J8>=200,2,IF(J8>=50,1,0)))))) -> 0 | K219: =IF(K8>=1,5,0) -> 0 | L219: =IF(L8="실시",10,0) -> 0 | M219: =IF(M8>=8,5,IF(M8>=4,3,IF(M8>=1,1,0))) -> 0 | N219: =IF(N8="관리자 + 이용자(인터넷 가능)",5,IF(N8="관리자(도서관리프로그램용)",3,0)) -> 0 | O219: =IF(O8>=1000,10,IF(O8>=800,8,IF(O8>=600,6,IF(O8>=300,4,IF(O8>=100,2,IF(O8>=1,1,0)))))) -> 0 | P219: =IF(P8>=15000,15,IF(P8>=12000,12,IF(P8>=8000,9,IF(P8>=5000,6,IF(P8>=2000,3,IF(P8>=100,1,0)))))) -> 0 | Q219: =IF(Q8>=8000,15,IF(Q8>=6000,12,IF(Q8>=4000,9,IF(Q8>=2000,6,IF(Q8>=1000,3,IF(Q8>=50,1,0)))))) -> 0 | R219: =IF(R8>=7000,10,IF(R8>=5000,8,IF(R8>=3000,6,IF(R8>=1000,4,IF(R8>=500,2,0))))) -> 0 | S219: =IF(S8>=6000,10,IF(S8>=4500,8,IF(S8>=2500,6,IF(S8>=1000,4,IF(S8>=500,2,0))))) -> 0 | T219: =IF(T8="실시",10,0) -> 0 | U219: =IF(U8>=16,15,IF(U8>=11,12,IF(U8>=6,9,IF(U8>=1,6,0)))) -> 0 | V219: =IF(V8>=60,15,IF(V8>=45,12,IF(V8>=30,10,IF(V8>=15,8,IF(V8>=1,6,0))))) -> 0 | W219: =IF(W8>=3,10,IF(W8>=2,7,IF(W8>=1,4,0))) -> 0 | X219: =IF(X8>=25,15,IF(X8>=18,12,IF(X8>=12,9,IF(X8>=6,6,IF(X8>=3,3,IF(X8>=1,1,0)))))) -> 0 | Y219: =IF(Y8="구성",15,0) -> 0 | Z219: =IF(Z8>=5,10,IF(Z8>=4,8,IF(Z8>=3,6,IF(Z8>=2,4,IF(Z8>=1,2,0))))) -> 0 | AA219: =AA8 -> 0 | AB219: =AB8 -> 0 | AC219: =AC8 -> 0 | AD219: =AD8 -> 0 | AE219: =AE8 -> 0 | AF219: =SUM(F219:AE219) -> 0
A220: =A9 -> 4 | B220: =B9 -> 0 | C220: =C9 -> 0 | D220: =D9 -> 0 | F220: =IF(F9="수립",10,0) -> 0 | G220: =IF(G9>=6,10,IF(G9=5,5,IF(G9<=4,0))) -> 0 | H220: =IF(H9>=48,10,IF(H9>=40,5,IF(H9<40,0))) -> 0 | I220: =IF(I9>=40,10,IF(I9>=25,8,IF(I9>=15,6,IF(I9>=8,4,IF(I9>=1,2,0))))) -> 0 | J220: =IF(J9>=700,10,IF(J9>=600,8,IF(J9>=500,6,IF(J9>=400,4,IF(J9>=200,2,IF(J9>=50,1,0)))))) -> 0 | K220: =IF(K9>=1,5,0) -> 0 | L220: =IF(L9="실시",10,0) -> 0 | M220: =IF(M9>=8,5,IF(M9>=4,3,IF(M9>=1,1,0))) -> 0 | N220: =IF(N9="관리자 + 이용자(인터넷 가능)",5,IF(N9="관리자(도서관리프로그램용)",3,0)) -> 0 | O220: =IF(O9>=1000,10,IF(O9>=800,8,IF(O9>=600,6,IF(O9>=300,4,IF(O9>=100,2,IF(O9>=1,1,0)))))) -> 0 | P220: =IF(P9>=15000,15,IF(P9>=12000,12,IF(P9>=8000,9,IF(P9>=5000,6,IF(P9>=2000,3,IF(P9>=100,1,0)))))) -> 0 | Q220: =IF(Q9>=8000,15,IF(Q9>=6000,12,IF(Q9>=4000,9,IF(Q9>=2000,6,IF(Q9>=1000,3,IF(Q9>=50,1,0)))))) -> 0 | R220: =IF(R9>=7000,10,IF(R9>=5000,8,IF(R9>=3000,6,IF(R9>=1000,4,IF(R9>=500,2,0))))) -> 0 | S220: =IF(S9>=6000,10,IF(S9>=4500,8,IF(S9>=2500,6,IF(S9>=1000,4,IF(S9>=500,2,0))))) -> 0 | T220: =IF(T9="실시",10,0) -> 0 | U220: =IF(U9>=16,15,IF(U9>=11,12,IF(U9>=6,9,IF(U9>=1,6,0)))) -> 0 | V220: =IF(V9>=60,15,IF(V9>=45,12,IF(V9>=30,10,IF(V9>=15,8,IF(V9>=1,6,0))))) -> 0 | W220: =IF(W9>=3,10,IF(W9>=2,7,IF(W9>=1,4,0))) -> 0 | X220: =IF(X9>=25,15,IF(X9>=18,12,IF(X9>=12,9,IF(X9>=6,6,IF(X9>=3,3,IF(X9>=1,1,0)))))) -> 0 | Y220: =IF(Y9="구성",15,0) -> 0 | Z220: =IF(Z9>=5,10,IF(Z9>=4,8,IF(Z9>=3,6,IF(Z9>=2,4,IF(Z9>=1,2,0))))) -> 0 | AA220: =AA9 -> 0 | AB220: =AB9 -> 0 | AC220: =AC9 -> 0 | AD220: =AD9 -> 0 | AE220: =AE9 -> 0 | AF220: =SUM(F220:AE220) -> 0
A221: =A10 -> 5 | B221: =B10 -> 0 | C221: =C10 -> 0 | D221: =D10 -> 0 | F221: =IF(F10="수립",10,0) -> 0 | G221: =IF(G10>=6,10,IF(G10=5,5,IF(G10<=4,0))) -> 0 | H221: =IF(H10>=48,10,IF(H10>=40,5,IF(H10<40,0))) -> 0 | I221: =IF(I10>=40,10,IF(I10>=25,8,IF(I10>=15,6,IF(I10>=8,4,IF(I10>=1,2,0))))) -> 0 | J221: =IF(J10>=700,10,IF(J10>=600,8,IF(J10>=500,6,IF(J10>=400,4,IF(J10>=200,2,IF(J10>=50,1,0)))))) -> 0 | K221: =IF(K10>=1,5,0) -> 0 | L221: =IF(L10="실시",10,0) -> 0 | M221: =IF(M10>=8,5,IF(M10>=4,3,IF(M10>=1,1,0))) -> 0 | N221: =IF(N10="관리자 + 이용자(인터넷 가능)",5,IF(N10="관리자(도서관리프로그램용)",3,0)) -> 0 | O221: =IF(O10>=1000,10,IF(O10>=800,8,IF(O10>=600,6,IF(O10>=300,4,IF(O10>=100,2,IF(O10>=1,1,0)))))) -> 0 | P221: =IF(P10>=15000,15,IF(P10>=12000,12,IF(P10>=8000,9,IF(P10>=5000,6,IF(P10>=2000,3,IF(P10>=100,1,0)))))) -> 0 | Q221: =IF(Q10>=8000,15,IF(Q10>=6000,12,IF(Q10>=4000,9,IF(Q10>=2000,6,IF(Q10>=1000,3,IF(Q10>=50,1,0)))))) -> 0 | R221: =IF(R10>=7000,10,IF(R10>=5000,8,IF(R10>=3000,6,IF(R10>=1000,4,IF(R10>=500,2,0))))) -> 0 | S221: =IF(S10>=6000,10,IF(S10>=4500,8,IF(S10>=2500,6,IF(S10>=1000,4,IF(S10>=500,2,0))))) -> 0 | T221: =IF(T10="실시",10,0) -> 0 | U221: =IF(U10>=16,15,IF(U10>=11,12,IF(U10>=6,9,IF(U10>=1,6,0)))) -> 0 | V221: =IF(V10>=60,15,IF(V10>=45,12,IF(V10>=30,10,IF(V10>=15,8,IF(V10>=1,6,0))))) -> 0 | W221: =IF(W10>=3,10,IF(W10>=2,7,IF(W10>=1,4,0))) -> 0 | X221: =IF(X10>=25,15,IF(X10>=18,12,IF(X10>=12,9,IF(X10>=6,6,IF(X10>=3,3,IF(X10>=1,1,0)))))) -> 0 | Y221: =IF(Y10="구성",15,0) -> 0 | Z221: =IF(Z10>=5,10,IF(Z10>=4,8,IF(Z10>=3,6,IF(Z10>=2,4,IF(Z10>=1,2,0))))) -> 0 | AA221: =AA10 -> 0 | AB221: =AB10 -> 0 | AC221: =AC10 -> 0 | AD221: =AD10 -> 0 | AE221: =AE10 -> 0 | AF221: =SUM(F221:AE221) -> 0
A222: =A11 -> 6 | B222: =B11 -> 0 | C222: =C11 -> 0 | D222: =D11 -> 0 | F222: =IF(F11="수립",10,0) -> 0 | G222: =IF(G11>=6,10,IF(G11=5,5,IF(G11<=4,0))) -> 0 | H222: =IF(H11>=48,10,IF(H11>=40,5,IF(H11<40,0))) -> 0 | I222: =IF(I11>=40,10,IF(I11>=25,8,IF(I11>=15,6,IF(I11>=8,4,IF(I11>=1,2,0))))) -> 0 | J222: =IF(J11>=700,10,IF(J11>=600,8,IF(J11>=500,6,IF(J11>=400,4,IF(J11>=200,2,IF(J11>=50,1,0)))))) -> 0 | K222: =IF(K11>=1,5,0) -> 0 | L222: =IF(L11="실시",10,0) -> 0 | M222: =IF(M11>=8,5,IF(M11>=4,3,IF(M11>=1,1,0))) -> 0 | N222: =IF(N11="관리자 + 이용자(인터넷 가능)",5,IF(N11="관리자(도서관리프로그램용)",3,0)) -> 0 | O222: =IF(O11>=1000,10,IF(O11>=800,8,IF(O11>=600,6,IF(O11>=300,4,IF(O11>=100,2,IF(O11>=1,1,0)))))) -> 0 | P222: =IF(P11>=15000,15,IF(P11>=12000,12,IF(P11>=8000,9,IF(P11>=5000,6,IF(P11>=2000,3,IF(P11>=100,1,0)))))) -> 0 | Q222: =IF(Q11>=8000,15,IF(Q11>=6000,12,IF(Q11>=4000,9,IF(Q11>=2000,6,IF(Q11>=1000,3,IF(Q11>=50,1,0)))))) -> 0 | R222: =IF(R11>=7000,10,IF(R11>=5000,8,IF(R11>=3000,6,IF(R11>=1000,4,IF(R11>=500,2,0))))) -> 0 | S222: =IF(S11>=6000,10,IF(S11>=4500,8,IF(S11>=2500,6,IF(S11>=1000,4,IF(S11>=500,2,0))))) -> 0 | T222: =IF(T11="실시",10,0) -> 0 | U222: =IF(U11>=16,15,IF(U11>=11,12,IF(U11>=6,9,IF(U11>=1,6,0)))) -> 0 | V222: =IF(V11>=60,15,IF(V11>=45,12,IF(V11>=30,10,IF(V11>=15,8,IF(V11>=1,6,0))))) -> 0 | W222: =IF(W11>=3,10,IF(W11>=2,7,IF(W11>=1,4,0))) -> 0 | X222: =IF(X11>=25,15,IF(X11>=18,12,IF(X11>=12,9,IF(X11>=6,6,IF(X11>=3,3,IF(X11>=1,1,0)))))) -> 0 | Y222: =IF(Y11="구성",15,0) -> 0 | Z222: =IF(Z11>=5,10,IF(Z11>=4,8,IF(Z11>=3,6,IF(Z11>=2,4,IF(Z11>=1,2,0))))) -> 0 | AA222: =AA11 -> 0 | AB222: =AB11 -> 0 | AC222: =AC11 -> 0 | AD222: =AD11 -> 0 | AE222: =AE11 -> 0 | AF222: =SUM(F222:AE222) -> 0
A223: =A12 -> 7 | B223: =B12 -> 0 | C223: =C12 -> 0 | D223: =D12 -> 0 | F223: =IF(F12="수립",10,0) -> 0 | G223: =IF(G12>=6,10,IF(G12=5,5,IF(G12<=4,0))) -> 0 | H223: =IF(H12>=48,10,IF(H12>=40,5,IF(H12<40,0))) -> 0 | I223: =IF(I12>=40,10,IF(I12>=25,8,IF(I12>=15,6,IF(I12>=8,4,IF(I12>=1,2,0))))) -> 0 | J223: =IF(J12>=700,10,IF(J12>=600,8,IF(J12>=500,6,IF(J12>=400,4,IF(J12>=200,2,IF(J12>=50,1,0)))))) -> 0 | K223: =IF(K12>=1,5,0) -> 0 | L223: =IF(L12="실시",10,0) -> 0 | M223: =IF(M12>=8,5,IF(M12>=4,3,IF(M12>=1,1,0))) -> 0 | N223: =IF(N12="관리자 + 이용자(인터넷 가능)",5,IF(N12="관리자(도서관리프로그램용)",3,0)) -> 0 | O223: =IF(O12>=1000,10,IF(O12>=800,8,IF(O12>=600,6,IF(O12>=300,4,IF(O12>=100,2,IF(O12>=1,1,0)))))) -> 0 | P223: =IF(P12>=15000,15,IF(P12>=12000,12,IF(P12>=8000,9,IF(P12>=5000,6,IF(P12>=2000,3,IF(P12>=100,1,0)))))) -> 0 | Q223: =IF(Q12>=8000,15,IF(Q12>=6000,12,IF(Q12>=4000,9,IF(Q12>=2000,6,IF(Q12>=1000,3,IF(Q12>=50,1,0)))))) -> 0 | R223: =IF(R12>=7000,10,IF(R12>=5000,8,IF(R12>=3000,6,IF(R12>=1000,4,IF(R12>=500,2,0))))) -> 0 | S223: =IF(S12>=6000,10,IF(S12>=4500,8,IF(S12>=2500,6,IF(S12>=1000,4,IF(S12>=500,2,0))))) -> 0 | T223: =IF(T12="실시",10,0) -> 0 | U223: =IF(U12>=16,15,IF(U12>=11,12,IF(U12>=6,9,IF(U12>=1,6,0)))) -> 0 | V223: =IF(V12>=60,15,IF(V12>=45,12,IF(V12>=30,10,IF(V12>=15,8,IF(V12>=1,6,0))))) -> 0 | W223: =IF(W12>=3,10,IF(W12>=2,7,IF(W12>=1,4,0))) -> 0 | X223: =IF(X12>=25,15,IF(X12>=18,12,IF(X12>=12,9,IF(X12>=6,6,IF(X12>=3,3,IF(X12>=1,1,0)))))) -> 0 | Y223: =IF(Y12="구성",15,0) -> 0 | Z223: =IF(Z12>=5,10,IF(Z12>=4,8,IF(Z12>=3,6,IF(Z12>=2,4,IF(Z12>=1,2,0))))) -> 0 | AA223: =AA12 -> 0 | AB223: =AB12 -> 0 | AC223: =AC12 -> 0 | AD223: =AD12 -> 0 | AE223: =AE12 -> 0 | AF223: =SUM(F223:AE223) -> 0
A224: =A13 -> 8 | B224: =B13 -> 0 | C224: =C13 -> 0 | D224: =D13 -> 0 | F224: =IF(F13="수립",10,0) -> 0 | G224: =IF(G13>=6,10,IF(G13=5,5,IF(G13<=4,0))) -> 0 | H224: =IF(H13>=48,10,IF(H13>=40,5,IF(H13<40,0))) -> 0 | I224: =IF(I13>=40,10,IF(I13>=25,8,IF(I13>=15,6,IF(I13>=8,4,IF(I13>=1,2,0))))) -> 0 | J224: =IF(J13>=700,10,IF(J13>=600,8,IF(J13>=500,6,IF(J13>=400,4,IF(J13>=200,2,IF(J13>=50,1,0)))))) -> 0 | K224: =IF(K13>=1,5,0) -> 0 | L224: =IF(L13="실시",10,0) -> 0 | M224: =IF(M13>=8,5,IF(M13>=4,3,IF(M13>=1,1,0))) -> 0 | N224: =IF(N13="관리자 + 이용자(인터넷 가능)",5,IF(N13="관리자(도서관리프로그램용)",3,0)) -> 0 | O224: =IF(O13>=1000,10,IF(O13>=800,8,IF(O13>=600,6,IF(O13>=300,4,IF(O13>=100,2,IF(O13>=1,1,0)))))) -> 0 | P224: =IF(P13>=15000,15,IF(P13>=12000,12,IF(P13>=8000,9,IF(P13>=5000,6,IF(P13>=2000,3,IF(P13>=100,1,0)))))) -> 0 | Q224: =IF(Q13>=8000,15,IF(Q13>=6000,12,IF(Q13>=4000,9,IF(Q13>=2000,6,IF(Q13>=1000,3,IF(Q13>=50,1,0)))))) -> 0 | R224: =IF(R13>=7000,10,IF(R13>=5000,8,IF(R13>=3000,6,IF(R13>=1000,4,IF(R13>=500,2,0))))) -> 0 | S224: =IF(S13>=6000,10,IF(S13>=4500,8,IF(S13>=2500,6,IF(S13>=1000,4,IF(S13>=500,2,0))))) -> 0 | T224: =IF(T13="실시",10,0) -> 0 | U224: =IF(U13>=16,15,IF(U13>=11,12,IF(U13>=6,9,IF(U13>=1,6,0)))) -> 0 | V224: =IF(V13>=60,15,IF(V13>=45,12,IF(V13>=30,10,IF(V13>=15,8,IF(V13>=1,6,0))))) -> 0 | W224: =IF(W13>=3,10,IF(W13>=2,7,IF(W13>=1,4,0))) -> 0 | X224: =IF(X13>=25,15,IF(X13>=18,12,IF(X13>=12,9,IF(X13>=6,6,IF(X13>=3,3,IF(X13>=1,1,0)))))) -> 0 | Y224: =IF(Y13="구성",15,0) -> 0 | Z224: =IF(Z13>=5,10,IF(Z13>=4,8,IF(Z13>=3,6,IF(Z13>=2,4,IF(Z13>=1,2,0))))) -> 0 | AA224: =AA13 -> 0 | AB224: =AB13 -> 0 | AC224: =AC13 -> 0 | AD224: =AD13 -> 0 | AE224: =AE13 -> 0 | AF224: =SUM(F224:AE224) -> 0
A225: =A14 -> 9 | B225: =B14 -> 0 | C225: =C14 -> 0 | D225: =D14 -> 0 | F225: =IF(F14="수립",10,0) -> 0 | G225: =IF(G14>=6,10,IF(G14=5,5,IF(G14<=4,0))) -> 0 | H225: =IF(H14>=48,10,IF(H14>=40,5,IF(H14<40,0))) -> 0 | I225: =IF(I14>=40,10,IF(I14>=25,8,IF(I14>=15,6,IF(I14>=8,4,IF(I14>=1,2,0))))) -> 0 | J225: =IF(J14>=700,10,IF(J14>=600,8,IF(J14>=500,6,IF(J14>=400,4,IF(J14>=200,2,IF(J14>=50,1,0)))))) -> 0 | K225: =IF(K14>=1,5,0) -> 0 | L225: =IF(L14="실시",10,0) -> 0 | M225: =IF(M14>=8,5,IF(M14>=4,3,IF(M14>=1,1,0))) -> 0 | N225: =IF(N14="관리자 + 이용자(인터넷 가능)",5,IF(N14="관리자(도서관리프로그램용)",3,0)) -> 0 | O225: =IF(O14>=1000,10,IF(O14>=800,8,IF(O14>=600,6,IF(O14>=300,4,IF(O14>=100,2,IF(O14>=1,1,0)))))) -> 0 | P225: =IF(P14>=15000,15,IF(P14>=12000,12,IF(P14>=8000,9,IF(P14>=5000,6,IF(P14>=2000,3,IF(P14>=100,1,0)))))) -> 0 | Q225: =IF(Q14>=8000,15,IF(Q14>=6000,12,IF(Q14>=4000,9,IF(Q14>=2000,6,IF(Q14>=1000,3,IF(Q14>=50,1,0)))))) -> 0 | R225: =IF(R14>=7000,10,IF(R14>=5000,8,IF(R14>=3000,6,IF(R14>=1000,4,IF(R14>=500,2,0))))) -> 0 | S225: =IF(S14>=6000,10,IF(S14>=4500,8,IF(S14>=2500,6,IF(S14>=1000,4,IF(S14>=500,2,0))))) -> 0 | T225: =IF(T14="실시",10,0) -> 0 | U225: =IF(U14>=16,15,IF(U14>=11,12,IF(U14>=6,9,IF(U14>=1,6,0)))) -> 0 | V225: =IF(V14>=60,15,IF(V14>=45,12,IF(V14>=30,10,IF(V14>=15,8,IF(V14>=1,6,0))))) -> 0 | W225: =IF(W14>=3,10,IF(W14>=2,7,IF(W14>=1,4,0))) -> 0 | X225: =IF(X14>=25,15,IF(X14>=18,12,IF(X14>=12,9,IF(X14>=6,6,IF(X14>=3,3,IF(X14>=1,1,0)))))) -> 0 | Y225: =IF(Y14="구성",15,0) -> 0 | Z225: =IF(Z14>=5,10,IF(Z14>=4,8,IF(Z14>=3,6,IF(Z14>=2,4,IF(Z14>=1,2,0))))) -> 0 | AA225: =AA14 -> 0 | AB225: =AB14 -> 0 | AC225: =AC14 -> 0 | AD225: =AD14 -> 0 | AE225: =AE14 -> 0 | AF225: =SUM(F225:AE225) -> 0
A226: =A15 -> 10 | B226: =B15 -> 0 | C226: =C15 -> 0 | D226: =D15 -> 0 | F226: =IF(F15="수립",10,0) -> 0 | G226: =IF(G15>=6,10,IF(G15=5,5,IF(G15<=4,0))) -> 0 | H226: =IF(H15>=48,10,IF(H15>=40,5,IF(H15<40,0))) -> 0 | I226: =IF(I15>=40,10,IF(I15>=25,8,IF(I15>=15,6,IF(I15>=8,4,IF(I15>=1,2,0))))) -> 0 | J226: =IF(J15>=700,10,IF(J15>=600,8,IF(J15>=500,6,IF(J15>=400,4,IF(J15>=200,2,IF(J15>=50,1,0)))))) -> 0 | K226: =IF(K15>=1,5,0) -> 0 | L226: =IF(L15="실시",10,0) -> 0 | M226: =IF(M15>=8,5,IF(M15>=4,3,IF(M15>=1,1,0))) -> 0 | N226: =IF(N15="관리자 + 이용자(인터넷 가능)",5,IF(N15="관리자(도서관리프로그램용)",3,0)) -> 0 | O226: =IF(O15>=1000,10,IF(O15>=800,8,IF(O15>=600,6,IF(O15>=300,4,IF(O15>=100,2,IF(O15>=1,1,0)))))) -> 0 | P226: =IF(P15>=15000,15,IF(P15>=12000,12,IF(P15>=8000,9,IF(P15>=5000,6,IF(P15>=2000,3,IF(P15>=100,1,0)))))) -> 0 | Q226: =IF(Q15>=8000,15,IF(Q15>=6000,12,IF(Q15>=4000,9,IF(Q15>=2000,6,IF(Q15>=1000,3,IF(Q15>=50,1,0)))))) -> 0 | R226: =IF(R15>=7000,10,IF(R15>=5000,8,IF(R15>=3000,6,IF(R15>=1000,4,IF(R15>=500,2,0))))) -> 0 | S226: =IF(S15>=6000,10,IF(S15>=4500,8,IF(S15>=2500,6,IF(S15>=1000,4,IF(S15>=500,2,0))))) -> 0 | T226: =IF(T15="실시",10,0) -> 0 | U226: =IF(U15>=16,15,IF(U15>=11,12,IF(U15>=6,9,IF(U15>=1,6,0)))) -> 0 | V226: =IF(V15>=60,15,IF(V15>=45,12,IF(V15>=30,10,IF(V15>=15,8,IF(V15>=1,6,0))))) -> 0 | W226: =IF(W15>=3,10,IF(W15>=2,7,IF(W15>=1,4,0))) -> 0 | X226: =IF(X15>=25,15,IF(X15>=18,12,IF(X15>=12,9,IF(X15>=6,6,IF(X15>=3,3,IF(X15>=1,1,0)))))) -> 0 | Y226: =IF(Y15="구성",15,0) -> 0 | Z226: =IF(Z15>=5,10,IF(Z15>=4,8,IF(Z15>=3,6,IF(Z15>=2,4,IF(Z15>=1,2,0))))) -> 0 | AA226: =AA15 -> 0 | AB226: =AB15 -> 0 | AC226: =AC15 -> 0 | AD226: =AD15 -> 0 | AE226: =AE15 -> 0 | AF226: =SUM(F226:AE226) -> 0
A227: =A16 -> 11 | B227: =B16 -> 0 | C227: =C16 -> 0 | D227: =D16 -> 0 | F227: =IF(F16="수립",10,0) -> 0 | G227: =IF(G16>=6,10,IF(G16=5,5,IF(G16<=4,0))) -> 0 | H227: =IF(H16>=48,10,IF(H16>=40,5,IF(H16<40,0))) -> 0 | I227: =IF(I16>=40,10,IF(I16>=25,8,IF(I16>=15,6,IF(I16>=8,4,IF(I16>=1,2,0))))) -> 0 | J227: =IF(J16>=700,10,IF(J16>=600,8,IF(J16>=500,6,IF(J16>=400,4,IF(J16>=200,2,IF(J16>=50,1,0)))))) -> 0 | K227: =IF(K16>=1,5,0) -> 0 | L227: =IF(L16="실시",10,0) -> 0 | M227: =IF(M16>=8,5,IF(M16>=4,3,IF(M16>=1,1,0))) -> 0 | N227: =IF(N16="관리자 + 이용자(인터넷 가능)",5,IF(N16="관리자(도서관리프로그램용)",3,0)) -> 0 | O227: =IF(O16>=1000,10,IF(O16>=800,8,IF(O16>=600,6,IF(O16>=300,4,IF(O16>=100,2,IF(O16>=1,1,0)))))) -> 0 | P227: =IF(P16>=15000,15,IF(P16>=12000,12,IF(P16>=8000,9,IF(P16>=5000,6,IF(P16>=2000,3,IF(P16>=100,1,0)))))) -> 0 | Q227: =IF(Q16>=8000,15,IF(Q16>=6000,12,IF(Q16>=4000,9,IF(Q16>=2000,6,IF(Q16>=1000,3,IF(Q16>=50,1,0)))))) -> 0 | R227: =IF(R16>=7000,10,IF(R16>=5000,8,IF(R16>=3000,6,IF(R16>=1000,4,IF(R16>=500,2,0))))) -> 0 | S227: =IF(S16>=6000,10,IF(S16>=4500,8,IF(S16>=2500,6,IF(S16>=1000,4,IF(S16>=500,2,0))))) -> 0 | T227: =IF(T16="실시",10,0) -> 0 | U227: =IF(U16>=16,15,IF(U16>=11,12,IF(U16>=6,9,IF(U16>=1,6,0)))) -> 0 | V227: =IF(V16>=60,15,IF(V16>=45,12,IF(V16>=30,10,IF(V16>=15,8,IF(V16>=1,6,0))))) -> 0 | W227: =IF(W16>=3,10,IF(W16>=2,7,IF(W16>=1,4,0))) -> 0 | X227: =IF(X16>=25,15,IF(X16>=18,12,IF(X16>=12,9,IF(X16>=6,6,IF(X16>=3,3,IF(X16>=1,1,0)))))) -> 0 | Y227: =IF(Y16="구성",15,0) -> 0 | Z227: =IF(Z16>=5,10,IF(Z16>=4,8,IF(Z16>=3,6,IF(Z16>=2,4,IF(Z16>=1,2,0))))) -> 0 | AA227: =AA16 -> 0 | AB227: =AB16 -> 0 | AC227: =AC16 -> 0 | AD227: =AD16 -> 0 | AE227: =AE16 -> 0 | AF227: =SUM(F227:AE227) -> 0
A228: =A17 -> 12 | B228: =B17 -> 0 | C228: =C17 -> 0 | D228: =D17 -> 0 | F228: =IF(F17="수립",10,0) -> 0 | G228: =IF(G17>=6,10,IF(G17=5,5,IF(G17<=4,0))) -> 0 | H228: =IF(H17>=48,10,IF(H17>=40,5,IF(H17<40,0))) -> 0 | I228: =IF(I17>=40,10,IF(I17>=25,8,IF(I17>=15,6,IF(I17>=8,4,IF(I17>=1,2,0))))) -> 0 | J228: =IF(J17>=700,10,IF(J17>=600,8,IF(J17>=500,6,IF(J17>=400,4,IF(J17>=200,2,IF(J17>=50,1,0)))))) -> 0 | K228: =IF(K17>=1,5,0) -> 0 | L228: =IF(L17="실시",10,0) -> 0 | M228: =IF(M17>=8,5,IF(M17>=4,3,IF(M17>=1,1,0))) -> 0 | N228: =IF(N17="관리자 + 이용자(인터넷 가능)",5,IF(N17="관리자(도서관리프로그램용)",3,0)) -> 0 | O228: =IF(O17>=1000,10,IF(O17>=800,8,IF(O17>=600,6,IF(O17>=300,4,IF(O17>=100,2,IF(O17>=1,1,0)))))) -> 0 | P228: =IF(P17>=15000,15,IF(P17>=12000,12,IF(P17>=8000,9,IF(P17>=5000,6,IF(P17>=2000,3,IF(P17>=100,1,0)))))) -> 0 | Q228: =IF(Q17>=8000,15,IF(Q17>=6000,12,IF(Q17>=4000,9,IF(Q17>=2000,6,IF(Q17>=1000,3,IF(Q17>=50,1,0)))))) -> 0 | R228: =IF(R17>=7000,10,IF(R17>=5000,8,IF(R17>=3000,6,IF(R17>=1000,4,IF(R17>=500,2,0))))) -> 0 | S228: =IF(S17>=6000,10,IF(S17>=4500,8,IF(S17>=2500,6,IF(S17>=1000,4,IF(S17>=500,2,0))))) -> 0 | T228: =IF(T17="실시",10,0) -> 0 | U228: =IF(U17>=16,15,IF(U17>=11,12,IF(U17>=6,9,IF(U17>=1,6,0)))) -> 0 | V228: =IF(V17>=60,15,IF(V17>=45,12,IF(V17>=30,10,IF(V17>=15,8,IF(V17>=1,6,0))))) -> 0 | W228: =IF(W17>=3,10,IF(W17>=2,7,IF(W17>=1,4,0))) -> 0 | X228: =IF(X17>=25,15,IF(X17>=18,12,IF(X17>=12,9,IF(X17>=6,6,IF(X17>=3,3,IF(X17>=1,1,0)))))) -> 0 | Y228: =IF(Y17="구성",15,0) -> 0 | Z228: =IF(Z17>=5,10,IF(Z17>=4,8,IF(Z17>=3,6,IF(Z17>=2,4,IF(Z17>=1,2,0))))) -> 0 | AA228: =AA17 -> 0 | AB228: =AB17 -> 0 | AC228: =AC17 -> 0 | AD228: =AD17 -> 0 | AE228: =AE17 -> 0 | AF228: =SUM(F228:AE228) -> 0
... A291: =A80 -> 75 | B291: =B80 -> 0 | C291: =C80 -> 0 | D291: =D80 -> 0 | F291: =IF(F80="수립",10,0) -> 0 | G291: =IF(G80>=6,10,IF(G80=5,5,IF(G80<=4,0))) -> 0 | H291: =IF(H80>=48,10,IF(H80>=40,5,IF(H80<40,0))) -> 0 | I291: =IF(I80>=40,10,IF(I80>=25,8,IF(I80>=15,6,IF(I80>=8,4,IF(I80>=1,2,0))))) -> 0 | J291: =IF(J80>=700,10,IF(J80>=600,8,IF(J80>=500,6,IF(J80>=400,4,IF(J80>=200,2,IF(J80>=50,1,0)))))) -> 0 | K291: =IF(K80>=1,5,0) -> 0 | L291: =IF(L80="실시",10,0) -> 0 | M291: =IF(M80>=8,5,IF(M80>=4,3,IF(M80>=1,1,0))) -> 0 | N291: =IF(N80="관리자 + 이용자(인터넷 가능)",5,IF(N80="관리자(도서관리프로그램용)",3,0)) -> 0 | O291: =IF(O80>=1000,10,IF(O80>=800,8,IF(O80>=600,6,IF(O80>=300,4,IF(O80>=100,2,IF(O80>=1,1,0)))))) -> 0 | P291: =IF(P80>=15000,15,IF(P80>=12000,12,IF(P80>=8000,9,IF(P80>=5000,6,IF(P80>=2000,3,IF(P80>=100,1,0)))))) -> 0 | Q291: =IF(Q80>=8000,15,IF(Q80>=6000,12,IF(Q80>=4000,9,IF(Q80>=2000,6,IF(Q80>=1000,3,IF(Q80>=50,1,0)))))) -> 0 | R291: =IF(R80>=7000,10,IF(R80>=5000,8,IF(R80>=3000,6,IF(R80>=1000,4,IF(R80>=500,2,0))))) -> 0 | S291: =IF(S80>=6000,10,IF(S80>=4500,8,IF(S80>=2500,6,IF(S80>=1000,4,IF(S80>=500,2,0))))) -> 0 | T291: =IF(T80="실시",10,0) -> 0 | U291: =IF(U80>=16,15,IF(U80>=11,12,IF(U80>=6,9,IF(U80>=1,6,0)))) -> 0 | V291: =IF(V80>=60,15,IF(V80>=45,12,IF(V80>=30,10,IF(V80>=15,8,IF(V80>=1,6,0))))) -> 0 | W291: =IF(W80>=3,10,IF(W80>=2,7,IF(W80>=1,4,0))) -> 0 | X291: =IF(X80>=25,15,IF(X80>=18,12,IF(X80>=12,9,IF(X80>=6,6,IF(X80>=3,3,IF(X80>=1,1,0)))))) -> 0 | Y291: =IF(Y80="구성",15,0) -> 0 | Z291: =IF(Z80>=5,10,IF(Z80>=4,8,IF(Z80>=3,6,IF(Z80>=2,4,IF(Z80>=1,2,0))))) -> 0 | AA291: =AA80 -> 0 | AB291: =AB80 -> 0 | AC291: =AC80 -> 0 | AD291: =AD80 -> 0 | AE291: =AE80 -> 0 | AF291: =SUM(F291:AE291) -> 0
A292: =A81 -> 76 | B292: =B81 -> 0 | C292: =C81 -> 0 | D292: =D81 -> 0 | F292: =IF(F81="수립",10,0) -> 0 | G292: =IF(G81>=6,10,IF(G81=5,5,IF(G81<=4,0))) -> 0 | H292: =IF(H81>=48,10,IF(H81>=40,5,IF(H81<40,0))) -> 0 | I292: =IF(I81>=40,10,IF(I81>=25,8,IF(I81>=15,6,IF(I81>=8,4,IF(I81>=1,2,0))))) -> 0 | J292: =IF(J81>=700,10,IF(J81>=600,8,IF(J81>=500,6,IF(J81>=400,4,IF(J81>=200,2,IF(J81>=50,1,0)))))) -> 0 | K292: =IF(K81>=1,5,0) -> 0 | L292: =IF(L81="실시",10,0) -> 0 | M292: =IF(M81>=8,5,IF(M81>=4,3,IF(M81>=1,1,0))) -> 0 | N292: =IF(N81="관리자 + 이용자(인터넷 가능)",5,IF(N81="관리자(도서관리프로그램용)",3,0)) -> 0 | O292: =IF(O81>=1000,10,IF(O81>=800,8,IF(O81>=600,6,IF(O81>=300,4,IF(O81>=100,2,IF(O81>=1,1,0)))))) -> 0 | P292: =IF(P81>=15000,15,IF(P81>=12000,12,IF(P81>=8000,9,IF(P81>=5000,6,IF(P81>=2000,3,IF(P81>=100,1,0)))))) -> 0 | Q292: =IF(Q81>=8000,15,IF(Q81>=6000,12,IF(Q81>=4000,9,IF(Q81>=2000,6,IF(Q81>=1000,3,IF(Q81>=50,1,0)))))) -> 0 | R292: =IF(R81>=7000,10,IF(R81>=5000,8,IF(R81>=3000,6,IF(R81>=1000,4,IF(R81>=500,2,0))))) -> 0 | S292: =IF(S81>=6000,10,IF(S81>=4500,8,IF(S81>=2500,6,IF(S81>=1000,4,IF(S81>=500,2,0))))) -> 0 | T292: =IF(T81="실시",10,0) -> 0 | U292: =IF(U81>=16,15,IF(U81>=11,12,IF(U81>=6,9,IF(U81>=1,6,0)))) -> 0 | V292: =IF(V81>=60,15,IF(V81>=45,12,IF(V81>=30,10,IF(V81>=15,8,IF(V81>=1,6,0))))) -> 0 | W292: =IF(W81>=3,10,IF(W81>=2,7,IF(W81>=1,4,0))) -> 0 | X292: =IF(X81>=25,15,IF(X81>=18,12,IF(X81>=12,9,IF(X81>=6,6,IF(X81>=3,3,IF(X81>=1,1,0)))))) -> 0 | Y292: =IF(Y81="구성",15,0) -> 0 | Z292: =IF(Z81>=5,10,IF(Z81>=4,8,IF(Z81>=3,6,IF(Z81>=2,4,IF(Z81>=1,2,0))))) -> 0 | AA292: 0 | AB292: 0 | AC292: 0 | AD292: 0 | AE292: 0 | AF292: =SUM(F292:AE292) -> 0
A293: =A82 -> 77 | B293: =B82 -> 0 | C293: =C82 -> 0 | D293: =D82 -> 0 | F293: =IF(F82="수립",10,0) -> 0 | G293: =IF(G82>=6,10,IF(G82=5,5,IF(G82<=4,0))) -> 0 | H293: =IF(H82>=48,10,IF(H82>=40,5,IF(H82<40,0))) -> 0 | I293: =IF(I82>=40,10,IF(I82>=25,8,IF(I82>=15,6,IF(I82>=8,4,IF(I82>=1,2,0))))) -> 0 | J293: =IF(J82>=700,10,IF(J82>=600,8,IF(J82>=500,6,IF(J82>=400,4,IF(J82>=200,2,IF(J82>=50,1,0)))))) -> 0 | K293: =IF(K82>=1,5,0) -> 0 | L293: =IF(L82="실시",10,0) -> 0 | M293: =IF(M82>=8,5,IF(M82>=4,3,IF(M82>=1,1,0))) -> 0 | N293: =IF(N82="관리자 + 이용자(인터넷 가능)",5,IF(N82="관리자(도서관리프로그램용)",3,0)) -> 0 | O293: =IF(O82>=1000,10,IF(O82>=800,8,IF(O82>=600,6,IF(O82>=300,4,IF(O82>=100,2,IF(O82>=1,1,0)))))) -> 0 | P293: =IF(P82>=15000,15,IF(P82>=12000,12,IF(P82>=8000,9,IF(P82>=5000,6,IF(P82>=2000,3,IF(P82>=100,1,0)))))) -> 0 | Q293: =IF(Q82>=8000,15,IF(Q82>=6000,12,IF(Q82>=4000,9,IF(Q82>=2000,6,IF(Q82>=1000,3,IF(Q82>=50,1,0)))))) -> 0 | R293: =IF(R82>=7000,10,IF(R82>=5000,8,IF(R82>=3000,6,IF(R82>=1000,4,IF(R82>=500,2,0))))) -> 0 | S293: =IF(S82>=6000,10,IF(S82>=4500,8,IF(S82>=2500,6,IF(S82>=1000,4,IF(S82>=500,2,0))))) -> 0 | T293: =IF(T82="실시",10,0) -> 0 | U293: =IF(U82>=16,15,IF(U82>=11,12,IF(U82>=6,9,IF(U82>=1,6,0)))) -> 0 | V293: =IF(V82>=60,15,IF(V82>=45,12,IF(V82>=30,10,IF(V82>=15,8,IF(V82>=1,6,0))))) -> 0 | W293: =IF(W82>=3,10,IF(W82>=2,7,IF(W82>=1,4,0))) -> 0 | X293: =IF(X82>=25,15,IF(X82>=18,12,IF(X82>=12,9,IF(X82>=6,6,IF(X82>=3,3,IF(X82>=1,1,0)))))) -> 0 | Y293: =IF(Y82="구성",15,0) -> 0 | Z293: =IF(Z82>=5,10,IF(Z82>=4,8,IF(Z82>=3,6,IF(Z82>=2,4,IF(Z82>=1,2,0))))) -> 0 | AA293: =AA82 -> 0 | AB293: =AB82 -> 0 | AC293: =AC82 -> 0 | AD293: =AD82 -> 0 | AE293: =AE82 -> 0 | AF293: =SUM(F293:AE293) -> 0
A294: =A83 -> 78 | B294: =B83 -> 0 | C294: =C83 -> 0 | D294: =D83 -> 0 | F294: =IF(F83="수립",10,0) -> 0 | G294: =IF(G83>=6,10,IF(G83=5,5,IF(G83<=4,0))) -> 0 | H294: =IF(H83>=48,10,IF(H83>=40,5,IF(H83<40,0))) -> 0 | I294: =IF(I83>=40,10,IF(I83>=25,8,IF(I83>=15,6,IF(I83>=8,4,IF(I83>=1,2,0))))) -> 0 | J294: =IF(J83>=700,10,IF(J83>=600,8,IF(J83>=500,6,IF(J83>=400,4,IF(J83>=200,2,IF(J83>=50,1,0)))))) -> 0 | K294: =IF(K83>=1,5,0) -> 0 | L294: =IF(L83="실시",10,0) -> 0 | M294: =IF(M83>=8,5,IF(M83>=4,3,IF(M83>=1,1,0))) -> 0 | N294: =IF(N83="관리자 + 이용자(인터넷 가능)",5,IF(N83="관리자(도서관리프로그램용)",3,0)) -> 0 | O294: =IF(O83>=1000,10,IF(O83>=800,8,IF(O83>=600,6,IF(O83>=300,4,IF(O83>=100,2,IF(O83>=1,1,0)))))) -> 0 | P294: =IF(P83>=15000,15,IF(P83>=12000,12,IF(P83>=8000,9,IF(P83>=5000,6,IF(P83>=2000,3,IF(P83>=100,1,0)))))) -> 0 | Q294: =IF(Q83>=8000,15,IF(Q83>=6000,12,IF(Q83>=4000,9,IF(Q83>=2000,6,IF(Q83>=1000,3,IF(Q83>=50,1,0)))))) -> 0 | R294: =IF(R83>=7000,10,IF(R83>=5000,8,IF(R83>=3000,6,IF(R83>=1000,4,IF(R83>=500,2,0))))) -> 0 | S294: =IF(S83>=6000,10,IF(S83>=4500,8,IF(S83>=2500,6,IF(S83>=1000,4,IF(S83>=500,2,0))))) -> 0 | T294: =IF(T83="실시",10,0) -> 0 | U294: =IF(U83>=16,15,IF(U83>=11,12,IF(U83>=6,9,IF(U83>=1,6,0)))) -> 0 | V294: =IF(V83>=60,15,IF(V83>=45,12,IF(V83>=30,10,IF(V83>=15,8,IF(V83>=1,6,0))))) -> 0 | W294: =IF(W83>=3,10,IF(W83>=2,7,IF(W83>=1,4,0))) -> 0 | X294: =IF(X83>=25,15,IF(X83>=18,12,IF(X83>=12,9,IF(X83>=6,6,IF(X83>=3,3,IF(X83>=1,1,0)))))) -> 0 | Y294: =IF(Y83="구성",15,0) -> 0 | Z294: =IF(Z83>=5,10,IF(Z83>=4,8,IF(Z83>=3,6,IF(Z83>=2,4,IF(Z83>=1,2,0))))) -> 0 | AA294: =AA83 -> 0 | AB294: =AB83 -> 0 | AC294: =AC83 -> 0 | AD294: =AD83 -> 0 | AE294: =AE83 -> 0 | AF294: =SUM(F294:AE294) -> 0
A295: =A84 -> 79 | B295: =B84 -> 0 | C295: =C84 -> 0 | D295: =D84 -> 0 | F295: =IF(F84="수립",10,0) -> 0 | G295: =IF(G84>=6,10,IF(G84=5,5,IF(G84<=4,0))) -> 0 | H295: =IF(H84>=48,10,IF(H84>=40,5,IF(H84<40,0))) -> 0 | I295: =IF(I84>=40,10,IF(I84>=25,8,IF(I84>=15,6,IF(I84>=8,4,IF(I84>=1,2,0))))) -> 0 | J295: =IF(J84>=700,10,IF(J84>=600,8,IF(J84>=500,6,IF(J84>=400,4,IF(J84>=200,2,IF(J84>=50,1,0)))))) -> 0 | K295: =IF(K84>=1,5,0) -> 0 | L295: =IF(L84="실시",10,0) -> 0 | M295: =IF(M84>=8,5,IF(M84>=4,3,IF(M84>=1,1,0))) -> 0 | N295: =IF(N84="관리자 + 이용자(인터넷 가능)",5,IF(N84="관리자(도서관리프로그램용)",3,0)) -> 0 | O295: =IF(O84>=1000,10,IF(O84>=800,8,IF(O84>=600,6,IF(O84>=300,4,IF(O84>=100,2,IF(O84>=1,1,0)))))) -> 0 | P295: =IF(P84>=15000,15,IF(P84>=12000,12,IF(P84>=8000,9,IF(P84>=5000,6,IF(P84>=2000,3,IF(P84>=100,1,0)))))) -> 0 | Q295: =IF(Q84>=8000,15,IF(Q84>=6000,12,IF(Q84>=4000,9,IF(Q84>=2000,6,IF(Q84>=1000,3,IF(Q84>=50,1,0)))))) -> 0 | R295: =IF(R84>=7000,10,IF(R84>=5000,8,IF(R84>=3000,6,IF(R84>=1000,4,IF(R84>=500,2,0))))) -> 0 | S295: =IF(S84>=6000,10,IF(S84>=4500,8,IF(S84>=2500,6,IF(S84>=1000,4,IF(S84>=500,2,0))))) -> 0 | T295: =IF(T84="실시",10,0) -> 0 | U295: =IF(U84>=16,15,IF(U84>=11,12,IF(U84>=6,9,IF(U84>=1,6,0)))) -> 0 | V295: =IF(V84>=60,15,IF(V84>=45,12,IF(V84>=30,10,IF(V84>=15,8,IF(V84>=1,6,0))))) -> 0 | W295: =IF(W84>=3,10,IF(W84>=2,7,IF(W84>=1,4,0))) -> 0 | X295: =IF(X84>=25,15,IF(X84>=18,12,IF(X84>=12,9,IF(X84>=6,6,IF(X84>=3,3,IF(X84>=1,1,0)))))) -> 0 | Y295: =IF(Y84="구성",15,0) -> 0 | Z295: =IF(Z84>=5,10,IF(Z84>=4,8,IF(Z84>=3,6,IF(Z84>=2,4,IF(Z84>=1,2,0))))) -> 0 | AA295: =AA84 -> 0 | AB295: =AB84 -> 0 | AC295: =AC84 -> 0 | AD295: =AD84 -> 0 | AE295: =AE84 -> 0 | AF295: =SUM(F295:AE295) -> 0
A296: =A85 -> 80 | B296: =B85 -> 0 | C296: =C85 -> 0 | D296: =D85 -> 0 | F296: =IF(F85="수립",10,0) -> 0 | G296: =IF(G85>=6,10,IF(G85=5,5,IF(G85<=4,0))) -> 0 | H296: =IF(H85>=48,10,IF(H85>=40,5,IF(H85<40,0))) -> 0 | I296: =IF(I85>=40,10,IF(I85>=25,8,IF(I85>=15,6,IF(I85>=8,4,IF(I85>=1,2,0))))) -> 0 | J296: =IF(J85>=700,10,IF(J85>=600,8,IF(J85>=500,6,IF(J85>=400,4,IF(J85>=200,2,IF(J85>=50,1,0)))))) -> 0 | K296: =IF(K85>=1,5,0) -> 0 | L296: =IF(L85="실시",10,0) -> 0 | M296: =IF(M85>=8,5,IF(M85>=4,3,IF(M85>=1,1,0))) -> 0 | N296: =IF(N85="관리자 + 이용자(인터넷 가능)",5,IF(N85="관리자(도서관리프로그램용)",3,0)) -> 0 | O296: =IF(O85>=1000,10,IF(O85>=800,8,IF(O85>=600,6,IF(O85>=300,4,IF(O85>=100,2,IF(O85>=1,1,0)))))) -> 0 | P296: =IF(P85>=15000,15,IF(P85>=12000,12,IF(P85>=8000,9,IF(P85>=5000,6,IF(P85>=2000,3,IF(P85>=100,1,0)))))) -> 0 | Q296: =IF(Q85>=8000,15,IF(Q85>=6000,12,IF(Q85>=4000,9,IF(Q85>=2000,6,IF(Q85>=1000,3,IF(Q85>=50,1,0)))))) -> 0 | R296: =IF(R85>=7000,10,IF(R85>=5000,8,IF(R85>=3000,6,IF(R85>=1000,4,IF(R85>=500,2,0))))) -> 0 | S296: =IF(S85>=6000,10,IF(S85>=4500,8,IF(S85>=2500,6,IF(S85>=1000,4,IF(S85>=500,2,0))))) -> 0 | T296: =IF(T85="실시",10,0) -> 0 | U296: =IF(U85>=16,15,IF(U85>=11,12,IF(U85>=6,9,IF(U85>=1,6,0)))) -> 0 | V296: =IF(V85>=60,15,IF(V85>=45,12,IF(V85>=30,10,IF(V85>=15,8,IF(V85>=1,6,0))))) -> 0 | W296: =IF(W85>=3,10,IF(W85>=2,7,IF(W85>=1,4,0))) -> 0 | X296: =IF(X85>=25,15,IF(X85>=18,12,IF(X85>=12,9,IF(X85>=6,6,IF(X85>=3,3,IF(X85>=1,1,0)))))) -> 0 | Y296: =IF(Y85="구성",15,0) -> 0 | Z296: =IF(Z85>=5,10,IF(Z85>=4,8,IF(Z85>=3,6,IF(Z85>=2,4,IF(Z85>=1,2,0))))) -> 0 | AA296: =AA85 -> 0 | AB296: =AB85 -> 0 | AC296: =AC85 -> 0 | AD296: =AD85 -> 0 | AE296: =AE85 -> 0 | AF296: =SUM(F296:AE296) -> 0
A297: =A86 -> 81 | B297: =B86 -> 0 | C297: =C86 -> 0 | D297: =D86 -> 0 | F297: =IF(F86="수립",10,0) -> 0 | G297: =IF(G86>=6,10,IF(G86=5,5,IF(G86<=4,0))) -> 0 | H297: =IF(H86>=48,10,IF(H86>=40,5,IF(H86<40,0))) -> 0 | I297: =IF(I86>=40,10,IF(I86>=25,8,IF(I86>=15,6,IF(I86>=8,4,IF(I86>=1,2,0))))) -> 0 | J297: =IF(J86>=700,10,IF(J86>=600,8,IF(J86>=500,6,IF(J86>=400,4,IF(J86>=200,2,IF(J86>=50,1,0)))))) -> 0 | K297: =IF(K86>=1,5,0) -> 0 | L297: =IF(L86="실시",10,0) -> 0 | M297: =IF(M86>=8,5,IF(M86>=4,3,IF(M86>=1,1,0))) -> 0 | N297: =IF(N86="관리자 + 이용자(인터넷 가능)",5,IF(N86="관리자(도서관리프로그램용)",3,0)) -> 0 | O297: =IF(O86>=1000,10,IF(O86>=800,8,IF(O86>=600,6,IF(O86>=300,4,IF(O86>=100,2,IF(O86>=1,1,0)))))) -> 0 | P297: =IF(P86>=15000,15,IF(P86>=12000,12,IF(P86>=8000,9,IF(P86>=5000,6,IF(P86>=2000,3,IF(P86>=100,1,0)))))) -> 0 | Q297: =IF(Q86>=8000,15,IF(Q86>=6000,12,IF(Q86>=4000,9,IF(Q86>=2000,6,IF(Q86>=1000,3,IF(Q86>=50,1,0)))))) -> 0 | R297: =IF(R86>=7000,10,IF(R86>=5000,8,IF(R86>=3000,6,IF(R86>=1000,4,IF(R86>=500,2,0))))) -> 0 | S297: =IF(S86>=6000,10,IF(S86>=4500,8,IF(S86>=2500,6,IF(S86>=1000,4,IF(S86>=500,2,0))))) -> 0 | T297: =IF(T86="실시",10,0) -> 0 | U297: =IF(U86>=16,15,IF(U86>=11,12,IF(U86>=6,9,IF(U86>=1,6,0)))) -> 0 | V297: =IF(V86>=60,15,IF(V86>=45,12,IF(V86>=30,10,IF(V86>=15,8,IF(V86>=1,6,0))))) -> 0 | W297: =IF(W86>=3,10,IF(W86>=2,7,IF(W86>=1,4,0))) -> 0 | X297: =IF(X86>=25,15,IF(X86>=18,12,IF(X86>=12,9,IF(X86>=6,6,IF(X86>=3,3,IF(X86>=1,1,0)))))) -> 0 | Y297: =IF(Y86="구성",15,0) -> 0 | Z297: =IF(Z86>=5,10,IF(Z86>=4,8,IF(Z86>=3,6,IF(Z86>=2,4,IF(Z86>=1,2,0))))) -> 0 | AA297: =AA86 -> 0 | AB297: =AB86 -> 0 | AC297: =AC86 -> 0 | AD297: =AD86 -> 0 | AE297: =AE86 -> 0 | AF297: =SUM(F297:AE297) -> 0
A298: =A87 -> 82 | B298: =B87 -> 0 | C298: =C87 -> 0 | D298: =D87 -> 0 | F298: =IF(F87="수립",10,0) -> 0 | G298: =IF(G87>=6,10,IF(G87=5,5,IF(G87<=4,0))) -> 0 | H298: =IF(H87>=48,10,IF(H87>=40,5,IF(H87<40,0))) -> 0 | I298: =IF(I87>=40,10,IF(I87>=25,8,IF(I87>=15,6,IF(I87>=8,4,IF(I87>=1,2,0))))) -> 0 | J298: =IF(J87>=700,10,IF(J87>=600,8,IF(J87>=500,6,IF(J87>=400,4,IF(J87>=200,2,IF(J87>=50,1,0)))))) -> 0 | K298: =IF(K87>=1,5,0) -> 0 | L298: =IF(L87="실시",10,0) -> 0 | M298: =IF(M87>=8,5,IF(M87>=4,3,IF(M87>=1,1,0))) -> 0 | N298: =IF(N87="관리자 + 이용자(인터넷 가능)",5,IF(N87="관리자(도서관리프로그램용)",3,0)) -> 0 | O298: =IF(O87>=1000,10,IF(O87>=800,8,IF(O87>=600,6,IF(O87>=300,4,IF(O87>=100,2,IF(O87>=1,1,0)))))) -> 0 | P298: =IF(P87>=15000,15,IF(P87>=12000,12,IF(P87>=8000,9,IF(P87>=5000,6,IF(P87>=2000,3,IF(P87>=100,1,0)))))) -> 0 | Q298: =IF(Q87>=8000,15,IF(Q87>=6000,12,IF(Q87>=4000,9,IF(Q87>=2000,6,IF(Q87>=1000,3,IF(Q87>=50,1,0)))))) -> 0 | R298: =IF(R87>=7000,10,IF(R87>=5000,8,IF(R87>=3000,6,IF(R87>=1000,4,IF(R87>=500,2,0))))) -> 0 | S298: =IF(S87>=6000,10,IF(S87>=4500,8,IF(S87>=2500,6,IF(S87>=1000,4,IF(S87>=500,2,0))))) -> 0 | T298: =IF(T87="실시",10,0) -> 0 | U298: =IF(U87>=16,15,IF(U87>=11,12,IF(U87>=6,9,IF(U87>=1,6,0)))) -> 0 | V298: =IF(V87>=60,15,IF(V87>=45,12,IF(V87>=30,10,IF(V87>=15,8,IF(V87>=1,6,0))))) -> 0 | W298: =IF(W87>=3,10,IF(W87>=2,7,IF(W87>=1,4,0))) -> 0 | X298: =IF(X87>=25,15,IF(X87>=18,12,IF(X87>=12,9,IF(X87>=6,6,IF(X87>=3,3,IF(X87>=1,1,0)))))) -> 0 | Y298: =IF(Y87="구성",15,0) -> 0 | Z298: =IF(Z87>=5,10,IF(Z87>=4,8,IF(Z87>=3,6,IF(Z87>=2,4,IF(Z87>=1,2,0))))) -> 0 | AA298: =AA87 -> 0 | AB298: =AB87 -> 0 | AC298: =AC87 -> 0 | AD298: =AD87 -> 0 | AE298: =AE87 -> 0 | AF298: =SUM(F298:AE298) -> 0
A299: =A88 -> 83 | B299: =B88 -> 0 | C299: =C88 -> 0 | D299: =D88 -> 0 | F299: =IF(F88="수립",10,0) -> 0 | G299: =IF(G88>=6,10,IF(G88=5,5,IF(G88<=4,0))) -> 0 | H299: =IF(H88>=48,10,IF(H88>=40,5,IF(H88<40,0))) -> 0 | I299: =IF(I88>=40,10,IF(I88>=25,8,IF(I88>=15,6,IF(I88>=8,4,IF(I88>=1,2,0))))) -> 0 | J299: =IF(J88>=700,10,IF(J88>=600,8,IF(J88>=500,6,IF(J88>=400,4,IF(J88>=200,2,IF(J88>=50,1,0)))))) -> 0 | K299: =IF(K88>=1,5,0) -> 0 | L299: =IF(L88="실시",10,0) -> 0 | M299: =IF(M88>=8,5,IF(M88>=4,3,IF(M88>=1,1,0))) -> 0 | N299: =IF(N88="관리자 + 이용자(인터넷 가능)",5,IF(N88="관리자(도서관리프로그램용)",3,0)) -> 0 | O299: =IF(O88>=1000,10,IF(O88>=800,8,IF(O88>=600,6,IF(O88>=300,4,IF(O88>=100,2,IF(O88>=1,1,0)))))) -> 0 | P299: =IF(P88>=15000,15,IF(P88>=12000,12,IF(P88>=8000,9,IF(P88>=5000,6,IF(P88>=2000,3,IF(P88>=100,1,0)))))) -> 0 | Q299: =IF(Q88>=8000,15,IF(Q88>=6000,12,IF(Q88>=4000,9,IF(Q88>=2000,6,IF(Q88>=1000,3,IF(Q88>=50,1,0)))))) -> 0 | R299: =IF(R88>=7000,10,IF(R88>=5000,8,IF(R88>=3000,6,IF(R88>=1000,4,IF(R88>=500,2,0))))) -> 0 | S299: =IF(S88>=6000,10,IF(S88>=4500,8,IF(S88>=2500,6,IF(S88>=1000,4,IF(S88>=500,2,0))))) -> 0 | T299: =IF(T88="실시",10,0) -> 0 | U299: =IF(U88>=16,15,IF(U88>=11,12,IF(U88>=6,9,IF(U88>=1,6,0)))) -> 0 | V299: =IF(V88>=60,15,IF(V88>=45,12,IF(V88>=30,10,IF(V88>=15,8,IF(V88>=1,6,0))))) -> 0 | W299: =IF(W88>=3,10,IF(W88>=2,7,IF(W88>=1,4,0))) -> 0 | X299: =IF(X88>=25,15,IF(X88>=18,12,IF(X88>=12,9,IF(X88>=6,6,IF(X88>=3,3,IF(X88>=1,1,0)))))) -> 0 | Y299: =IF(Y88="구성",15,0) -> 0 | Z299: =IF(Z88>=5,10,IF(Z88>=4,8,IF(Z88>=3,6,IF(Z88>=2,4,IF(Z88>=1,2,0))))) -> 0 | AA299: =AA88 -> 0 | AB299: =AB88 -> 0 | AC299: =AC88 -> 0 | AD299: =AD88 -> 0 | AE299: =AE88 -> 0 | AF299: =SUM(F299:AE299) -> 0
A300: =A89 -> 84 | B300: =B89 -> 0 | C300: =C89 -> 0 | D300: =D89 -> 0 | F300: =IF(F89="수립",10,0) -> 0 | G300: =IF(G89>=6,10,IF(G89=5,5,IF(G89<=4,0))) -> 0 | H300: =IF(H89>=48,10,IF(H89>=40,5,IF(H89<40,0))) -> 0 | I300: =IF(I89>=40,10,IF(I89>=25,8,IF(I89>=15,6,IF(I89>=8,4,IF(I89>=1,2,0))))) -> 0 | J300: =IF(J89>=700,10,IF(J89>=600,8,IF(J89>=500,6,IF(J89>=400,4,IF(J89>=200,2,IF(J89>=50,1,0)))))) -> 0 | K300: =IF(K89>=1,5,0) -> 0 | L300: =IF(L89="실시",10,0) -> 0 | M300: =IF(M89>=8,5,IF(M89>=4,3,IF(M89>=1,1,0))) -> 0 | N300: =IF(N89="관리자 + 이용자(인터넷 가능)",5,IF(N89="관리자(도서관리프로그램용)",3,0)) -> 0 | O300: =IF(O89>=1000,10,IF(O89>=800,8,IF(O89>=600,6,IF(O89>=300,4,IF(O89>=100,2,IF(O89>=1,1,0)))))) -> 0 | P300: =IF(P89>=15000,15,IF(P89>=12000,12,IF(P89>=8000,9,IF(P89>=5000,6,IF(P89>=2000,3,IF(P89>=100,1,0)))))) -> 0 | Q300: =IF(Q89>=8000,15,IF(Q89>=6000,12,IF(Q89>=4000,9,IF(Q89>=2000,6,IF(Q89>=1000,3,IF(Q89>=50,1,0)))))) -> 0 | R300: =IF(R89>=7000,10,IF(R89>=5000,8,IF(R89>=3000,6,IF(R89>=1000,4,IF(R89>=500,2,0))))) -> 0 | S300: =IF(S89>=6000,10,IF(S89>=4500,8,IF(S89>=2500,6,IF(S89>=1000,4,IF(S89>=500,2,0))))) -> 0 | T300: =IF(T89="실시",10,0) -> 0 | U300: =IF(U89>=16,15,IF(U89>=11,12,IF(U89>=6,9,IF(U89>=1,6,0)))) -> 0 | V300: =IF(V89>=60,15,IF(V89>=45,12,IF(V89>=30,10,IF(V89>=15,8,IF(V89>=1,6,0))))) -> 0 | W300: =IF(W89>=3,10,IF(W89>=2,7,IF(W89>=1,4,0))) -> 0 | X300: =IF(X89>=25,15,IF(X89>=18,12,IF(X89>=12,9,IF(X89>=6,6,IF(X89>=3,3,IF(X89>=1,1,0)))))) -> 0 | Y300: =IF(Y89="구성",15,0) -> 0 | Z300: =IF(Z89>=5,10,IF(Z89>=4,8,IF(Z89>=3,6,IF(Z89>=2,4,IF(Z89>=1,2,0))))) -> 0 | AA300: =AA89 -> 0 | AB300: =AB89 -> 0 | AC300: =AC89 -> 0 | AD300: =AD89 -> 0 | AE300: =AE89 -> 0 | AF300: =SUM(F300:AE300) -> 0
A301: =A90 -> 85 | B301: =B90 -> 0 | C301: =C90 -> 0 | D301: =D90 -> 0 | F301: =IF(F90="수립",10,0) -> 0 | G301: =IF(G90>=6,10,IF(G90=5,5,IF(G90<=4,0))) -> 0 | H301: =IF(H90>=48,10,IF(H90>=40,5,IF(H90<40,0))) -> 0 | I301: =IF(I90>=40,10,IF(I90>=25,8,IF(I90>=15,6,IF(I90>=8,4,IF(I90>=1,2,0))))) -> 0 | J301: =IF(J90>=700,10,IF(J90>=600,8,IF(J90>=500,6,IF(J90>=400,4,IF(J90>=200,2,IF(J90>=50,1,0)))))) -> 0 | K301: =IF(K90>=1,5,0) -> 0 | L301: =IF(L90="실시",10,0) -> 0 | M301: =IF(M90>=8,5,IF(M90>=4,3,IF(M90>=1,1,0))) -> 0 | N301: =IF(N90="관리자 + 이용자(인터넷 가능)",5,IF(N90="관리자(도서관리프로그램용)",3,0)) -> 0 | O301: =IF(O90>=1000,10,IF(O90>=800,8,IF(O90>=600,6,IF(O90>=300,4,IF(O90>=100,2,IF(O90>=1,1,0)))))) -> 0 | P301: =IF(P90>=15000,15,IF(P90>=12000,12,IF(P90>=8000,9,IF(P90>=5000,6,IF(P90>=2000,3,IF(P90>=100,1,0)))))) -> 0 | Q301: =IF(Q90>=8000,15,IF(Q90>=6000,12,IF(Q90>=4000,9,IF(Q90>=2000,6,IF(Q90>=1000,3,IF(Q90>=50,1,0)))))) -> 0 | R301: =IF(R90>=7000,10,IF(R90>=5000,8,IF(R90>=3000,6,IF(R90>=1000,4,IF(R90>=500,2,0))))) -> 0 | S301: =IF(S90>=6000,10,IF(S90>=4500,8,IF(S90>=2500,6,IF(S90>=1000,4,IF(S90>=500,2,0))))) -> 0 | T301: =IF(T90="실시",10,0) -> 0 | U301: =IF(U90>=16,15,IF(U90>=11,12,IF(U90>=6,9,IF(U90>=1,6,0)))) -> 0 | V301: =IF(V90>=60,15,IF(V90>=45,12,IF(V90>=30,10,IF(V90>=15,8,IF(V90>=1,6,0))))) -> 0 | W301: =IF(W90>=3,10,IF(W90>=2,7,IF(W90>=1,4,0))) -> 0 | X301: =IF(X90>=25,15,IF(X90>=18,12,IF(X90>=12,9,IF(X90>=6,6,IF(X90>=3,3,IF(X90>=1,1,0)))))) -> 0 | Y301: =IF(Y90="구성",15,0) -> 0 | Z301: =IF(Z90>=5,10,IF(Z90>=4,8,IF(Z90>=3,6,IF(Z90>=2,4,IF(Z90>=1,2,0))))) -> 0 | AA301: =AA90 -> 0 | AB301: =AB90 -> 0 | AC301: =AC90 -> 0 | AD301: =AD90 -> 0 | AE301: =AE90 -> 0 | AF301: =SUM(F301:AE301) -> 0
A302: =A91 -> 86 | B302: =B91 -> 0 | C302: =C91 -> 0 | D302: =D91 -> 0 | F302: =IF(F91="수립",10,0) -> 0 | G302: =IF(G91>=6,10,IF(G91=5,5,IF(G91<=4,0))) -> 0 | H302: =IF(H91>=48,10,IF(H91>=40,5,IF(H91<40,0))) -> 0 | I302: =IF(I91>=40,10,IF(I91>=25,8,IF(I91>=15,6,IF(I91>=8,4,IF(I91>=1,2,0))))) -> 0 | J302: =IF(J91>=700,10,IF(J91>=600,8,IF(J91>=500,6,IF(J91>=400,4,IF(J91>=200,2,IF(J91>=50,1,0)))))) -> 0 | K302: =IF(K91>=1,5,0) -> 0 | L302: =IF(L91="실시",10,0) -> 0 | M302: =IF(M91>=8,5,IF(M91>=4,3,IF(M91>=1,1,0))) -> 0 | N302: =IF(N91="관리자 + 이용자(인터넷 가능)",5,IF(N91="관리자(도서관리프로그램용)",3,0)) -> 0 | O302: =IF(O91>=1000,10,IF(O91>=800,8,IF(O91>=600,6,IF(O91>=300,4,IF(O91>=100,2,IF(O91>=1,1,0)))))) -> 0 | P302: =IF(P91>=15000,15,IF(P91>=12000,12,IF(P91>=8000,9,IF(P91>=5000,6,IF(P91>=2000,3,IF(P91>=100,1,0)))))) -> 0 | Q302: =IF(Q91>=8000,15,IF(Q91>=6000,12,IF(Q91>=4000,9,IF(Q91>=2000,6,IF(Q91>=1000,3,IF(Q91>=50,1,0)))))) -> 0 | R302: =IF(R91>=7000,10,IF(R91>=5000,8,IF(R91>=3000,6,IF(R91>=1000,4,IF(R91>=500,2,0))))) -> 0 | S302: =IF(S91>=6000,10,IF(S91>=4500,8,IF(S91>=2500,6,IF(S91>=1000,4,IF(S91>=500,2,0))))) -> 0 | T302: =IF(T91="실시",10,0) -> 0 | U302: =IF(U91>=16,15,IF(U91>=11,12,IF(U91>=6,9,IF(U91>=1,6,0)))) -> 0 | V302: =IF(V91>=60,15,IF(V91>=45,12,IF(V91>=30,10,IF(V91>=15,8,IF(V91>=1,6,0))))) -> 0 | W302: =IF(W91>=3,10,IF(W91>=2,7,IF(W91>=1,4,0))) -> 0 | X302: =IF(X91>=25,15,IF(X91>=18,12,IF(X91>=12,9,IF(X91>=6,6,IF(X91>=3,3,IF(X91>=1,1,0)))))) -> 0 | Y302: =IF(Y91="구성",15,0) -> 0 | Z302: =IF(Z91>=5,10,IF(Z91>=4,8,IF(Z91>=3,6,IF(Z91>=2,4,IF(Z91>=1,2,0))))) -> 0 | AA302: =AA91 -> 0 | AB302: =AB91 -> 0 | AC302: =AC91 -> 0 | AD302: =AD91 -> 0 | AE302: =AE91 -> 0 | AF302: =SUM(F302:AE302) -> 0
A303: =A92 -> 87 | B303: =B92 -> 0 | C303: =C92 -> 0 | D303: =D92 -> 0 | F303: =IF(F92="수립",10,0) -> 0 | G303: =IF(G92>=6,10,IF(G92=5,5,IF(G92<=4,0))) -> 0 | H303: =IF(H92>=48,10,IF(H92>=40,5,IF(H92<40,0))) -> 0 | I303: =IF(I92>=40,10,IF(I92>=25,8,IF(I92>=15,6,IF(I92>=8,4,IF(I92>=1,2,0))))) -> 0 | J303: =IF(J92>=700,10,IF(J92>=600,8,IF(J92>=500,6,IF(J92>=400,4,IF(J92>=200,2,IF(J92>=50,1,0)))))) -> 0 | K303: =IF(K92>=1,5,0) -> 0 | L303: =IF(L92="실시",10,0) -> 0 | M303: =IF(M92>=8,5,IF(M92>=4,3,IF(M92>=1,1,0))) -> 0 | N303: =IF(N92="관리자 + 이용자(인터넷 가능)",5,IF(N92="관리자(도서관리프로그램용)",3,0)) -> 0 | O303: =IF(O92>=1000,10,IF(O92>=800,8,IF(O92>=600,6,IF(O92>=300,4,IF(O92>=100,2,IF(O92>=1,1,0)))))) -> 0 | P303: =IF(P92>=15000,15,IF(P92>=12000,12,IF(P92>=8000,9,IF(P92>=5000,6,IF(P92>=2000,3,IF(P92>=100,1,0)))))) -> 0 | Q303: =IF(Q92>=8000,15,IF(Q92>=6000,12,IF(Q92>=4000,9,IF(Q92>=2000,6,IF(Q92>=1000,3,IF(Q92>=50,1,0)))))) -> 0 | R303: =IF(R92>=7000,10,IF(R92>=5000,8,IF(R92>=3000,6,IF(R92>=1000,4,IF(R92>=500,2,0))))) -> 0 | S303: =IF(S92>=6000,10,IF(S92>=4500,8,IF(S92>=2500,6,IF(S92>=1000,4,IF(S92>=500,2,0))))) -> 0 | T303: =IF(T92="실시",10,0) -> 0 | U303: =IF(U92>=16,15,IF(U92>=11,12,IF(U92>=6,9,IF(U92>=1,6,0)))) -> 0 | V303: =IF(V92>=60,15,IF(V92>=45,12,IF(V92>=30,10,IF(V92>=15,8,IF(V92>=1,6,0))))) -> 0 | W303: =IF(W92>=3,10,IF(W92>=2,7,IF(W92>=1,4,0))) -> 0 | X303: =IF(X92>=25,15,IF(X92>=18,12,IF(X92>=12,9,IF(X92>=6,6,IF(X92>=3,3,IF(X92>=1,1,0)))))) -> 0 | Y303: =IF(Y92="구성",15,0) -> 0 | Z303: =IF(Z92>=5,10,IF(Z92>=4,8,IF(Z92>=3,6,IF(Z92>=2,4,IF(Z92>=1,2,0))))) -> 0 | AA303: =AA92 -> 0 | AB303: =AB92 -> 0 | AC303: =AC92 -> 0 | AD303: =AD92 -> 0 | AE303: =AE92 -> 0 | AF303: =SUM(F303:AE303) -> 0
A304: =A93 -> 88 | B304: =B93 -> 0 | C304: =C93 -> 0 | D304: =D93 -> 0 | F304: =IF(F93="수립",10,0) -> 0 | G304: =IF(G93>=6,10,IF(G93=5,5,IF(G93<=4,0))) -> 0 | H304: =IF(H93>=48,10,IF(H93>=40,5,IF(H93<40,0))) -> 0 | I304: =IF(I93>=40,10,IF(I93>=25,8,IF(I93>=15,6,IF(I93>=8,4,IF(I93>=1,2,0))))) -> 0 | J304: =IF(J93>=700,10,IF(J93>=600,8,IF(J93>=500,6,IF(J93>=400,4,IF(J93>=200,2,IF(J93>=50,1,0)))))) -> 0 | K304: =IF(K93>=1,5,0) -> 0 | L304: =IF(L93="실시",10,0) -> 0 | M304: =IF(M93>=8,5,IF(M93>=4,3,IF(M93>=1,1,0))) -> 0 | N304: =IF(N93="관리자 + 이용자(인터넷 가능)",5,IF(N93="관리자(도서관리프로그램용)",3,0)) -> 0 | O304: =IF(O93>=1000,10,IF(O93>=800,8,IF(O93>=600,6,IF(O93>=300,4,IF(O93>=100,2,IF(O93>=1,1,0)))))) -> 0 | P304: =IF(P93>=15000,15,IF(P93>=12000,12,IF(P93>=8000,9,IF(P93>=5000,6,IF(P93>=2000,3,IF(P93>=100,1,0)))))) -> 0 | Q304: =IF(Q93>=8000,15,IF(Q93>=6000,12,IF(Q93>=4000,9,IF(Q93>=2000,6,IF(Q93>=1000,3,IF(Q93>=50,1,0)))))) -> 0 | R304: =IF(R93>=7000,10,IF(R93>=5000,8,IF(R93>=3000,6,IF(R93>=1000,4,IF(R93>=500,2,0))))) -> 0 | S304: =IF(S93>=6000,10,IF(S93>=4500,8,IF(S93>=2500,6,IF(S93>=1000,4,IF(S93>=500,2,0))))) -> 0 | T304: =IF(T93="실시",10,0) -> 0 | U304: =IF(U93>=16,15,IF(U93>=11,12,IF(U93>=6,9,IF(U93>=1,6,0)))) -> 0 | V304: =IF(V93>=60,15,IF(V93>=45,12,IF(V93>=30,10,IF(V93>=15,8,IF(V93>=1,6,0))))) -> 0 | W304: =IF(W93>=3,10,IF(W93>=2,7,IF(W93>=1,4,0))) -> 0 | X304: =IF(X93>=25,15,IF(X93>=18,12,IF(X93>=12,9,IF(X93>=6,6,IF(X93>=3,3,IF(X93>=1,1,0)))))) -> 0 | Y304: =IF(Y93="구성",15,0) -> 0 | Z304: =IF(Z93>=5,10,IF(Z93>=4,8,IF(Z93>=3,6,IF(Z93>=2,4,IF(Z93>=1,2,0))))) -> 0 | AA304: =AA93 -> 0 | AB304: =AB93 -> 0 | AC304: =AC93 -> 0 | AD304: =AD93 -> 0 | AE304: =AE93 -> 0 | AF304: =SUM(F304:AE304) -> 0
... A424: =A213 -> 208 | B424: =B213 -> 0 | C424: =C213 -> 0 | D424: =D213 -> 0 | F424: =IF(F213="수립",10,0) -> 0 | G424: =IF(G213>=6,10,IF(G213=5,5,IF(G213<=4,0))) -> 0 | H424: =IF(H213>=48,10,IF(H213>=40,5,IF(H213<40,0))) -> 0 | I424: =IF(I213>=40,10,IF(I213>=25,8,IF(I213>=15,6,IF(I213>=8,4,IF(I213>=1,2,0))))) -> 0 | J424: =IF(J213>=700,10,IF(J213>=600,8,IF(J213>=500,6,IF(J213>=400,4,IF(J213>=200,2,IF(J213>=50,1,0)))))) -> 0 | K424: =IF(K213>=1,5,0) -> 0 | L424: =IF(L213="실시",10,0) -> 0 | M424: =IF(M213>=8,5,IF(M213>=4,3,IF(M213>=1,1,0))) -> 0 | N424: =IF(N213="관리자 + 이용자(인터넷 가능)",5,IF(N213="관리자(도서관리프로그램용)",3,0)) -> 0 | O424: =IF(O213>=1000,10,IF(O213>=800,8,IF(O213>=600,6,IF(O213>=300,4,IF(O213>=100,2,IF(O213>=1,1,0)))))) -> 0 | P424: =IF(P213>=15000,15,IF(P213>=12000,12,IF(P213>=8000,9,IF(P213>=5000,6,IF(P213>=2000,3,IF(P213>=100,1,0)))))) -> 0 | Q424: =IF(Q213>=8000,15,IF(Q213>=6000,12,IF(Q213>=4000,9,IF(Q213>=2000,6,IF(Q213>=1000,3,IF(Q213>=50,1,0)))))) -> 0 | R424: =IF(R213>=7000,10,IF(R213>=5000,8,IF(R213>=3000,6,IF(R213>=1000,4,IF(R213>=500,2,0))))) -> 0 | S424: =IF(S213>=6000,10,IF(S213>=4500,8,IF(S213>=2500,6,IF(S213>=1000,4,IF(S213>=500,2,0))))) -> 0 | T424: =IF(T213="실시",10,0) -> 0 | U424: =IF(U213>=16,15,IF(U213>=11,12,IF(U213>=6,9,IF(U213>=1,6,0)))) -> 0 | V424: =IF(V213>=60,15,IF(V213>=45,12,IF(V213>=30,10,IF(V213>=15,8,IF(V213>=1,6,0))))) -> 0 | W424: =IF(W213>=3,10,IF(W213>=2,7,IF(W213>=1,4,0))) -> 0 | X424: =IF(X213>=25,15,IF(X213>=18,12,IF(X213>=12,9,IF(X213>=6,6,IF(X213>=3,3,IF(X213>=1,1,0)))))) -> 0 | Y424: =IF(Y213="구성",15,0) -> 0 | Z424: =IF(Z213>=5,10,IF(Z213>=4,8,IF(Z213>=3,6,IF(Z213>=2,4,IF(Z213>=1,2,0))))) -> 0 | AA424: =AA213 -> 0 | AB424: =AB213 -> 0 | AC424: =AC213 -> 0 | AD424: =AD213 -> 0 | AE424: =AE213 -> 0 | AF424: =SUM(F424:AE424) -> 0
L453: 기 준 | M453: 배 점
L454: 관리자 + 이용자(인터넷 가능) | M454: 5
L455: 관리자(도서관리프로그램용) | M455: 3
L456: 없음 | M456: 0

Sheet 입력표(사립)
A1: 2025년도 사립 작은도서관 평가 결과 입력표 ○ 흰색부분만 입력(점수 자동 계산됨) - (정량) 콤보박스 이용 또는 수치 입력 / (정성) 배점 입력 ○ 작성 방법(붙임 3 참고)을 준수하여 입력 요청 ○ 입력단위 확인요망 - 금액 입력단위는 반드시 [만원]단위로 입력 (예 : 실제 금액이 160,000원일 경우 16으로 입력)
A3: 작은도서관 현황 | F3: 정량평가 | Z3: 정성평가
A4: 연번 | B4: 시군명 | C4: 작은도서관명 | D4: 등록일 | E4: 운영주체 ※ 콤보박스 이용 입력 | F4: 1. (사립)후원 및 주민단체 지원여부 ※ 콤보박스 이용 입력 | G4: 2. (사립)이용안내 게시 여부 ※ 콤보박스 이용 입력 | H4: 3. 개관일수 (1일 4시간 이상) | I4: 4. 개관시간 (정기 / 주) | J4: 5. 자료구입비 | K4: 6. 전담인력(자원봉사자 포함) 직무교육 - (총 누적 교육시간) | L4: 7. (사립)작은도서관 외부 간판 설치 여부 ※ 콤보박스 이용 입력 | M4: 8. (사립)누구나 출입 가능 ※ 콤보박스 이용 입력 | N4: 9. (사립)도서관리프로그램 사용 여부 ※ 콤보박스 이용 입력 | O4: 10. 연간 장서 수집량* *평가 기간 내 신규 구입 및 기증 도서 ※ 기증도서는 최근 3년 이내 1월 1일 이후 발행 도서만 포함 | P4: 11-1. 연간 대출권수 (읍/동 소재 작은도서관) | Q4: 11-2. 연간 대출 권수 (면 소재 작은도서관) | R4: 12-1. 연간 이용자 수 (읍/동 소재 작은도서관) | S4: 12-2. 연간 이용자 수 (면 소재 작은도서관) | T4: 13. 독서·문화프로그램 수 | U4: 14. 독서·문화프로그램 실시 횟수 | V4: 15. 독서·문화 동아리 구성 | W4: 16. 독서·문화 동아리 활동 횟수* * 평가 기간 내 누적활동 횟수 | X4: 17. 도서관운영위원회 구성 ※ 콤보박스 이용 입력 | Y4: 18. 도서관 운영위원회 활동 횟수 | Z4: 1. 독서문화프로그램 우수성 (지역특색, 특화) | AA4: 2. 이용자 중심의 장서구성 | AB4: 3. 작은도서관 홍보 | AC4: 4. 지역사회 교류 | AD4: 5. 도, 시군정책 협력도
A5: 평가기준 | Y5: 숫자로 입력(0, 1, 5)
A6: 1 | B6: 00시 | C6: 00작은도서관 | D6: 2020.09.14. | E6: 개인 및 단체 | AF6: 개인 및 단체
A7: 2 | B7: 00군 | E7: 종교시설 | AF7: 새마을문고 | AI7: 후원(일시22건 또는 정기8건)또는 자원봉사(8명)
A8: 3 | AF8: 종교시설 | AI8: 후원(일시13건 또는 정기5건)또는 자원봉사(7명)
A9: 4 | AF9: 법인 | AI9: 후원(일시7건 또는 정기3건)또는 자원봉사(4명)
A10: 5 | AF10: 아파트 | AI10: 후원(일시4건 또는 정기2건)또는 자원봉사(2명)
A11: 6 | AI11: 후원(일시1건 또는 정기1건)또는 자원봉사(1명)
A12: 7 | AI12: 지원이 없다
A13: 8
A14: 9
A15: 10
A16: 11
A17: 12
A18: 13
A19: 14
A20: 15
A21: 16
A22: 17
A23: 18
A24: 19
... A746: 741
A747: 점수환산결과 | AE747: 합계
A750: =A6 -> 1 | B750: =B6 -> 00시 | C750: =C6 -> 00작은도서관 | D750: =D6 -> 2020.09.14. | E750: =E6 -> 개인 및 단체 | F750: =IF(F6="후원(일시22건 또는 정기8건)또는 자원봉사(8명)",10,IF(F6="후원(일시13건 또는 정기5건)또는 자원봉사(7명)",8,IF(F6="후원(일시7건 또는 정기3건)또는 자원봉사(4명)",6,IF(F6="후원(일시4건 또는 정기2건)또는 자원봉사(2명)",4,IF(F6="후원(일시1건 또는 정기1건)또는 자원봉사(1명)",2,0))))) -> 0 | G750: =IF(G6="게시",5,0) -> 0 | H750: =IF(H6>=6,20,IF(H6=5,15,IF(H6=4,10,IF(H6=3,5,0)))) -> 0 | I750: =IF(I6>=30,20,IF(I6>=22,15,IF(I6>=15,10,IF(I6>=8,5,0)))) -> 0 | J750: =IF(J6>=400,10,IF(J6>=300,8,IF(J6>=200,6,IF(J6>=100,4,IF(J6>=1,2,IF(J6=0,0)))))) -> 0 | K750: =IF(K6>=35,15,IF(K6>=25,12,IF(K6>=15,9,IF(K6>=5,6,IF(K6>=1,3,0))))) -> 0 | L750: =IF(L6="설치",5,0) -> 0 | M750: =IF(M6="가능",5,0) -> 0 | N750: =IF(N6="사용",5,0) -> 0 | O750: =IF(O6>=550,10,IF(O6>=400,9,IF(O6>=300,7,IF(O6>=200,5,IF(O6>=50,3,IF(O6>=1,1,0)))))) -> 0 | P750: =IF(P6>=4000,10,IF(P6>=3000,8,IF(P6>=2000,6,IF(P6>=1000,4,IF(P6>=500,2,IF(P6>=50,1,0)))))) -> 0 | Q750: =IF(Q6>=1000,10,IF(Q6>=800,8,IF(Q6>=600,6,IF(Q6>=400,4,IF(Q6>=200,1,IF(Q6>=30,1,0)))))) -> 0 | R750: =IF(R6>=5000,5,IF(R6>=3000,4,IF(R6>=2000,3,IF(R6>=1000,2,IF(R6>=500,1,0))))) -> 0 | S750: =IF(S6>=4000,5,IF(S6>=2500,4,IF(S6>=1000,3,IF(S6>=500,2,IF(S6>=300,1,0))))) -> 0 | T750: =IF(T6>=15,15,IF(T6>=12,12,IF(T6>=9,9,IF(T6>=6,6,IF(T6>=1,3,0))))) -> 0 | U750: =IF(U6>=50,15,IF(U6>=40,13,IF(U6>=30,11,IF(U6>=20,9,IF(U6>=10,7,IF(U6>=1,5,0)))))) -> 0 | V750: =IF(V6>=3,15,IF(V6>=2,10,IF(V6>=1,5,0))) -> 0 | W750: =IF(W6>=25,10,IF(W6>=20,8,IF(W6>=16,6,IF(W6>=11,4,IF(W6>=6,2,IF(W6>=1,1,0)))))) -> 0 | X750: =IF(X6="구성",15,0) -> 0 | Y750: =IF(Y6>=4,10,IF(Y6=3,8,IF(Y6=2,6,IF(Y6=1,4,0)))) -> 0 | Z750: =Z6 -> 0 | AA750: =AA6 -> 0 | AB750: =AB6 -> 0 | AC750: =AC6 -> 0 | AD750: =AD6 -> 0 | AE750: =SUM(F750:AD750) -> 0
A751: =A7 -> 2 | B751: =B7 -> 00군 | C751: =C7 -> 0 | D751: =D7 -> 0 | E751: =E7 -> 종교시설 | F751: =IF(F7="후원(일시22건 또는 정기8건)또는 자원봉사(8명)",10,IF(F7="후원(일시13건 또는 정기5건)또는 자원봉사(7명)",8,IF(F7="후원(일시7건 또는 정기3건)또는 자원봉사(4명)",6,IF(F7="후원(일시4건 또는 정기2건)또는 자원봉사(2명)",4,IF(F7="후원(일시1건 또는 정기1건)또는 자원봉사(1명)",2,0))))) -> 0 | G751: =IF(G7="게시",5,0) -> 0 | H751: =IF(H7>=6,20,IF(H7=5,15,IF(H7=4,10,IF(H7=3,5,0)))) -> 0 | I751: =IF(I7>=30,20,IF(I7>=22,15,IF(I7>=15,10,IF(I7>=8,5,0)))) -> 0 | J751: =IF(J7>=400,10,IF(J7>=300,8,IF(J7>=200,6,IF(J7>=100,4,IF(J7>=1,2,IF(J7=0,0)))))) -> 0 | K751: =IF(K7>=35,15,IF(K7>=25,12,IF(K7>=15,9,IF(K7>=5,6,IF(K7>=1,3,0))))) -> 0 | L751: =IF(L7="설치",5,0) -> 0 | M751: =IF(M7="가능",5,0) -> 0 | N751: =IF(N7="사용",5,0) -> 0 | O751: =IF(O7>=550,10,IF(O7>=400,9,IF(O7>=300,7,IF(O7>=200,5,IF(O7>=50,3,IF(O7>=1,1,0)))))) -> 0 | P751: =IF(P7>=4000,10,IF(P7>=3000,8,IF(P7>=2000,6,IF(P7>=1000,4,IF(P7>=500,2,IF(P7>=50,1,0)))))) -> 0 | Q751: =IF(Q7>=1000,10,IF(Q7>=800,8,IF(Q7>=600,6,IF(Q7>=400,4,IF(Q7>=200,1,IF(Q7>=30,1,0)))))) -> 0 | R751: =IF(R7>=5000,5,IF(R7>=3000,4,IF(R7>=2000,3,IF(R7>=1000,2,IF(R7>=500,1,0))))) -> 0 | S751: =IF(S7>=4000,5,IF(S7>=2500,4,IF(S7>=1000,3,IF(S7>=500,2,IF(S7>=300,1,0))))) -> 0 | T751: =IF(T7>=15,15,IF(T7>=12,12,IF(T7>=9,9,IF(T7>=6,6,IF(T7>=1,3,0))))) -> 0 | U751: =IF(U7>=50,15,IF(U7>=40,13,IF(U7>=30,11,IF(U7>=20,9,IF(U7>=10,7,IF(U7>=1,5,0)))))) -> 0 | V751: =IF(V7>=3,15,IF(V7>=2,10,IF(V7>=1,5,0))) -> 0 | W751: =IF(W7>=25,10,IF(W7>=20,8,IF(W7>=16,6,IF(W7>=11,4,IF(W7>=6,2,IF(W7>=1,1,0)))))) -> 0 | X751: =IF(X7="구성",15,0) -> 0 | Y751: =IF(Y7>=4,10,IF(Y7=3,8,IF(Y7=2,6,IF(Y7=1,4,0)))) -> 0 | Z751: =Z7 -> 0 | AA751: =AA7 -> 0 | AB751: =AB7 -> 0 | AC751: =AC7 -> 0 | AD751: =AD7 -> 0 | AE751: =SUM(F751:AD751) -> 0
A752: =A8 -> 3 | B752: =B8 -> 0 | C752: =C8 -> 0 | D752: =D8 -> 0 | E752: =E8 -> 0 | F752: =IF(F8="후원(일시22건 또는 정기8건)또는 자원봉사(8명)",10,IF(F8="후원(일시13건 또는 정기5건)또는 자원봉사(7명)",8,IF(F8="후원(일시7건 또는 정기3건)또는 자원봉사(4명)",6,IF(F8="후원(일시4건 또는 정기2건)또는 자원봉사(2명)",4,IF(F8="후원(일시1건 또는 정기1건)또는 자원봉사(1명)",2,0))))) -> 0 | G752: =IF(G8="게시",5,0) -> 0 | H752: =IF(H8>=6,20,IF(H8=5,15,IF(H8=4,10,IF(H8=3,5,0)))) -> 0 | I752: =IF(I8>=30,20,IF(I8>=22,15,IF(I8>=15,10,IF(I8>=8,5,0)))) -> 0 | J752: =IF(J8>=400,10,IF(J8>=300,8,IF(J8>=200,6,IF(J8>=100,4,IF(J8>=1,2,IF(J8=0,0)))))) -> 0 | K752: =IF(K8>=35,15,IF(K8>=25,12,IF(K8>=15,9,IF(K8>=5,6,IF(K8>=1,3,0))))) -> 0 | L752: =IF(L8="설치",5,0) -> 0 | M752: =IF(M8="가능",5,0) -> 0 | N752: =IF(N8="사용",5,0) -> 0 | O752: =IF(O8>=550,10,IF(O8>=400,9,IF(O8>=300,7,IF(O8>=200,5,IF(O8>=50,3,IF(O8>=1,1,0)))))) -> 0 | P752: =IF(P8>=4000,10,IF(P8>=3000,8,IF(P8>=2000,6,IF(P8>=1000,4,IF(P8>=500,2,IF(P8>=50,1,0)))))) -> 0 | Q752: =IF(Q8>=1000,10,IF(Q8>=800,8,IF(Q8>=600,6,IF(Q8>=400,4,IF(Q8>=200,1,IF(Q8>=30,1,0)))))) -> 0 | R752: =IF(R8>=5000,5,IF(R8>=3000,4,IF(R8>=2000,3,IF(R8>=1000,2,IF(R8>=500,1,0))))) -> 0 | S752: =IF(S8>=4000,5,IF(S8>=2500,4,IF(S8>=1000,3,IF(S8>=500,2,IF(S8>=300,1,0))))) -> 0 | T752: =IF(T8>=15,15,IF(T8>=12,12,IF(T8>=9,9,IF(T8>=6,6,IF(T8>=1,3,0))))) -> 0 | U752: =IF(U8>=50,15,IF(U8>=40,13,IF(U8>=30,11,IF(U8>=20,9,IF(U8>=10,7,IF(U8>=1,5,0)))))) -> 0 | V752: =IF(V8>=3,15,IF(V8>=2,10,IF(V8>=1,5,0))) -> 0 | W752: =IF(W8>=25,10,IF(W8>=20,8,IF(W8>=16,6,IF(W8>=11,4,IF(W8>=6,2,IF(W8>=1,1,0)))))) -> 0 | X752: =IF(X8="구성",15,0) -> 0 | Y752: =IF(Y8>=4,10,IF(Y8=3,8,IF(Y8=2,6,IF(Y8=1,4,0)))) -> 0 | Z752: =Z8 -> 0 | AA752: =AA8 -> 0 | AB752: =AB8 -> 0 | AC752: =AC8 -> 0 | AD752: =AD8 -> 0 | AE752: =SUM(F752:AD752) -> 0
A753: =A9 -> 4 | B753: =B9 -> 0 | C753: =C9 -> 0 | D753: =D9 -> 0 | E753: =E9 -> 0 | F753: =IF(F9="후원(일시22건 또는 정기8건)또는 자원봉사(8명)",10,IF(F9="후원(일시13건 또는 정기5건)또는 자원봉사(7명)",8,IF(F9="후원(일시7건 또는 정기3건)또는 자원봉사(4명)",6,IF(F9="후원(일시4건 또는 정기2건)또는 자원봉사(2명)",4,IF(F9="후원(일시1건 또는 정기1건)또는 자원봉사(1명)",2,0))))) -> 0 | G753: =IF(G9="게시",5,0) -> 0 | H753: =IF(H9>=6,20,IF(H9=5,15,IF(H9=4,10,IF(H9=3,5,0)))) -> 0 | I753: =IF(I9>=30,20,IF(I9>=22,15,IF(I9>=15,10,IF(I9>=8,5,0)))) -> 0 | J753: =IF(J9>=400,10,IF(J9>=300,8,IF(J9>=200,6,IF(J9>=100,4,IF(J9>=1,2,IF(J9=0,0)))))) -> 0 | K753: =IF(K9>=35,15,IF(K9>=25,12,IF(K9>=15,9,IF(K9>=5,6,IF(K9>=1,3,0))))) -> 0 | L753: =IF(L9="설치",5,0) -> 0 | M753: =IF(M9="가능",5,0) -> 0 | N753: =IF(N9="사용",5,0) -> 0 | O753: =IF(O9>=550,10,IF(O9>=400,9,IF(O9>=300,7,IF(O9>=200,5,IF(O9>=50,3,IF(O9>=1,1,0)))))) -> 0 | P753: =IF(P9>=4000,10,IF(P9>=3000,8,IF(P9>=2000,6,IF(P9>=1000,4,IF(P9>=500,2,IF(P9>=50,1,0)))))) -> 0 | Q753: =IF(Q9>=1000,10,IF(Q9>=800,8,IF(Q9>=600,6,IF(Q9>=400,4,IF(Q9>=200,1,IF(Q9>=30,1,0)))))) -> 0 | R753: =IF(R9>=5000,5,IF(R9>=3000,4,IF(R9>=2000,3,IF(R9>=1000,2,IF(R9>=500,1,0))))) -> 0 | S753: =IF(S9>=4000,5,IF(S9>=2500,4,IF(S9>=1000,3,IF(S9>=500,2,IF(S9>=300,1,0))))) -> 0 | T753: =IF(T9>=15,15,IF(T9>=12,12,IF(T9>=9,9,IF(T9>=6,6,IF(T9>=1,3,0))))) -> 0 | U753: =IF(U9>=50,15,IF(U9>=40,13,IF(U9>=30,11,IF(U9>=20,9,IF(U9>=10,7,IF(U9>=1,5,0)))))) -> 0 | V753: =IF(V9>=3,15,IF(V9>=2,10,IF(V9>=1,5,0))) -> 0 | W753: =IF(W9>=25,10,IF(W9>=20,8,IF(W9>=16,6,IF(W9>=11,4,IF(W9>=6,2,IF(W9>=1,1,0)))))) -> 0 | X753: =IF(X9="구성",15,0) -> 0 | Y753: =IF(Y9>=4,10,IF(Y9=3,8,IF(Y9=2,6,IF(Y9=1,4,0)))) -> 0 | Z753: =Z9 -> 0 | AA753: =AA9 -> 0 | AB753: =AB9 -> 0 | AC753: =AC9 -> 0 | AD753: =AD9 -> 0 | AE753: =SUM(F753:AD753) -> 0
A754: =A10 -> 5 | B754: =B10 -> 0 | C754: =C10 -> 0 | D754: =D10 -> 0 | E754: =E10 -> 0 | F754: =IF(F10="후원(일시22건 또는 정기8건)또는 자원봉사(8명)",10,IF(F10="후원(일시13건 또는 정기5건)또는 자원봉사(7명)",8,IF(F10="후원(일시7건 또는 정기3건)또는 자원봉사(4명)",6,IF(F10="후원(일시4건 또는 정기2건)또는 자원봉사(2명)",4,IF(F10="후원(일시1건 또는 정기1건)또는 자원봉사(1명)",2,0))))) -> 0 | G754: =IF(G10="게시",5,0) -> 0 | H754: =IF(H10>=6,20,IF(H10=5,15,IF(H10=4,10,IF(H10=3,5,0)))) -> 0 | I754: =IF(I10>=30,20,IF(I10>=22,15,IF(I10>=15,10,IF(I10>=8,5,0)))) -> 0 | J754: =IF(J10>=400,10,IF(J10>=300,8,IF(J10>=200,6,IF(J10>=100,4,IF(J10>=1,2,IF(J10=0,0)))))) -> 0 | K754: =IF(K10>=35,15,IF(K10>=25,12,IF(K10>=15,9,IF(K10>=5,6,IF(K10>=1,3,0))))) -> 0 | L754: =IF(L10="설치",5,0) -> 0 | M754: =IF(M10="가능",5,0) -> 0 | N754: =IF(N10="사용",5,0) -> 0 | O754: =IF(O10>=550,10,IF(O10>=400,9,IF(O10>=300,7,IF(O10>=200,5,IF(O10>=50,3,IF(O10>=1,1,0)))))) -> 0 | P754: =IF(P10>=4000,10,IF(P10>=3000,8,IF(P10>=2000,6,IF(P10>=1000,4,IF(P10>=500,2,IF(P10>=50,1,0)))))) -> 0 | Q754: =IF(Q10>=1000,10,IF(Q10>=800,8,IF(Q10>=600,6,IF(Q10>=400,4,IF(Q10>=200,1,IF(Q10>=30,1,0)))))) -> 0 | R754: =IF(R10>=5000,5,IF(R10>=3000,4,IF(R10>=2000,3,IF(R10>=1000,2,IF(R10>=500,1,0))))) -> 0 | S754: =IF(S10>=4000,5,IF(S10>=2500,4,IF(S10>=1000,3,IF(S10>=500,2,IF(S10>=300,1,0))))) -> 0 | T754: =IF(T10>=15,15,IF(T10>=12,12,IF(T10>=9,9,IF(T10>=6,6,IF(T10>=1,3,0))))) -> 0 | U754: =IF(U10>=50,15,IF(U10>=40,13,IF(U10>=30,11,IF(U10>=20,9,IF(U10>=10,7,IF(U10>=1,5,0)))))) -> 0 | V754: =IF(V10>=3,15,IF(V10>=2,10,IF(V10>=1,5,0))) -> 0 | W754: =IF(W10>=25,10,IF(W10>=20,8,IF(W10>=16,6,IF(W10>=11,4,IF(W10>=6,2,IF(W10>=1,1,0)))))) -> 0 | X754: =IF(X10="구성",15,0) -> 0 | Y754: =IF(Y10>=4,10,IF(Y10=3,8,IF(Y10=2,6,IF(Y10=1,4,0)))) -> 0 | Z754: =Z10 -> 0 | AA754: =AA10 -> 0 | AB754: =AB10 -> 0 | AC754: =AC10 -> 0 | AD754: =AD10 -> 0 | AE754: =SUM(F754:AD754) -> 0
A755: =A11 -> 6 | B755: =B11 -> 0 | C755: =C11 -> 0 | D755: =D11 -> 0 | E755: =E11 -> 0 | F755: =IF(F11="후원(일시22건 또는 정기8건)또는 자원봉사(8명)",10,IF(F11="후원(일시13건 또는 정기5건)또는 자원봉사(7명)",8,IF(F11="후원(일시7건 또는 정기3건)또는 자원봉사(4명)",6,IF(F11="후원(일시4건 또는 정기2건)또는 자원봉사(2명)",4,IF(F11="후원(일시1건 또는 정기1건)또는 자원봉사(1명)",2,0))))) -> 0 | G755: =IF(G11="게시",5,0) -> 0 | H755: =IF(H11>=6,20,IF(H11=5,15,IF(H11=4,10,IF(H11=3,5,0)))) -> 0 | I755: =IF(I11>=30,20,IF(I11>=22,15,IF(I11>=15,10,IF(I11>=8,5,0)))) -> 0 | J755: =IF(J11>=400,10,IF(J11>=300,8,IF(J11>=200,6,IF(J11>=100,4,IF(J11>=1,2,IF(J11=0,0)))))) -> 0 | K755: =IF(K11>=35,15,IF(K11>=25,12,IF(K11>=15,9,IF(K11>=5,6,IF(K11>=1,3,0))))) -> 0 | L755: =IF(L11="설치",5,0) -> 0 | M755: =IF(M11="가능",5,0) -> 0 | N755: =IF(N11="사용",5,0) -> 0 | O755: =IF(O11>=550,10,IF(O11>=400,9,IF(O11>=300,7,IF(O11>=200,5,IF(O11>=50,3,IF(O11>=1,1,0)))))) -> 0 | P755: =IF(P11>=4000,10,IF(P11>=3000,8,IF(P11>=2000,6,IF(P11>=1000,4,IF(P11>=500,2,IF(P11>=50,1,0)))))) -> 0 | Q755: =IF(Q11>=1000,10,IF(Q11>=800,8,IF(Q11>=600,6,IF(Q11>=400,4,IF(Q11>=200,1,IF(Q11>=30,1,0)))))) -> 0 | R755: =IF(R11>=5000,5,IF(R11>=3000,4,IF(R11>=2000,3,IF(R11>=1000,2,IF(R11>=500,1,0))))) -> 0 | S755: =IF(S11>=4000,5,IF(S11>=2500,4,IF(S11>=1000,3,IF(S11>=500,2,IF(S11>=300,1,0))))) -> 0 | T755: =IF(T11>=15,15,IF(T11>=12,12,IF(T11>=9,9,IF(T11>=6,6,IF(T11>=1,3,0))))) -> 0 | U755: =IF(U11>=50,15,IF(U11>=40,13,IF(U11>=30,11,IF(U11>=20,9,IF(U11>=10,7,IF(U11>=1,5,0)))))) -> 0 | V755: =IF(V11>=3,15,IF(V11>=2,10,IF(V11>=1,5,0))) -> 0 | W755: =IF(W11>=25,10,IF(W11>=20,8,IF(W11>=16,6,IF(W11>=11,4,IF(W11>=6,2,IF(W11>=1,1,0)))))) -> 0 | X755: =IF(X11="구성",15,0) -> 0 | Y755: =IF(Y11>=4,10,IF(Y11=3,8,IF(Y11=2,6,IF(Y11=1,4,0)))) -> 0 | Z755: =Z11 -> 0 | AA755: =AA11 -> 0 | AB755: =AB11 -> 0 | AC755: =AC11 -> 0 | AD755: =AD11 -> 0 | AE755: =SUM(F755:AD755) -> 0
A756: =A12 -> 7 | B756: =B12 -> 0 | C756: =C12 -> 0 | D756: =D12 -> 0 | E756: =E12 -> 0 | F756: =IF(F12="후원(일시22건 또는 정기8건)또는 자원봉사(8명)",10,IF(F12="후원(일시13건 또는 정기5건)또는 자원봉사(7명)",8,IF(F12="후원(일시7건 또는 정기3건)또는 자원봉사(4명)",6,IF(F12="후원(일시4건 또는 정기2건)또는 자원봉사(2명)",4,IF(F12="후원(일시1건 또는 정기1건)또는 자원봉사(1명)",2,0))))) -> 0 | G756: =IF(G12="게시",5,0) -> 0 | H756: =IF(H12>=6,20,IF(H12=5,15,IF(H12=4,10,IF(H12=3,5,0)))) -> 0 | I756: =IF(I12>=30,20,IF(I12>=22,15,IF(I12>=15,10,IF(I12>=8,5,0)))) -> 0 | J756: =IF(J12>=400,10,IF(J12>=300,8,IF(J12>=200,6,IF(J12>=100,4,IF(J12>=1,2,IF(J12=0,0)))))) -> 0 | K756: =IF(K12>=35,15,IF(K12>=25,12,IF(K12>=15,9,IF(K12>=5,6,IF(K12>=1,3,0))))) -> 0 | L756: =IF(L12="설치",5,0) -> 0 | M756: =IF(M12="가능",5,0) -> 0 | N756: =IF(N12="사용",5,0) -> 0 | O756: =IF(O12>=550,10,IF(O12>=400,9,IF(O12>=300,7,IF(O12>=200,5,IF(O12>=50,3,IF(O12>=1,1,0)))))) -> 0 | P756: =IF(P12>=4000,10,IF(P12>=3000,8,IF(P12>=2000,6,IF(P12>=1000,4,IF(P12>=500,2,IF(P12>=50,1,0)))))) -> 0 | Q756: =IF(Q12>=1000,10,IF(Q12>=800,8,IF(Q12>=600,6,IF(Q12>=400,4,IF(Q12>=200,1,IF(Q12>=30,1,0)))))) -> 0 | R756: =IF(R12>=5000,5,IF(R12>=3000,4,IF(R12>=2000,3,IF(R12>=1000,2,IF(R12>=500,1,0))))) -> 0 | S756: =IF(S12>=4000,5,IF(S12>=2500,4,IF(S12>=1000,3,IF(S12>=500,2,IF(S12>=300,1,0))))) -> 0 | T756: =IF(T12>=15,15,IF(T12>=12,12,IF(T12>=9,9,IF(T12>=6,6,IF(T12>=1,3,0))))) -> 0 | U756: =IF(U12>=50,15,IF(U12>=40,13,IF(U12>=30,11,IF(U12>=20,9,IF(U12>=10,7,IF(U12>=1,5,0)))))) -> 0 | V756: =IF(V12>=3,15,IF(V12>=2,10,IF(V12>=1,5,0))) -> 0 | W756: =IF(W12>=25,10,IF(W12>=20,8,IF(W12>=16,6,IF(W12>=11,4,IF(W12>=6,2,IF(W12>=1,1,0)))))) -> 0 | X756: =IF(X12="구성",15,0) -> 0 | Y756: =IF(Y12>=4,10,IF(Y12=3,8,IF(Y12=2,6,IF(Y12=1,4,0)))) -> 0 | Z756: =Z12 -> 0 | AA756: =AA12 -> 0 | AB756: =AB12 -> 0 | AC756: =AC12 -> 0 | AD756: =AD12 -> 0 | AE756: =SUM(F756:AD756) -> 0
A757: =A13 -> 8 | B757: =B13 -> 0 | C757: =C13 -> 0 | D757: =D13 -> 0 | E757: =E13 -> 0 | F757: =IF(F13="후원(일시22건 또는 정기8건)또는 자원봉사(8명)",10,IF(F13="후원(일시13건 또는 정기5건)또는 자원봉사(7명)",8,IF(F13="후원(일시7건 또는 정기3건)또는 자원봉사(4명)",6,IF(F13="후원(일시4건 또는 정기2건)또는 자원봉사(2명)",4,IF(F13="후원(일시1건 또는 정기1건)또는 자원봉사(1명)",2,0))))) -> 0 | G757: =IF(G13="게시",5,0) -> 0 | H757: =IF(H13>=6,20,IF(H13=5,15,IF(H13=4,10,IF(H13=3,5,0)))) -> 0 | I757: =IF(I13>=30,20,IF(I13>=22,15,IF(I13>=15,10,IF(I13>=8,5,0)))) -> 0 | J757: =IF(J13>=400,10,IF(J13>=300,8,IF(J13>=200,6,IF(J13>=100,4,IF(J13>=1,2,IF(J13=0,0)))))) -> 0 | K757: =IF(K13>=35,15,IF(K13>=25,12,IF(K13>=15,9,IF(K13>=5,6,IF(K13>=1,3,0))))) -> 0 | L757: =IF(L13="설치",5,0) -> 0 | M757: =IF(M13="가능",5,0) -> 0 | N757: =IF(N13="사용",5,0) -> 0 | O757: =IF(O13>=550,10,IF(O13>=400,9,IF(O13>=300,7,IF(O13>=200,5,IF(O13>=50,3,IF(O13>=1,1,0)))))) -> 0 | P757: =IF(P13>=4000,10,IF(P13>=3000,8,IF(P13>=2000,6,IF(P13>=1000,4,IF(P13>=500,2,IF(P13>=50,1,0)))))) -> 0 | Q757: =IF(Q13>=1000,10,IF(Q13>=800,8,IF(Q13>=600,6,IF(Q13>=400,4,IF(Q13>=200,1,IF(Q13>=30,1,0)))))) -> 0 | R757: =IF(R13>=5000,5,IF(R13>=3000,4,IF(R13>=2000,3,IF(R13>=1000,2,IF(R13>=500,1,0))))) -> 0 | S757: =IF(S13>=4000,5,IF(S13>=2500,4,IF(S13>=1000,3,IF(S13>=500,2,IF(S13>=300,1,0))))) -> 0 | T757: =IF(T13>=15,15,IF(T13>=12,12,IF(T13>=9,9,IF(T13>=6,6,IF(T13>=1,3,0))))) -> 0 | U757: =IF(U13>=50,15,IF(U13>=40,13,IF(U13>=30,11,IF(U13>=20,9,IF(U13>=10,7,IF(U13>=1,5,0)))))) -> 0 | V757: =IF(V13>=3,15,IF(V13>=2,10,IF(V13>=1,5,0))) -> 0 | W757: =IF(W13>=25,10,IF(W13>=20,8,IF(W13>=16,6,IF(W13>=11,4,IF(W13>=6,2,IF(W13>=1,1,0)))))) -> 0 | X757: =IF(X13="구성",15,0) -> 0 | Y757: =IF(Y13>=4,10,IF(Y13=3,8,IF(Y13=2,6,IF(Y13=1,4,0)))) -> 0 | Z757: =Z13 -> 0 | AA757: =AA13 -> 0 | AB757: =AB13 -> 0 | AC757: =AC13 -> 0 | AD757: =AD13 -> 0 | AE757: =SUM(F757:AD757) -> 0
A758: =A14 -> 9 | B758: =B14 -> 0 | C758: =C14 -> 0 | D758: =D14 -> 0 | E758: =E14 -> 0 | F758: =IF(F14="후원(일시22건 또는 정기8건)또는 자원봉사(8명)",10,IF(F14="후원(일시13건 또는 정기5건)또는 자원봉사(7명)",8,IF(F14="후원(일시7건 또는 정기3건)또는 자원봉사(4명)",6,IF(F14="후원(일시4건 또는 정기2건)또는 자원봉사(2명)",4,IF(F14="후원(일시1건 또는 정기1건)또는 자원봉사(1명)",2,0))))) -> 0 | G758: =IF(G14="게시",5,0) -> 0 | H758: =IF(H14>=6,20,IF(H14=5,15,IF(H14=4,10,IF(H14=3,5,0)))) -> 0 | I758: =IF(I14>=30,20,IF(I14>=22,15,IF(I14>=15,10,IF(I14>=8,5,0)))) -> 0 | J758: =IF(J14>=400,10,IF(J14>=300,8,IF(J14>=200,6,IF(J14>=100,4,IF(J14>=1,2,IF(J14=0,0)))))) -> 0 | K758: =IF(K14>=35,15,IF(K14>=25,12,IF(K14>=15,9,IF(K14>=5,6,IF(K14>=1,3,0))))) -> 0 | L758: =IF(L14="설치",5,0) -> 0 | M758: =IF(M14="가능",5,0) -> 0 | N758: =IF(N14="사용",5,0) -> 0 | O758: =IF(O14>=550,10,IF(O14>=400,9,IF(O14>=300,7,IF(O14>=200,5,IF(O14>=50,3,IF(O14>=1,1,0)))))) -> 0 | P758: =IF(P14>=4000,10,IF(P14>=3000,8,IF(P14>=2000,6,IF(P14>=1000,4,IF(P14>=500,2,IF(P14>=50,1,0)))))) -> 0 | Q758: =IF(Q14>=1000,10,IF(Q14>=800,8,IF(Q14>=600,6,IF(Q14>=400,4,IF(Q14>=200,1,IF(Q14>=30,1,0)))))) -> 0 | R758: =IF(R14>=5000,5,IF(R14>=3000,4,IF(R14>=2000,3,IF(R14>=1000,2,IF(R14>=500,1,0))))) -> 0 | S758: =IF(S14>=4000,5,IF(S14>=2500,4,IF(S14>=1000,3,IF(S14>=500,2,IF(S14>=300,1,0))))) -> 0 | T758: =IF(T14>=15,15,IF(T14>=12,12,IF(T14>=9,9,IF(T14>=6,6,IF(T14>=1,3,0))))) -> 0 | U758: =IF(U14>=50,15,IF(U14>=40,13,IF(U14>=30,11,IF(U14>=20,9,IF(U14>=10,7,IF(U14>=1,5,0)))))) -> 0 | V758: =IF(V14>=3,15,IF(V14>=2,10,IF(V14>=1,5,0))) -> 0 | W758: =IF(W14>=25,10,IF(W14>=20,8,IF(W14>=16,6,IF(W14>=11,4,IF(W14>=6,2,IF(W14>=1,1,0)))))) -> 0 | X758: =IF(X14="구성",15,0) -> 0 | Y758: =IF(Y14>=4,10,IF(Y14=3,8,IF(Y14=2,6,IF(Y14=1,4,0)))) -> 0 | Z758: =Z14 -> 0 | AA758: =AA14 -> 0 | AB758: =AB14 -> 0 | AC758: =AC14 -> 0 | AD758: =AD14 -> 0 | AE758: =SUM(F758:AD758) -> 0
A759: =A15 -> 10 | B759: =B15 -> 0 | C759: =C15 -> 0 | D759: =D15 -> 0 | E759: =E15 -> 0 | F759: =IF(F15="후원(일시22건 또는 정기8건)또는 자원봉사(8명)",10,IF(F15="후원(일시13건 또는 정기5건)또는 자원봉사(7명)",8,IF(F15="후원(일시7건 또는 정기3건)또는 자원봉사(4명)",6,IF(F15="후원(일시4건 또는 정기2건)또는 자원봉사(2명)",4,IF(F15="후원(일시1건 또는 정기1건)또는 자원봉사(1명)",2,0))))) -> 0 | G759: =IF(G15="게시",5,0) -> 0 | H759: =IF(H15>=6,20,IF(H15=5,15,IF(H15=4,10,IF(H15=3,5,0)))) -> 0 | I759: =IF(I15>=30,20,IF(I15>=22,15,IF(I15>=15,10,IF(I15>=8,5,0)))) -> 0 | J759: =IF(J15>=400,10,IF(J15>=300,8,IF(J15>=200,6,IF(J15>=100,4,IF(J15>=1,2,IF(J15=0,0)))))) -> 0 | K759: =IF(K15>=35,15,IF(K15>=25,12,IF(K15>=15,9,IF(K15>=5,6,IF(K15>=1,3,0))))) -> 0 | L759: =IF(L15="설치",5,0) -> 0 | M759: =IF(M15="가능",5,0) -> 0 | N759: =IF(N15="사용",5,0) -> 0 | O759: =IF(O15>=550,10,IF(O15>=400,9,IF(O15>=300,7,IF(O15>=200,5,IF(O15>=50,3,IF(O15>=1,1,0)))))) -> 0 | P759: =IF(P15>=4000,10,IF(P15>=3000,8,IF(P15>=2000,6,IF(P15>=1000,4,IF(P15>=500,2,IF(P15>=50,1,0)))))) -> 0 | Q759: =IF(Q15>=1000,10,IF(Q15>=800,8,IF(Q15>=600,6,IF(Q15>=400,4,IF(Q15>=200,1,IF(Q15>=30,1,0)))))) -> 0 | R759: =IF(R15>=5000,5,IF(R15>=3000,4,IF(R15>=2000,3,IF(R15>=1000,2,IF(R15>=500,1,0))))) -> 0 | S759: =IF(S15>=4000,5,IF(S15>=2500,4,IF(S15>=1000,3,IF(S15>=500,2,IF(S15>=300,1,0))))) -> 0 | T759: =IF(T15>=15,15,IF(T15>=12,12,IF(T15>=9,9,IF(T15>=6,6,IF(T15>=1,3,0))))) -> 0 | U759: =IF(U15>=50,15,IF(U15>=40,13,IF(U15>=30,11,IF(U15>=20,9,IF(U15>=10,7,IF(U15>=1,5,0)))))) -> 0 | V759: =IF(V15>=3,15,IF(V15>=2,10,IF(V15>=1,5,0))) -> 0 | W759: =IF(W15>=25,10,IF(W15>=20,8,IF(W15>=16,6,IF(W15>=11,4,IF(W15>=6,2,IF(W15>=1,1,0)))))) -> 0 | X759: =IF(X15="구성",15,0) -> 0 | Y759: =IF(Y15>=4,10,IF(Y15=3,8,IF(Y15=2,6,IF(Y15=1,4,0)))) -> 0 | Z759: =Z15 -> 0 | AA759: =AA15 -> 0 | AB759: =AB15 -> 0 | AC759: =AC15 -> 0 | AD759: =AD15 -> 0 | AE759: =SUM(F759:AD759) -> 0
A760: =A16 -> 11 | B760: =B16 -> 0 | C760: =C16 -> 0 | D760: =D16 -> 0 | E760: =E16 -> 0 | F760: =IF(F16="후원(일시22건 또는 정기8건)또는 자원봉사(8명)",10,IF(F16="후원(일시13건 또는 정기5건)또는 자원봉사(7명)",8,IF(F16="후원(일시7건 또는 정기3건)또는 자원봉사(4명)",6,IF(F16="후원(일시4건 또는 정기2건)또는 자원봉사(2명)",4,IF(F16="후원(일시1건 또는 정기1건)또는 자원봉사(1명)",2,0))))) -> 0 | G760: =IF(G16="게시",5,0) -> 0 | H760: =IF(H16>=6,20,IF(H16=5,15,IF(H16=4,10,IF(H16=3,5,0)))) -> 0 | I760: =IF(I16>=30,20,IF(I16>=22,15,IF(I16>=15,10,IF(I16>=8,5,0)))) -> 0 | J760: =IF(J16>=400,10,IF(J16>=300,8,IF(J16>=200,6,IF(J16>=100,4,IF(J16>=1,2,IF(J16=0,0)))))) -> 0 | K760: =IF(K16>=35,15,IF(K16>=25,12,IF(K16>=15,9,IF(K16>=5,6,IF(K16>=1,3,0))))) -> 0 | L760: =IF(L16="설치",5,0) -> 0 | M760: =IF(M16="가능",5,0) -> 0 | N760: =IF(N16="사용",5,0) -> 0 | O760: =IF(O16>=550,10,IF(O16>=400,9,IF(O16>=300,7,IF(O16>=200,5,IF(O16>=50,3,IF(O16>=1,1,0)))))) -> 0 | P760: =IF(P16>=4000,10,IF(P16>=3000,8,IF(P16>=2000,6,IF(P16>=1000,4,IF(P16>=500,2,IF(P16>=50,1,0)))))) -> 0 | Q760: =IF(Q16>=1000,10,IF(Q16>=800,8,IF(Q16>=600,6,IF(Q16>=400,4,IF(Q16>=200,1,IF(Q16>=30,1,0)))))) -> 0 | R760: =IF(R16>=5000,5,IF(R16>=3000,4,IF(R16>=2000,3,IF(R16>=1000,2,IF(R16>=500,1,0))))) -> 0 | S760: =IF(S16>=4000,5,IF(S16>=2500,4,IF(S16>=1000,3,IF(S16>=500,2,IF(S16>=300,1,0))))) -> 0 | T760: =IF(T16>=15,15,IF(T16>=12,12,IF(T16>=9,9,IF(T16>=6,6,IF(T16>=1,3,0))))) -> 0 | U760: =IF(U16>=50,15,IF(U16>=40,13,IF(U16>=30,11,IF(U16>=20,9,IF(U16>=10,7,IF(U16>=1,5,0)))))) -> 0 | V760: =IF(V16>=3,15,IF(V16>=2,10,IF(V16>=1,5,0))) -> 0 | W760: =IF(W16>=25,10,IF(W16>=20,8,IF(W16>=16,6,IF(W16>=11,4,IF(W16>=6,2,IF(W16>=1,1,0)))))) -> 0 | X760: =IF(X16="구성",15,0) -> 0 | Y760: =IF(Y16>=4,10,IF(Y16=3,8,IF(Y16=2,6,IF(Y16=1,4,0)))) -> 0 | Z760: =Z16 -> 0 | AA760: =AA16 -> 0 | AB760: =AB16 -> 0 | AC760: =AC16 -> 0 | AD760: =AD16 -> 0 | AE760: =SUM(F760:AD760) -> 0
A761: =A17 -> 12 | B761: =B17 -> 0 | C761: =C17 -> 0 | D761: =D17 -> 0 | E761: =E17 -> 0 | F761: =IF(F17="후원(일시22건 또는 정기8건)또는 자원봉사(8명)",10,IF(F17="후원(일시13건 또는 정기5건)또는 자원봉사(7명)",8,IF(F17="후원(일시7건 또는 정기3건)또는 자원봉사(4명)",6,IF(F17="후원(일시4건 또는 정기2건)또는 자원봉사(2명)",4,IF(F17="후원(일시1건 또는 정기1건)또는 자원봉사(1명)",2,0))))) -> 0 | G761: =IF(G17="게시",5,0) -> 0 | H761: =IF(H17>=6,20,IF(H17=5,15,IF(H17=4,10,IF(H17=3,5,0)))) -> 0 | I761: =IF(I17>=30,20,IF(I17>=22,15,IF(I17>=15,10,IF(I17>=8,5,0)))) -> 0 | J761: =IF(J17>=400,10,IF(J17>=300,8,IF(J17>=200,6,IF(J17>=100,4,IF(J17>=1,2,IF(J17=0,0)))))) -> 0 | K761: =IF(K17>=35,15,IF(K17>=25,12,IF(K17>=15,9,IF(K17>=5,6,IF(K17>=1,3,0))))) -> 0 | L761: =IF(L17="설치",5,0) -> 0 | M761: =IF(M17="가능",5,0) -> 0 | N761: =IF(N17="사용",5,0) -> 0 | O761: =IF(O17>=550,10,IF(O17>=400,9,IF(O17>=300,7,IF(O17>=200,5,IF(O17>=50,3,IF(O17>=1,1,0)))))) -> 0 | P761: =IF(P17>=4000,10,IF(P17>=3000,8,IF(P17>=2000,6,IF(P17>=1000,4,IF(P17>=500,2,IF(P17>=50,1,0)))))) -> 0 | Q761: =IF(Q17>=1000,10,IF(Q17>=800,8,IF(Q17>=600,6,IF(Q17>=400,4,IF(Q17>=200,1,IF(Q17>=30,1,0)))))) -> 0 | R761: =IF(R17>=5000,5,IF(R17>=3000,4,IF(R17>=2000,3,IF(R17>=1000,2,IF(R17>=500,1,0))))) -> 0 | S761: =IF(S17>=4000,5,IF(S17>=2500,4,IF(S17>=1000,3,IF(S17>=500,2,IF(S17>=300,1,0))))) -> 0 | T761: =IF(T17>=15,15,IF(T17>=12,12,IF(T17>=9,9,IF(T17>=6,6,IF(T17>=1,3,0))))) -> 0 | U761: =IF(U17>=50,15,IF(U17>=40,13,IF(U17>=30,11,IF(U17>=20,9,IF(U17>=10,7,IF(U17>=1,5,0)))))) -> 0 | V761: =IF(V17>=3,15,IF(V17>=2,10,IF(V17>=1,5,0))) -> 0 | W761: =IF(W17>=25,10,IF(W17>=20,8,IF(W17>=16,6,IF(W17>=11,4,IF(W17>=6,2,IF(W17>=1,1,0)))))) -> 0 | X761: =IF(X17="구성",15,0) -> 0 | Y761: =IF(Y17>=4,10,IF(Y17=3,8,IF(Y17=2,6,IF(Y17=1,4,0)))) -> 0 | Z761: =Z17 -> 0 | AA761: =AA17 -> 0 | AB761: =AB17 -> 0 | AC761: =AC17 -> 0 | AD761: =AD17 -> 0 | AE761: =SUM(F761:AD761) -> 0
... A1490: =A746 -> 741 | B1490: =B746 -> 0 | C1490: =C746 -> 0 | D1490: =D746 -> 0 | E1490: =E746 -> 0 | F1490: =IF(F746="후원(일시22건 또는 정기8건)또는 자원봉사(8명)",10,IF(F746="후원(일시13건 또는 정기5건)또는 자원봉사(7명)",8,IF(F746="후원(일시7건 또는 정기3건)또는 자원봉사(4명)",6,IF(F746="후원(일시4건 또는 정기2건)또는 자원봉사(2명)",4,IF(F746="후원(일시1건 또는 정기1건)또는 자원봉사(1명)",2,0))))) -> 0 | G1490: =IF(G746="게시",5,0) -> 0 | H1490: =IF(H746>=6,20,IF(H746=5,15,IF(H746=4,10,IF(H746=3,5,0)))) -> 0 | I1490: =IF(I746>=30,20,IF(I746>=22,15,IF(I746>=15,10,IF(I746>=8,5,0)))) -> 0 | J1490: =IF(J746>=400,10,IF(J746>=300,8,IF(J746>=200,6,IF(J746>=100,4,IF(J746>=1,2,IF(J746=0,0)))))) -> 0 | K1490: =IF(K746>=35,15,IF(K746>=25,12,IF(K746>=15,9,IF(K746>=5,6,IF(K746>=1,3,0))))) -> 0 | L1490: =IF(L746="설치",5,0) -> 0 | M1490: =IF(M746="가능",5,0) -> 0 | N1490: =IF(N746="사용",5,0) -> 0 | O1490: =IF(O746>=550,10,IF(O746>=400,9,IF(O746>=300,7,IF(O746>=200,5,IF(O746>=50,3,IF(O746>=1,1,0)))))) -> 0 | P1490: =IF(P746>=4000,10,IF(P746>=3000,8,IF(P746>=2000,6,IF(P746>=1000,4,IF(P746>=500,2,IF(P746>=50,1,0)))))) -> 0 | Q1490: =IF(Q746>=1000,10,IF(Q746>=800,8,IF(Q746>=600,6,IF(Q746>=400,4,IF(Q746>=200,1,IF(Q746>=30,1,0)))))) -> 0 | R1490: =IF(R746>=5000,5,IF(R746>=3000,4,IF(R746>=2000,3,IF(R746>=1000,2,IF(R746>=500,1,0))))) -> 0 | S1490: =IF(S746>=4000,5,IF(S746>=2500,4,IF(S746>=1000,3,IF(S746>=500,2,IF(S746>=300,1,0))))) -> 0 | T1490: =IF(T746>=15,15,IF(T746>=12,12,IF(T746>=9,9,IF(T746>=6,6,IF(T746>=1,3,0))))) -> 0 | U1490: =IF(U746>=50,15,IF(U746>=40,13,IF(U746>=30,11,IF(U746>=20,9,IF(U746>=10,7,IF(U746>=1,5,0)))))) -> 0 | V1490: =IF(V746>=3,15,IF(V746>=2,10,IF(V746>=1,5,0))) -> 0 | W1490: =IF(W746>=25,10,IF(W746>=20,8,IF(W746>=16,6,IF(W746>=11,4,IF(W746>=6,2,IF(W746>=1,1,0)))))) -> 0 | X1490: =IF(X746="구성",15,0) -> 0 | Y1490: =IF(Y746>=4,10,IF(Y746=3,8,IF(Y746=2,6,IF(Y746=1,4,0)))) -> 0 | Z1490: =Z746 -> 0 | AA1490: =AA746 -> 0 | AB1490: =AB746 -> 0 | AC1490: =AC746 -> 0 | AD1490: =AD746 -> 0 | AE1490: =SUM(F1490:AD1490) -> 0
